BEGIN:VCALENDAR
VERSION:2.0
PRODID:-//Maryborough Services Club - ECPv6.15.17//NONSGML v1.0//EN
CALSCALE:GREGORIAN
METHOD:PUBLISH
X-ORIGINAL-URL:https://maryboroughservicesclub.com.au
X-WR-CALDESC:Events for Maryborough Services Club
REFRESH-INTERVAL;VALUE=DURATION:PT1H
X-Robots-Tag:noindex
X-PUBLISHED-TTL:PT1H
BEGIN:VTIMEZONE
TZID:Australia/Brisbane
BEGIN:STANDARD
TZOFFSETFROM:+1000
TZOFFSETTO:+1000
TZNAME:AEST
DTSTART:20240101T000000
END:STANDARD
END:VTIMEZONE
BEGIN:VEVENT
DTSTART;TZID=Australia/Brisbane:20250905T210000
DTEND;TZID=Australia/Brisbane:20250906T010000
DTSTAMP:20260421T144912
CREATED:20250831T232135Z
LAST-MODIFIED:20250831T232140Z
UID:10008447-1757106000-1757120400@maryboroughservicesclub.com.au
SUMMARY:DJ Mr Sparkle
DESCRIPTION:Friday Night Live at Maryborough Services Club \nJoin us every Friday night from 9pm – 1am for free live entertainment at Maryborough Services Club! \nKick off your weekend the right way! Come along to dance\, relax\, and enjoy a great night out with friends. \nThis week\, enjoy the music of DJ Mr Sparkle live on stage! \nWhy not make a night of it?\nTreat yourself to a delicious dinner beforehand. Click here to secure your table! \nSee you there!
URL:https://maryboroughservicesclub.com.au/event/friday-live-music-9/
LOCATION:The Services Club Maryborough\, 163-175 Lennox Street\, Maryborough\, QLD\, 4650\, Australia
CATEGORIES:All,Entertainment,Live Music
END:VEVENT
BEGIN:VEVENT
DTSTART;TZID=Australia/Brisbane:20250906T200000
DTEND;TZID=Australia/Brisbane:20250907T000000
DTSTAMP:20260421T144912
CREATED:20250831T232417Z
LAST-MODIFIED:20250831T232423Z
UID:10008708-1757188800-1757203200@maryboroughservicesclub.com.au
SUMMARY:Bad Attitude
DESCRIPTION:Saturday Night Live at Maryborough Services Club \nJoin us every Saturday night from 8pm – 12am for free live entertainment at Maryborough Services Club! \nEnjoy the weekend & come along to dance\, relax\, and enjoy a great night out with friends. \nThis week\, enjoy the music of Bad Attitude live on stage! \nWhy not make a night of it?\nTreat yourself to a delicious dinner beforehand. Click here to secure your table! \nSee you there!
URL:https://maryboroughservicesclub.com.au/event/saturday-live-music-8/
LOCATION:The Services Club Maryborough\, 163-175 Lennox Street\, Maryborough\, QLD\, 4650\, Australia
CATEGORIES:All,Entertainment,Live Music
END:VEVENT
BEGIN:VEVENT
DTSTART;TZID=Australia/Brisbane:20250907T140000
DTEND;TZID=Australia/Brisbane:20250907T170000
DTSTAMP:20260421T144912
CREATED:20250831T232552Z
LAST-MODIFIED:20250831T232600Z
UID:10008969-1757253600-1757264400@maryboroughservicesclub.com.au
SUMMARY:Maria Whittaker
DESCRIPTION:Sunday Afternoon Live at Maryborough Services Club \nJoin us every Sunday afternoon from 2pm – 5pm for free live entertainment at Maryborough Services Club! \nFinish off the weekend by relaxing and enjoying great live music. \nThis week\, enjoy the music of Maria Whittaker live on stage! \nWhy not make a day of it?\nTreat yourself to lunch or something from the café at the club. Click here to secure your table! \nSee you there!
URL:https://maryboroughservicesclub.com.au/event/sunday-live-music-9/
LOCATION:The Services Club Maryborough\, 163-175 Lennox Street\, Maryborough\, QLD\, 4650\, Australia
CATEGORIES:All,Entertainment,Live Music
ATTACH;FMTTYPE=image/jpeg:https://maryboroughservicesclub.com.au/wp-content/uploads/2025/07/Maria-Whitiker-Web-Feat-Image-.jpg
END:VEVENT
BEGIN:VEVENT
DTSTART;TZID=Australia/Brisbane:20250912T210000
DTEND;TZID=Australia/Brisbane:20250913T010000
DTSTAMP:20260421T144912
CREATED:20250831T232949Z
LAST-MODIFIED:20250831T232955Z
UID:10008448-1757710800-1757725200@maryboroughservicesclub.com.au
SUMMARY:DJ Nixon
DESCRIPTION:Friday Night Live at Maryborough Services Club \nJoin us every Friday night from 9pm – 1am for free live entertainment at Maryborough Services Club! \nKick off your weekend the right way! Come along to dance\, relax\, and enjoy a great night out with friends. \nThis week\, enjoy the music of DJ Nixon live on stage! \nWhy not make a night of it?\nTreat yourself to a delicious dinner beforehand. Click here to secure your table! \nSee you there!
URL:https://maryboroughservicesclub.com.au/event/friday-live-music-10-2/
LOCATION:The Services Club Maryborough\, 163-175 Lennox Street\, Maryborough\, QLD\, 4650\, Australia
CATEGORIES:All,Entertainment,Live Music
END:VEVENT
BEGIN:VEVENT
DTSTART;TZID=Australia/Brisbane:20250913T200000
DTEND;TZID=Australia/Brisbane:20250914T000000
DTSTAMP:20260421T144912
CREATED:20250831T232941Z
LAST-MODIFIED:20250831T232946Z
UID:10008709-1757793600-1757808000@maryboroughservicesclub.com.au
SUMMARY:Saltwater Cartel
DESCRIPTION:Saturday Night Live at Maryborough Services Club \nJoin us every Saturday night from 8pm – 12am for free live entertainment at Maryborough Services Club! \nEnjoy the weekend & come along to dance\, relax\, and enjoy a great night out with friends. \nThis week\, enjoy the music of Saltwater Cartel live on stage! \nWhy not make a night of it?\nTreat yourself to a delicious dinner beforehand. Click here to secure your table! \nSee you there!
URL:https://maryboroughservicesclub.com.au/event/saturday-live-music-9/
LOCATION:The Services Club Maryborough\, 163-175 Lennox Street\, Maryborough\, QLD\, 4650\, Australia
CATEGORIES:All,Entertainment,Live Music
ATTACH;FMTTYPE=image/jpeg:https://maryboroughservicesclub.com.au/wp-content/uploads/2025/07/Salt-water-cartel-Web-Feat-Image-.jpg
END:VEVENT
BEGIN:VEVENT
DTSTART;TZID=Australia/Brisbane:20250914T140000
DTEND;TZID=Australia/Brisbane:20250914T170000
DTSTAMP:20260421T144912
CREATED:20250831T233025Z
LAST-MODIFIED:20250831T233030Z
UID:10008970-1757858400-1757869200@maryboroughservicesclub.com.au
SUMMARY:Derek Smith
DESCRIPTION:Sunday Afternoon Live at Maryborough Services Club \nJoin us every Sunday afternoon from 2pm – 5pm for free live entertainment at Maryborough Services Club! \nFinish off the weekend by relaxing and enjoying great live music. \nThis week\, enjoy the music of Derek Smith live on stage! \nWhy not make a day of it?\nTreat yourself to lunch or something from the café at the club. Click here to secure your table! \nSee you there!
URL:https://maryboroughservicesclub.com.au/event/sunday-live-music-10/
LOCATION:The Services Club Maryborough\, 163-175 Lennox Street\, Maryborough\, QLD\, 4650\, Australia
CATEGORIES:All,Entertainment,Live Music
ATTACH;FMTTYPE=image/jpeg:https://maryboroughservicesclub.com.au/wp-content/uploads/2025/07/Derek-Smith-Web-Feat-Image-.jpg
END:VEVENT
BEGIN:VEVENT
DTSTART;TZID=Australia/Brisbane:20250919T210000
DTEND;TZID=Australia/Brisbane:20250920T010000
DTSTAMP:20260421T144912
CREATED:20250831T233722Z
LAST-MODIFIED:20250831T233728Z
UID:10013504-1758315600-1758330000@maryboroughservicesclub.com.au
SUMMARY:DJ Crooksy
DESCRIPTION:Friday Night Live at Maryborough Services Club \nJoin us every Friday night from 9pm – 1am for free live entertainment at Maryborough Services Club! \nKick off your weekend the right way! Come along to dance\, relax\, and enjoy a great night out with friends. \nThis week\, enjoy the music of DJ Crooksy live on stage! \nWhy not make a night of it?\nTreat yourself to a delicious dinner beforehand. Click here to secure your table! \nSee you there!
URL:https://maryboroughservicesclub.com.au/event/friday-live-music-10-3/
LOCATION:The Services Club Maryborough\, 163-175 Lennox Street\, Maryborough\, QLD\, 4650\, Australia
CATEGORIES:All,Entertainment,Live Music
ATTACH;FMTTYPE=image/jpeg:https://maryboroughservicesclub.com.au/wp-content/uploads/2025/07/Live-Music-Fri-Sat-Event-Banner.jpg
END:VEVENT
BEGIN:VEVENT
DTSTART;TZID=Australia/Brisbane:20250920T200000
DTEND;TZID=Australia/Brisbane:20250921T000000
DTSTAMP:20260421T144912
CREATED:20250831T233859Z
LAST-MODIFIED:20250831T233905Z
UID:10008710-1758398400-1758412800@maryboroughservicesclub.com.au
SUMMARY:Dancefloor Confessions
DESCRIPTION:Saturday Night Live at Maryborough Services Club \nJoin us every Saturday night from 8pm – 12am for free live entertainment at Maryborough Services Club! \nEnjoy the weekend & come along to dance\, relax\, and enjoy a great night out with friends. \nThis week\, enjoy the music of Dancefloor Confessions live on stage! \nWhy not make a night of it?\nTreat yourself to a delicious dinner beforehand. Click here to secure your table! \nSee you there!
URL:https://maryboroughservicesclub.com.au/event/saturday-live-music-10/
LOCATION:The Services Club Maryborough\, 163-175 Lennox Street\, Maryborough\, QLD\, 4650\, Australia
CATEGORIES:All,Entertainment,Live Music
ATTACH;FMTTYPE=image/jpeg:https://maryboroughservicesclub.com.au/wp-content/uploads/2025/07/Live-Music-Fri-Sat-Event-Banner.jpg
END:VEVENT
BEGIN:VEVENT
DTSTART;TZID=Australia/Brisbane:20250921T140000
DTEND;TZID=Australia/Brisbane:20250921T170000
DTSTAMP:20260421T144912
CREATED:20250831T234000Z
LAST-MODIFIED:20250916T011243Z
UID:10008971-1758463200-1758474000@maryboroughservicesclub.com.au
SUMMARY:Emma Newman
DESCRIPTION:Sunday Afternoon Live at Maryborough Services Club \nJoin us every Sunday afternoon from 2pm – 5pm for free live entertainment at Maryborough Services Club! \nFinish off the weekend by relaxing and enjoying great live music. \nThis week\, enjoy the music of Emma Newman live on stage! \nWhy not make a day of it?\nTreat yourself to lunch or something from the café at the club. Click here to secure your table! \nSee you there!
URL:https://maryboroughservicesclub.com.au/event/sunday-live-music-11/
LOCATION:The Services Club Maryborough\, 163-175 Lennox Street\, Maryborough\, QLD\, 4650\, Australia
CATEGORIES:All,Entertainment,Live Music
ATTACH;FMTTYPE=image/jpeg:https://maryboroughservicesclub.com.au/wp-content/uploads/2025/07/Emma-Newman-Web-Feat-Image-.jpg
END:VEVENT
BEGIN:VEVENT
DTSTART;TZID=Australia/Brisbane:20250926T210000
DTEND;TZID=Australia/Brisbane:20250927T010000
DTSTAMP:20260421T144912
CREATED:20250831T234139Z
LAST-MODIFIED:20250831T234144Z
UID:10013505-1758920400-1758934800@maryboroughservicesclub.com.au
SUMMARY:DJ Nixon
DESCRIPTION:Friday Night Live at Maryborough Services Club \nJoin us every Friday night from 9pm – 1am for free live entertainment at Maryborough Services Club! \nKick off your weekend the right way! Come along to dance\, relax\, and enjoy a great night out with friends. \nThis week\, enjoy the music of DJ Nixon live on stage! \nWhy not make a night of it?\nTreat yourself to a delicious dinner beforehand. Click here to secure your table! \nSee you there!
URL:https://maryboroughservicesclub.com.au/event/friday-live-music-10-4/
LOCATION:The Services Club Maryborough\, 163-175 Lennox Street\, Maryborough\, QLD\, 4650\, Australia
CATEGORIES:All,Entertainment,Live Music
END:VEVENT
BEGIN:VEVENT
DTSTART;TZID=Australia/Brisbane:20250927T200000
DTEND;TZID=Australia/Brisbane:20250928T000000
DTSTAMP:20260421T144912
CREATED:20250831T234247Z
LAST-MODIFIED:20250831T234404Z
UID:10008711-1759003200-1759017600@maryboroughservicesclub.com.au
SUMMARY:Witts End
DESCRIPTION:Saturday Night Live at Maryborough Services Club \nJoin us every Saturday night from 8pm – 12am for free live entertainment at Maryborough Services Club! \nEnjoy the weekend & come along to dance\, relax\, and enjoy a great night out with friends. \nThis week\, enjoy the music of Witts End live on stage! \nWhy not make a night of it?\nTreat yourself to a delicious dinner beforehand. Click here to secure your table! \nSee you there!
URL:https://maryboroughservicesclub.com.au/event/saturday-live-music-11/
LOCATION:The Services Club Maryborough\, 163-175 Lennox Street\, Maryborough\, QLD\, 4650\, Australia
CATEGORIES:All,Entertainment,Live Music
ATTACH;FMTTYPE=image/jpeg:https://maryboroughservicesclub.com.au/wp-content/uploads/2025/07/Live-Music-Fri-Sat-Event-Banner.jpg
END:VEVENT
BEGIN:VEVENT
DTSTART;TZID=Australia/Brisbane:20250928T140000
DTEND;TZID=Australia/Brisbane:20250928T170000
DTSTAMP:20260421T144912
CREATED:20250831T234618Z
LAST-MODIFIED:20250916T011236Z
UID:10008972-1759068000-1759078800@maryboroughservicesclub.com.au
SUMMARY:Frank Benn
DESCRIPTION:Sunday Afternoon Live at Maryborough Services Club \nJoin us every Sunday afternoon from 2pm – 5pm for free live entertainment at Maryborough Services Club! \nFinish off the weekend by relaxing and enjoying great live music. \nThis week\, enjoy the music of Frank Benn live on stage! \nWhy not make a day of it?\nTreat yourself to lunch or something from the café at the club. Click here to secure your table! \nSee you there!
URL:https://maryboroughservicesclub.com.au/event/sunday-live-music-12/
LOCATION:The Services Club Maryborough\, 163-175 Lennox Street\, Maryborough\, QLD\, 4650\, Australia
CATEGORIES:All,Entertainment,Live Music
END:VEVENT
END:VCALENDAR