BEGIN:VCALENDAR
VERSION:2.0
PRODID:-//Maryborough Services Club - ECPv6.15.17//NONSGML v1.0//EN
CALSCALE:GREGORIAN
METHOD:PUBLISH
X-ORIGINAL-URL:https://maryboroughservicesclub.com.au
X-WR-CALDESC:Events for Maryborough Services Club
REFRESH-INTERVAL;VALUE=DURATION:PT1H
X-Robots-Tag:noindex
X-PUBLISHED-TTL:PT1H
BEGIN:VTIMEZONE
TZID:Australia/Brisbane
BEGIN:STANDARD
TZOFFSETFROM:+1000
TZOFFSETTO:+1000
TZNAME:AEST
DTSTART:20240101T000000
END:STANDARD
END:VTIMEZONE
BEGIN:VEVENT
DTSTART;TZID=Australia/Brisbane:20251205T210000
DTEND;TZID=Australia/Brisbane:20251206T010000
DTSTAMP:20260421T065919
CREATED:20251126T005620Z
LAST-MODIFIED:20251126T005724Z
UID:10013515-1764968400-1764982800@maryboroughservicesclub.com.au
SUMMARY:DJ Crooksy
DESCRIPTION:Friday Night Live at Maryborough Services Club \nJoin us every Friday night from 9pm – 1am for free live entertainment at Maryborough Services Club! \nKick off your weekend the right way! Come along to dance\, relax\, and enjoy a great night out with friends. \nWhy not make a night of it?\nTreat yourself to a delicious dinner beforehand. Click here to secure your table! \nSee you there!
URL:https://maryboroughservicesclub.com.au/event/friday-live-music-14/
LOCATION:The Services Club Maryborough\, 163-175 Lennox Street\, Maryborough\, QLD\, 4650\, Australia
CATEGORIES:All,Entertainment,Live Music
ATTACH;FMTTYPE=image/jpeg:https://maryboroughservicesclub.com.au/wp-content/uploads/2025/11/DJ-Crooksy-Feat-Image-.jpg
END:VEVENT
BEGIN:VEVENT
DTSTART;TZID=Australia/Brisbane:20251206T200000
DTEND;TZID=Australia/Brisbane:20251207T000000
DTSTAMP:20260421T065919
CREATED:20251126T005003Z
LAST-MODIFIED:20251126T005115Z
UID:10008721-1765051200-1765065600@maryboroughservicesclub.com.au
SUMMARY:Bad Attitude
DESCRIPTION:Saturday Night Live at Maryborough Services Club \nJoin us every Saturday night from 8pm – 12am for free live entertainment at Maryborough Services Club! \nEnjoy the weekend & come along to dance\, relax\, and enjoy a great night out with friends. \nWhy not make a night of it?\nTreat yourself to a delicious dinner beforehand. Click here to secure your table! \nSee you there!
URL:https://maryboroughservicesclub.com.au/event/saturday-live-music-16/
LOCATION:The Services Club Maryborough\, 163-175 Lennox Street\, Maryborough\, QLD\, 4650\, Australia
CATEGORIES:All,Entertainment,Live Music
ATTACH;FMTTYPE=image/jpeg:https://maryboroughservicesclub.com.au/wp-content/uploads/2025/11/Bad-Attitude-Feat-Image-.jpg
END:VEVENT
BEGIN:VEVENT
DTSTART;TZID=Australia/Brisbane:20251207T130000
DTEND;TZID=Australia/Brisbane:20251207T170000
DTSTAMP:20260421T065919
CREATED:20251126T012613Z
LAST-MODIFIED:20251126T013055Z
UID:10008982-1765112400-1765126800@maryboroughservicesclub.com.au
SUMMARY:Aaron Westlake
DESCRIPTION:Sunday Afternoon Live at Maryborough Services Club \nJoin us every Sunday afternoon from 1pm – 5pm for free live entertainment at Maryborough Services Club! \nFinish off the weekend by relaxing and enjoying great live music. \nWhy not make a day of it?\nTreat yourself to lunch or something from the café at the club. Click here to secure your table! \nSee you there!
URL:https://maryboroughservicesclub.com.au/event/sunday-live-music-17/
LOCATION:The Services Club Maryborough\, 163-175 Lennox Street\, Maryborough\, QLD\, 4650\, Australia
CATEGORIES:All,Entertainment,Live Music
ATTACH;FMTTYPE=image/jpeg:https://maryboroughservicesclub.com.au/wp-content/uploads/2025/11/aARON-wESTLAKE-Feat-Image-.jpg
END:VEVENT
BEGIN:VEVENT
DTSTART;TZID=Australia/Brisbane:20251212T210000
DTEND;TZID=Australia/Brisbane:20251213T010000
DTSTAMP:20260421T065919
CREATED:20251126T011659Z
LAST-MODIFIED:20251126T012302Z
UID:10013516-1765573200-1765587600@maryboroughservicesclub.com.au
SUMMARY:DJ Nixon
DESCRIPTION:Friday Night Live at Maryborough Services Club \nJoin us every Friday night from 9pm – 1am for free live entertainment at Maryborough Services Club! \nKick off your weekend the right way! Come along to dance\, relax\, and enjoy a great night out with friends. \nWhy not make a night of it?\nTreat yourself to a delicious dinner beforehand. Click here to secure your table! \nSee you there!
URL:https://maryboroughservicesclub.com.au/event/friday-live-music-15/
LOCATION:The Services Club Maryborough\, 163-175 Lennox Street\, Maryborough\, QLD\, 4650\, Australia
CATEGORIES:All,Entertainment,Live Music
ATTACH;FMTTYPE=image/jpeg:https://maryboroughservicesclub.com.au/wp-content/uploads/2025/11/DJ-Nixon-Feat-Image-.jpg
END:VEVENT
BEGIN:VEVENT
DTSTART;TZID=Australia/Brisbane:20251213T200000
DTEND;TZID=Australia/Brisbane:20251214T000000
DTSTAMP:20260421T065919
CREATED:20251126T005233Z
LAST-MODIFIED:20251126T005350Z
UID:10008722-1765656000-1765670400@maryboroughservicesclub.com.au
SUMMARY:Foreign Currency
DESCRIPTION:Saturday Night Live at Maryborough Services Club \nJoin us every Saturday night from 8pm – 12am for free live entertainment at Maryborough Services Club! \nEnjoy the weekend & come along to dance\, relax\, and enjoy a great night out with friends. \nWhy not make a night of it?\nTreat yourself to a delicious dinner beforehand. Click here to secure your table! \nSee you there!
URL:https://maryboroughservicesclub.com.au/event/saturday-live-music-17/
LOCATION:The Services Club Maryborough\, 163-175 Lennox Street\, Maryborough\, QLD\, 4650\, Australia
CATEGORIES:All,Entertainment,Live Music
ATTACH;FMTTYPE=image/jpeg:https://maryboroughservicesclub.com.au/wp-content/uploads/2025/11/Foreign-Currency-Feat-Image-.jpg
END:VEVENT
BEGIN:VEVENT
DTSTART;TZID=Australia/Brisbane:20251214T130000
DTEND;TZID=Australia/Brisbane:20251214T170000
DTSTAMP:20260421T065919
CREATED:20251126T013256Z
LAST-MODIFIED:20251126T013423Z
UID:10008983-1765717200-1765731600@maryboroughservicesclub.com.au
SUMMARY:Doug Edwards
DESCRIPTION:Sunday Afternoon Live at Maryborough Services Club \nJoin us every Sunday afternoon from 1pm – 5pm for free live entertainment at Maryborough Services Club! \nFinish off the weekend by relaxing and enjoying great live music. \nWhy not make a day of it?\nTreat yourself to lunch or something from the café at the club. Click here to secure your table! \nSee you there!
URL:https://maryboroughservicesclub.com.au/event/sunday-live-music-18/
LOCATION:The Services Club Maryborough\, 163-175 Lennox Street\, Maryborough\, QLD\, 4650\, Australia
CATEGORIES:All,Entertainment,Live Music
ATTACH;FMTTYPE=image/jpeg:https://maryboroughservicesclub.com.au/wp-content/uploads/2025/10/Doug-Edwards-Web-Feat-Image-.jpg
END:VEVENT
BEGIN:VEVENT
DTSTART;TZID=Australia/Brisbane:20251219T210000
DTEND;TZID=Australia/Brisbane:20251220T010000
DTSTAMP:20260421T065919
CREATED:20251126T012308Z
LAST-MODIFIED:20251126T012431Z
UID:10013517-1766178000-1766192400@maryboroughservicesclub.com.au
SUMMARY:DJ Mr Sparkles
DESCRIPTION:Friday Night Live at Maryborough Services Club \nJoin us every Friday night from 9pm – 1am for free live entertainment at Maryborough Services Club! \nKick off your weekend the right way! Come along to dance\, relax\, and enjoy a great night out with friends. \nWhy not make a night of it?\nTreat yourself to a delicious dinner beforehand. Click here to secure your table! \nSee you there!
URL:https://maryboroughservicesclub.com.au/event/friday-live-music-16/
LOCATION:The Services Club Maryborough\, 163-175 Lennox Street\, Maryborough\, QLD\, 4650\, Australia
CATEGORIES:All,Entertainment,Live Music
ATTACH;FMTTYPE=image/jpeg:https://maryboroughservicesclub.com.au/wp-content/uploads/2025/11/DJ-Mr-Sparkles-Feat-Image-.jpg
END:VEVENT
BEGIN:VEVENT
DTSTART;TZID=Australia/Brisbane:20251220T200000
DTEND;TZID=Australia/Brisbane:20251221T000000
DTSTAMP:20260421T065919
CREATED:20251126T005358Z
LAST-MODIFIED:20251126T005452Z
UID:10008723-1766260800-1766275200@maryboroughservicesclub.com.au
SUMMARY:Rhubarb Tarts
DESCRIPTION:Saturday Night Live at Maryborough Services Club \nJoin us every Saturday night from 8pm – 12am for free live entertainment at Maryborough Services Club! \nEnjoy the weekend & come along to dance\, relax\, and enjoy a great night out with friends. \nWhy not make a night of it?\nTreat yourself to a delicious dinner beforehand. Click here to secure your table! \nSee you there!
URL:https://maryboroughservicesclub.com.au/event/saturday-live-music-18/
LOCATION:The Services Club Maryborough\, 163-175 Lennox Street\, Maryborough\, QLD\, 4650\, Australia
CATEGORIES:All,Entertainment,Live Music
ATTACH;FMTTYPE=image/jpeg:https://maryboroughservicesclub.com.au/wp-content/uploads/2025/10/Rhubarb-Tarts-Web-Feat-Image-.jpg
END:VEVENT
BEGIN:VEVENT
DTSTART;TZID=Australia/Brisbane:20251221T130000
DTEND;TZID=Australia/Brisbane:20251221T170000
DTSTAMP:20260421T065919
CREATED:20251126T013518Z
LAST-MODIFIED:20251126T013643Z
UID:10008984-1766322000-1766336400@maryboroughservicesclub.com.au
SUMMARY:Maria Whittaker
DESCRIPTION:Sunday Afternoon Live at Maryborough Services Club \nJoin us every Sunday afternoon from 1pm – 5pm for free live entertainment at Maryborough Services Club! \nFinish off the weekend by relaxing and enjoying great live music. \nWhy not make a day of it?\nTreat yourself to lunch or something from the café at the club. Click here to secure your table! \nSee you there!
URL:https://maryboroughservicesclub.com.au/event/sunday-live-music-19/
LOCATION:The Services Club Maryborough\, 163-175 Lennox Street\, Maryborough\, QLD\, 4650\, Australia
CATEGORIES:All,Entertainment,Live Music
ATTACH;FMTTYPE=image/jpeg:https://maryboroughservicesclub.com.au/wp-content/uploads/2025/11/mARIA-wHITTAKER-fEAT-iMAGE.jpg
END:VEVENT
BEGIN:VEVENT
DTSTART;TZID=Australia/Brisbane:20251226T210000
DTEND;TZID=Australia/Brisbane:20251227T010000
DTSTAMP:20260421T065919
CREATED:20251126T012437Z
LAST-MODIFIED:20251126T012526Z
UID:10013518-1766782800-1766797200@maryboroughservicesclub.com.au
SUMMARY:DJ Nixon
DESCRIPTION:Friday Night Live at Maryborough Services Club \nJoin us every Friday night from 9pm – 1am for free live entertainment at Maryborough Services Club! \nKick off your weekend the right way! Come along to dance\, relax\, and enjoy a great night out with friends. \nWhy not make a night of it?\nTreat yourself to a delicious dinner beforehand. Click here to secure your table! \nSee you there!
URL:https://maryboroughservicesclub.com.au/event/friday-live-music-17/
LOCATION:The Services Club Maryborough\, 163-175 Lennox Street\, Maryborough\, QLD\, 4650\, Australia
CATEGORIES:All,Entertainment,Live Music
ATTACH;FMTTYPE=image/jpeg:https://maryboroughservicesclub.com.au/wp-content/uploads/2025/11/DJ-Nixon-Feat-Image-.jpg
END:VEVENT
BEGIN:VEVENT
DTSTART;TZID=Australia/Brisbane:20251227T200000
DTEND;TZID=Australia/Brisbane:20251228T000000
DTSTAMP:20260421T065919
CREATED:20251126T005500Z
LAST-MODIFIED:20251126T005543Z
UID:10008724-1766865600-1766880000@maryboroughservicesclub.com.au
SUMMARY:Marshall Brothers
DESCRIPTION:Saturday Night Live at Maryborough Services Club \nJoin us every Saturday night from 8pm – 12am for free live entertainment at Maryborough Services Club! \nEnjoy the weekend & come along to dance\, relax\, and enjoy a great night out with friends. \nWhy not make a night of it?\nTreat yourself to a delicious dinner beforehand. Click here to secure your table! \nSee you there!
URL:https://maryboroughservicesclub.com.au/event/saturday-live-music-19/
LOCATION:The Services Club Maryborough\, 163-175 Lennox Street\, Maryborough\, QLD\, 4650\, Australia
CATEGORIES:All,Entertainment,Live Music
ATTACH;FMTTYPE=image/jpeg:https://maryboroughservicesclub.com.au/wp-content/uploads/2025/11/Marshall-Brothers-Feat-Image.jpg
END:VEVENT
BEGIN:VEVENT
DTSTART;TZID=Australia/Brisbane:20251228T130000
DTEND;TZID=Australia/Brisbane:20251228T170000
DTSTAMP:20260421T065919
CREATED:20251126T013651Z
LAST-MODIFIED:20251126T013756Z
UID:10008985-1766926800-1766941200@maryboroughservicesclub.com.au
SUMMARY:Ryan Hurricane
DESCRIPTION:Sunday Afternoon Live at Maryborough Services Club \nJoin us every Sunday afternoon from 1pm – 5pm for free live entertainment at Maryborough Services Club! \nFinish off the weekend by relaxing and enjoying great live music. \nWhy not make a day of it?\nTreat yourself to lunch or something from the café at the club. Click here to secure your table! \nSee you there!
URL:https://maryboroughservicesclub.com.au/event/sunday-live-music-20/
LOCATION:The Services Club Maryborough\, 163-175 Lennox Street\, Maryborough\, QLD\, 4650\, Australia
CATEGORIES:All,Entertainment,Live Music
ATTACH;FMTTYPE=image/jpeg:https://maryboroughservicesclub.com.au/wp-content/uploads/2025/11/rYAN-Hurricane-Feat-Image-.jpg
END:VEVENT
END:VCALENDAR