BEGIN:VCALENDAR
VERSION:2.0
PRODID:-//Maryborough Services Club - ECPv6.15.17//NONSGML v1.0//EN
CALSCALE:GREGORIAN
METHOD:PUBLISH
X-WR-CALNAME:Maryborough Services Club
X-ORIGINAL-URL:https://maryboroughservicesclub.com.au
X-WR-CALDESC:Events for Maryborough Services Club
REFRESH-INTERVAL;VALUE=DURATION:PT1H
X-Robots-Tag:noindex
X-PUBLISHED-TTL:PT1H
BEGIN:VTIMEZONE
TZID:Australia/Brisbane
BEGIN:STANDARD
TZOFFSETFROM:+1000
TZOFFSETTO:+1000
TZNAME:AEST
DTSTART:20250101T000000
END:STANDARD
END:VTIMEZONE
BEGIN:VEVENT
DTSTART;TZID=Australia/Brisbane:20260102T210000
DTEND;TZID=Australia/Brisbane:20260103T010000
DTSTAMP:20260421T051318
CREATED:20251128T013225Z
LAST-MODIFIED:20251128T013402Z
UID:10013519-1767387600-1767402000@maryboroughservicesclub.com.au
SUMMARY:DJ Nixon
DESCRIPTION:Friday Night Live at Maryborough Services Club \nJoin us every Friday night from 9pm – 1am for free live entertainment at Maryborough Services Club! \nKick off your weekend the right way! Come along to dance\, relax\, and enjoy a great night out with friends. \nWhy not make a night of it?\nTreat yourself to a delicious dinner beforehand. Click here to secure your table! \nSee you there!
URL:https://maryboroughservicesclub.com.au/event/friday-live-music-18/
LOCATION:The Services Club Maryborough\, 163-175 Lennox Street\, Maryborough\, QLD\, 4650\, Australia
CATEGORIES:All,Entertainment,Live Music
ATTACH;FMTTYPE=image/jpeg:https://maryboroughservicesclub.com.au/wp-content/uploads/2025/11/DJ-Nixon-Feat-Image-.jpg
END:VEVENT
BEGIN:VEVENT
DTSTART;TZID=Australia/Brisbane:20260103T200000
DTEND;TZID=Australia/Brisbane:20260104T000000
DTSTAMP:20260421T051318
CREATED:20251128T014255Z
LAST-MODIFIED:20251128T014417Z
UID:10008725-1767470400-1767484800@maryboroughservicesclub.com.au
SUMMARY:Forbidden Road
DESCRIPTION:Saturday Night Live at Maryborough Services Club \nJoin us every Saturday night from 8pm – 12am for free live entertainment at Maryborough Services Club! \nEnjoy the weekend & come along to dance\, relax\, and enjoy a great night out with friends. \nWhy not make a night of it?\nTreat yourself to a delicious dinner beforehand. Click here to secure your table! \nSee you there!
URL:https://maryboroughservicesclub.com.au/event/saturday-live-music/
LOCATION:The Services Club Maryborough\, 163-175 Lennox Street\, Maryborough\, QLD\, 4650\, Australia
CATEGORIES:All,Entertainment,Live Music
ATTACH;FMTTYPE=image/jpeg:https://maryboroughservicesclub.com.au/wp-content/uploads/2025/11/Forbidden-Road-Feat-Image-.jpg
END:VEVENT
BEGIN:VEVENT
DTSTART;TZID=Australia/Brisbane:20260104T130000
DTEND;TZID=Australia/Brisbane:20260104T170000
DTSTAMP:20260421T051318
CREATED:20251128T020606Z
LAST-MODIFIED:20251128T021032Z
UID:10008986-1767531600-1767546000@maryboroughservicesclub.com.au
SUMMARY:Aaron Westlake
DESCRIPTION:Sunday Afternoon Live at Maryborough Services Club \nJoin us every Sunday afternoon from 1pm – 5pm for free live entertainment at Maryborough Services Club! \nFinish off the weekend by relaxing and enjoying great live music. \nWhy not make a day of it?\nTreat yourself to lunch or something from the café at the club. Click here to secure your table! \nSee you there!
URL:https://maryboroughservicesclub.com.au/event/sunday-live-music-21/
LOCATION:The Services Club Maryborough\, 163-175 Lennox Street\, Maryborough\, QLD\, 4650\, Australia
CATEGORIES:All,Entertainment,Live Music
ATTACH;FMTTYPE=image/jpeg:https://maryboroughservicesclub.com.au/wp-content/uploads/2025/11/aARON-wESTLAKE-Feat-Image-.jpg
END:VEVENT
BEGIN:VEVENT
DTSTART;TZID=Australia/Brisbane:20260109T210000
DTEND;TZID=Australia/Brisbane:20260110T010000
DTSTAMP:20260421T051318
CREATED:20251128T013414Z
LAST-MODIFIED:20251128T013504Z
UID:10013520-1767992400-1768006800@maryboroughservicesclub.com.au
SUMMARY:DJ Crooksy
DESCRIPTION:Friday Night Live at Maryborough Services Club \nJoin us every Friday night from 9pm – 1am for free live entertainment at Maryborough Services Club! \nKick off your weekend the right way! Come along to dance\, relax\, and enjoy a great night out with friends. \nWhy not make a night of it?\nTreat yourself to a delicious dinner beforehand. Click here to secure your table! \nSee you there!
URL:https://maryboroughservicesclub.com.au/event/friday-live-music-19/
LOCATION:The Services Club Maryborough\, 163-175 Lennox Street\, Maryborough\, QLD\, 4650\, Australia
CATEGORIES:All,Entertainment,Live Music
ATTACH;FMTTYPE=image/jpeg:https://maryboroughservicesclub.com.au/wp-content/uploads/2025/11/DJ-Crooksy-Feat-Image-.jpg
END:VEVENT
BEGIN:VEVENT
DTSTART;TZID=Australia/Brisbane:20260110T200000
DTEND;TZID=Australia/Brisbane:20260111T000000
DTSTAMP:20260421T051318
CREATED:20251128T015833Z
LAST-MODIFIED:20251128T020035Z
UID:10008726-1768075200-1768089600@maryboroughservicesclub.com.au
SUMMARY:Bad Attitude
DESCRIPTION:Saturday Night Live at Maryborough Services Club \nJoin us every Saturday night from 8pm – 12am for free live entertainment at Maryborough Services Club! \nEnjoy the weekend & come along to dance\, relax\, and enjoy a great night out with friends. \nWhy not make a night of it?\nTreat yourself to a delicious dinner beforehand. Click here to secure your table! \nSee you there!
URL:https://maryboroughservicesclub.com.au/event/saturday-live-music-20/
LOCATION:The Services Club Maryborough\, 163-175 Lennox Street\, Maryborough\, QLD\, 4650\, Australia
CATEGORIES:All,Entertainment,Live Music
ATTACH;FMTTYPE=image/jpeg:https://maryboroughservicesclub.com.au/wp-content/uploads/2025/11/Bad-Attitude-Feat-Image-.jpg
END:VEVENT
BEGIN:VEVENT
DTSTART;TZID=Australia/Brisbane:20260116T210000
DTEND;TZID=Australia/Brisbane:20260117T010000
DTSTAMP:20260421T051318
CREATED:20251128T013514Z
LAST-MODIFIED:20251128T013613Z
UID:10013521-1768597200-1768611600@maryboroughservicesclub.com.au
SUMMARY:DJ Nixon
DESCRIPTION:Friday Night Live at Maryborough Services Club \nJoin us every Friday night from 9pm – 1am for free live entertainment at Maryborough Services Club! \nKick off your weekend the right way! Come along to dance\, relax\, and enjoy a great night out with friends. \nWhy not make a night of it?\nTreat yourself to a delicious dinner beforehand. Click here to secure your table! \nSee you there!
URL:https://maryboroughservicesclub.com.au/event/friday-live-music-20/
LOCATION:The Services Club Maryborough\, 163-175 Lennox Street\, Maryborough\, QLD\, 4650\, Australia
CATEGORIES:All,Entertainment,Live Music
ATTACH;FMTTYPE=image/jpeg:https://maryboroughservicesclub.com.au/wp-content/uploads/2025/11/DJ-Nixon-Feat-Image-.jpg
END:VEVENT
BEGIN:VEVENT
DTSTART;TZID=Australia/Brisbane:20260117T200000
DTEND;TZID=Australia/Brisbane:20260118T000000
DTSTAMP:20260421T051318
CREATED:20250715T004010Z
LAST-MODIFIED:20251003T051545Z
UID:10008727-1768680000-1768694400@maryboroughservicesclub.com.au
SUMMARY:Saturday Live Music
DESCRIPTION:Saturday Night Live at Maryborough Services Club \nJoin us every Saturday night from 8pm – 12am for free live entertainment at Maryborough Services Club! \nEnjoy the weekend & come along to dance\, relax\, and enjoy a great night out with friends. \nWhy not make a night of it?\nTreat yourself to a delicious dinner beforehand. Click here to secure your table! \nSee you there!
URL:https://maryboroughservicesclub.com.au/event/saturday-live-music-12/2026-01-17/
LOCATION:The Services Club Maryborough\, 163-175 Lennox Street\, Maryborough\, QLD\, 4650\, Australia
CATEGORIES:All,Entertainment,Live Music
ATTACH;FMTTYPE=image/jpeg:https://maryboroughservicesclub.com.au/wp-content/uploads/2025/07/Live-Music-Fri-Sat-Event-Banner.jpg
END:VEVENT
BEGIN:VEVENT
DTSTART;TZID=Australia/Brisbane:20260123T210000
DTEND;TZID=Australia/Brisbane:20260124T010000
DTSTAMP:20260421T051318
CREATED:20251128T013830Z
LAST-MODIFIED:20251128T013921Z
UID:10013522-1769202000-1769216400@maryboroughservicesclub.com.au
SUMMARY:DJ Crooksy
DESCRIPTION:Friday Night Live at Maryborough Services Club \nJoin us every Friday night from 9pm – 1am for free live entertainment at Maryborough Services Club! \nKick off your weekend the right way! Come along to dance\, relax\, and enjoy a great night out with friends. \nWhy not make a night of it?\nTreat yourself to a delicious dinner beforehand. Click here to secure your table! \nSee you there!
URL:https://maryboroughservicesclub.com.au/event/friday-live-music-21/
LOCATION:The Services Club Maryborough\, 163-175 Lennox Street\, Maryborough\, QLD\, 4650\, Australia
CATEGORIES:All,Entertainment,Live Music
ATTACH;FMTTYPE=image/jpeg:https://maryboroughservicesclub.com.au/wp-content/uploads/2025/11/DJ-Crooksy-Feat-Image-.jpg
END:VEVENT
BEGIN:VEVENT
DTSTART;TZID=Australia/Brisbane:20260125T130000
DTEND;TZID=Australia/Brisbane:20260125T170000
DTSTAMP:20260421T051318
CREATED:20251128T021049Z
LAST-MODIFIED:20251128T021154Z
UID:10008989-1769346000-1769360400@maryboroughservicesclub.com.au
SUMMARY:Franky Busta
DESCRIPTION:Sunday Afternoon Live at Maryborough Services Club \nJoin us every Sunday afternoon from 1pm – 5pm for free live entertainment at Maryborough Services Club! \nFinish off the weekend by relaxing and enjoying great live music. \nWhy not make a day of it?\nTreat yourself to lunch or something from the café at the club. Click here to secure your table! \nSee you there!
URL:https://maryboroughservicesclub.com.au/event/sunday-live-music-24/
LOCATION:The Services Club Maryborough\, 163-175 Lennox Street\, Maryborough\, QLD\, 4650\, Australia
CATEGORIES:All,Entertainment,Live Music
ATTACH;FMTTYPE=image/jpeg:https://maryboroughservicesclub.com.au/wp-content/uploads/2025/11/Franky-Busta-Feat-Image-.jpg
END:VEVENT
BEGIN:VEVENT
DTSTART;TZID=Australia/Brisbane:20260131T200000
DTEND;TZID=Australia/Brisbane:20260201T000000
DTSTAMP:20260421T051318
CREATED:20251128T020354Z
LAST-MODIFIED:20251128T020443Z
UID:10008729-1769889600-1769904000@maryboroughservicesclub.com.au
SUMMARY:Rhubarb Tarts
DESCRIPTION:Saturday Night Live at Maryborough Services Club \nJoin us every Saturday night from 8pm – 12am for free live entertainment at Maryborough Services Club! \nEnjoy the weekend & come along to dance\, relax\, and enjoy a great night out with friends. \nWhy not make a night of it?\nTreat yourself to a delicious dinner beforehand. Click here to secure your table! \nSee you there!
URL:https://maryboroughservicesclub.com.au/event/saturday-live-music-22/
LOCATION:The Services Club Maryborough\, 163-175 Lennox Street\, Maryborough\, QLD\, 4650\, Australia
CATEGORIES:All,Entertainment,Live Music
ATTACH;FMTTYPE=image/jpeg:https://maryboroughservicesclub.com.au/wp-content/uploads/2025/10/Rhubarb-Tarts-Web-Feat-Image-.jpg
END:VEVENT
END:VCALENDAR