BEGIN:VCALENDAR
VERSION:2.0
PRODID:-//Maryborough Services Club - ECPv6.15.17//NONSGML v1.0//EN
CALSCALE:GREGORIAN
METHOD:PUBLISH
X-ORIGINAL-URL:https://maryboroughservicesclub.com.au
X-WR-CALDESC:Events for Maryborough Services Club
REFRESH-INTERVAL;VALUE=DURATION:PT1H
X-Robots-Tag:noindex
X-PUBLISHED-TTL:PT1H
BEGIN:VTIMEZONE
TZID:Australia/Brisbane
BEGIN:STANDARD
TZOFFSETFROM:+1000
TZOFFSETTO:+1000
TZNAME:AEST
DTSTART:20250101T000000
END:STANDARD
END:VTIMEZONE
BEGIN:VEVENT
DTSTART;TZID=Australia/Brisbane:20260501T210000
DTEND;TZID=Australia/Brisbane:20260502T010000
DTSTAMP:20260420T212903
CREATED:20250831T232723Z
LAST-MODIFIED:20251003T052306Z
UID:10013536-1777669200-1777683600@maryboroughservicesclub.com.au
SUMMARY:Friday Live Music
DESCRIPTION:Friday Night Live at Maryborough Services Club \nJoin us every Friday night from 9pm – 1am for free live entertainment at Maryborough Services Club! \nKick off your weekend the right way! Come along to dance\, relax\, and enjoy a great night out with friends. \nWhy not make a night of it?\nTreat yourself to a delicious dinner beforehand. Click here to secure your table! \nSee you there!
URL:https://maryboroughservicesclub.com.au/event/friday-live-music-10/2026-05-01/
LOCATION:The Services Club Maryborough\, 163-175 Lennox Street\, Maryborough\, QLD\, 4650\, Australia
CATEGORIES:All,Entertainment,Live Music
ATTACH;FMTTYPE=image/jpeg:https://maryboroughservicesclub.com.au/wp-content/uploads/2025/07/Live-Music-Fri-Sat-Event-Banner.jpg
END:VEVENT
BEGIN:VEVENT
DTSTART;TZID=Australia/Brisbane:20260502T200000
DTEND;TZID=Australia/Brisbane:20260503T000000
DTSTAMP:20260420T212903
CREATED:20250715T004010Z
LAST-MODIFIED:20251003T051545Z
UID:10008742-1777752000-1777766400@maryboroughservicesclub.com.au
SUMMARY:Saturday Live Music
DESCRIPTION:Saturday Night Live at Maryborough Services Club \nJoin us every Saturday night from 8pm – 12am for free live entertainment at Maryborough Services Club! \nEnjoy the weekend & come along to dance\, relax\, and enjoy a great night out with friends. \nWhy not make a night of it?\nTreat yourself to a delicious dinner beforehand. Click here to secure your table! \nSee you there!
URL:https://maryboroughservicesclub.com.au/event/saturday-live-music-12/2026-05-02/
LOCATION:The Services Club Maryborough\, 163-175 Lennox Street\, Maryborough\, QLD\, 4650\, Australia
CATEGORIES:All,Entertainment,Live Music
ATTACH;FMTTYPE=image/jpeg:https://maryboroughservicesclub.com.au/wp-content/uploads/2025/07/Live-Music-Fri-Sat-Event-Banner.jpg
END:VEVENT
BEGIN:VEVENT
DTSTART;TZID=Australia/Brisbane:20260503T140000
DTEND;TZID=Australia/Brisbane:20260503T170000
DTSTAMP:20260420T212903
CREATED:20250715T004601Z
LAST-MODIFIED:20250916T010852Z
UID:10009003-1777816800-1777827600@maryboroughservicesclub.com.au
SUMMARY:Sunday Live Music
DESCRIPTION:Sunday Afternoon Live at Maryborough Services Club \nJoin us every Sunday afternoon from 2pm – 5pm for free live entertainment at Maryborough Services Club! \nFinish off the weekend by relaxing and enjoying great live music. \nWhy not make a day of it?\nTreat yourself to lunch or something from the café at the club. Click here to secure your table! \nSee you there!
URL:https://maryboroughservicesclub.com.au/event/sunday-live-music/2026-05-03/
LOCATION:The Services Club Maryborough\, 163-175 Lennox Street\, Maryborough\, QLD\, 4650\, Australia
CATEGORIES:All,Entertainment,Live Music
ATTACH;FMTTYPE=image/jpeg:https://maryboroughservicesclub.com.au/wp-content/uploads/2025/07/Live-Music-Sun-Event-Banner.jpg
END:VEVENT
BEGIN:VEVENT
DTSTART;TZID=Australia/Brisbane:20260508T210000
DTEND;TZID=Australia/Brisbane:20260509T010000
DTSTAMP:20260420T212903
CREATED:20250831T232723Z
LAST-MODIFIED:20251003T052306Z
UID:10013537-1778274000-1778288400@maryboroughservicesclub.com.au
SUMMARY:Friday Live Music
DESCRIPTION:Friday Night Live at Maryborough Services Club \nJoin us every Friday night from 9pm – 1am for free live entertainment at Maryborough Services Club! \nKick off your weekend the right way! Come along to dance\, relax\, and enjoy a great night out with friends. \nWhy not make a night of it?\nTreat yourself to a delicious dinner beforehand. Click here to secure your table! \nSee you there!
URL:https://maryboroughservicesclub.com.au/event/friday-live-music-10/2026-05-08/
LOCATION:The Services Club Maryborough\, 163-175 Lennox Street\, Maryborough\, QLD\, 4650\, Australia
CATEGORIES:All,Entertainment,Live Music
ATTACH;FMTTYPE=image/jpeg:https://maryboroughservicesclub.com.au/wp-content/uploads/2025/07/Live-Music-Fri-Sat-Event-Banner.jpg
END:VEVENT
BEGIN:VEVENT
DTSTART;TZID=Australia/Brisbane:20260509T200000
DTEND;TZID=Australia/Brisbane:20260510T000000
DTSTAMP:20260420T212903
CREATED:20250715T004010Z
LAST-MODIFIED:20251003T051545Z
UID:10008743-1778356800-1778371200@maryboroughservicesclub.com.au
SUMMARY:Saturday Live Music
DESCRIPTION:Saturday Night Live at Maryborough Services Club \nJoin us every Saturday night from 8pm – 12am for free live entertainment at Maryborough Services Club! \nEnjoy the weekend & come along to dance\, relax\, and enjoy a great night out with friends. \nWhy not make a night of it?\nTreat yourself to a delicious dinner beforehand. Click here to secure your table! \nSee you there!
URL:https://maryboroughservicesclub.com.au/event/saturday-live-music-12/2026-05-09/
LOCATION:The Services Club Maryborough\, 163-175 Lennox Street\, Maryborough\, QLD\, 4650\, Australia
CATEGORIES:All,Entertainment,Live Music
ATTACH;FMTTYPE=image/jpeg:https://maryboroughservicesclub.com.au/wp-content/uploads/2025/07/Live-Music-Fri-Sat-Event-Banner.jpg
END:VEVENT
BEGIN:VEVENT
DTSTART;TZID=Australia/Brisbane:20260510T140000
DTEND;TZID=Australia/Brisbane:20260510T170000
DTSTAMP:20260420T212903
CREATED:20250715T004601Z
LAST-MODIFIED:20250916T010852Z
UID:10009004-1778421600-1778432400@maryboroughservicesclub.com.au
SUMMARY:Sunday Live Music
DESCRIPTION:Sunday Afternoon Live at Maryborough Services Club \nJoin us every Sunday afternoon from 2pm – 5pm for free live entertainment at Maryborough Services Club! \nFinish off the weekend by relaxing and enjoying great live music. \nWhy not make a day of it?\nTreat yourself to lunch or something from the café at the club. Click here to secure your table! \nSee you there!
URL:https://maryboroughservicesclub.com.au/event/sunday-live-music/2026-05-10/
LOCATION:The Services Club Maryborough\, 163-175 Lennox Street\, Maryborough\, QLD\, 4650\, Australia
CATEGORIES:All,Entertainment,Live Music
ATTACH;FMTTYPE=image/jpeg:https://maryboroughservicesclub.com.au/wp-content/uploads/2025/07/Live-Music-Sun-Event-Banner.jpg
END:VEVENT
BEGIN:VEVENT
DTSTART;TZID=Australia/Brisbane:20260515T210000
DTEND;TZID=Australia/Brisbane:20260516T010000
DTSTAMP:20260420T212903
CREATED:20250831T232723Z
LAST-MODIFIED:20251003T052306Z
UID:10013538-1778878800-1778893200@maryboroughservicesclub.com.au
SUMMARY:Friday Live Music
DESCRIPTION:Friday Night Live at Maryborough Services Club \nJoin us every Friday night from 9pm – 1am for free live entertainment at Maryborough Services Club! \nKick off your weekend the right way! Come along to dance\, relax\, and enjoy a great night out with friends. \nWhy not make a night of it?\nTreat yourself to a delicious dinner beforehand. Click here to secure your table! \nSee you there!
URL:https://maryboroughservicesclub.com.au/event/friday-live-music-10/2026-05-15/
LOCATION:The Services Club Maryborough\, 163-175 Lennox Street\, Maryborough\, QLD\, 4650\, Australia
CATEGORIES:All,Entertainment,Live Music
ATTACH;FMTTYPE=image/jpeg:https://maryboroughservicesclub.com.au/wp-content/uploads/2025/07/Live-Music-Fri-Sat-Event-Banner.jpg
END:VEVENT
BEGIN:VEVENT
DTSTART;TZID=Australia/Brisbane:20260516T200000
DTEND;TZID=Australia/Brisbane:20260517T000000
DTSTAMP:20260420T212903
CREATED:20250715T004010Z
LAST-MODIFIED:20251003T051545Z
UID:10008744-1778961600-1778976000@maryboroughservicesclub.com.au
SUMMARY:Saturday Live Music
DESCRIPTION:Saturday Night Live at Maryborough Services Club \nJoin us every Saturday night from 8pm – 12am for free live entertainment at Maryborough Services Club! \nEnjoy the weekend & come along to dance\, relax\, and enjoy a great night out with friends. \nWhy not make a night of it?\nTreat yourself to a delicious dinner beforehand. Click here to secure your table! \nSee you there!
URL:https://maryboroughservicesclub.com.au/event/saturday-live-music-12/2026-05-16/
LOCATION:The Services Club Maryborough\, 163-175 Lennox Street\, Maryborough\, QLD\, 4650\, Australia
CATEGORIES:All,Entertainment,Live Music
ATTACH;FMTTYPE=image/jpeg:https://maryboroughservicesclub.com.au/wp-content/uploads/2025/07/Live-Music-Fri-Sat-Event-Banner.jpg
END:VEVENT
BEGIN:VEVENT
DTSTART;TZID=Australia/Brisbane:20260517T140000
DTEND;TZID=Australia/Brisbane:20260517T170000
DTSTAMP:20260420T212903
CREATED:20250715T004601Z
LAST-MODIFIED:20250916T010852Z
UID:10009005-1779026400-1779037200@maryboroughservicesclub.com.au
SUMMARY:Sunday Live Music
DESCRIPTION:Sunday Afternoon Live at Maryborough Services Club \nJoin us every Sunday afternoon from 2pm – 5pm for free live entertainment at Maryborough Services Club! \nFinish off the weekend by relaxing and enjoying great live music. \nWhy not make a day of it?\nTreat yourself to lunch or something from the café at the club. Click here to secure your table! \nSee you there!
URL:https://maryboroughservicesclub.com.au/event/sunday-live-music/2026-05-17/
LOCATION:The Services Club Maryborough\, 163-175 Lennox Street\, Maryborough\, QLD\, 4650\, Australia
CATEGORIES:All,Entertainment,Live Music
ATTACH;FMTTYPE=image/jpeg:https://maryboroughservicesclub.com.au/wp-content/uploads/2025/07/Live-Music-Sun-Event-Banner.jpg
END:VEVENT
BEGIN:VEVENT
DTSTART;TZID=Australia/Brisbane:20260522T210000
DTEND;TZID=Australia/Brisbane:20260523T010000
DTSTAMP:20260420T212903
CREATED:20250831T232723Z
LAST-MODIFIED:20251003T052306Z
UID:10013539-1779483600-1779498000@maryboroughservicesclub.com.au
SUMMARY:Friday Live Music
DESCRIPTION:Friday Night Live at Maryborough Services Club \nJoin us every Friday night from 9pm – 1am for free live entertainment at Maryborough Services Club! \nKick off your weekend the right way! Come along to dance\, relax\, and enjoy a great night out with friends. \nWhy not make a night of it?\nTreat yourself to a delicious dinner beforehand. Click here to secure your table! \nSee you there!
URL:https://maryboroughservicesclub.com.au/event/friday-live-music-10/2026-05-22/
LOCATION:The Services Club Maryborough\, 163-175 Lennox Street\, Maryborough\, QLD\, 4650\, Australia
CATEGORIES:All,Entertainment,Live Music
ATTACH;FMTTYPE=image/jpeg:https://maryboroughservicesclub.com.au/wp-content/uploads/2025/07/Live-Music-Fri-Sat-Event-Banner.jpg
END:VEVENT
BEGIN:VEVENT
DTSTART;TZID=Australia/Brisbane:20260523T200000
DTEND;TZID=Australia/Brisbane:20260524T000000
DTSTAMP:20260420T212903
CREATED:20250715T004010Z
LAST-MODIFIED:20251003T051545Z
UID:10008745-1779566400-1779580800@maryboroughservicesclub.com.au
SUMMARY:Saturday Live Music
DESCRIPTION:Saturday Night Live at Maryborough Services Club \nJoin us every Saturday night from 8pm – 12am for free live entertainment at Maryborough Services Club! \nEnjoy the weekend & come along to dance\, relax\, and enjoy a great night out with friends. \nWhy not make a night of it?\nTreat yourself to a delicious dinner beforehand. Click here to secure your table! \nSee you there!
URL:https://maryboroughservicesclub.com.au/event/saturday-live-music-12/2026-05-23/
LOCATION:The Services Club Maryborough\, 163-175 Lennox Street\, Maryborough\, QLD\, 4650\, Australia
CATEGORIES:All,Entertainment,Live Music
ATTACH;FMTTYPE=image/jpeg:https://maryboroughservicesclub.com.au/wp-content/uploads/2025/07/Live-Music-Fri-Sat-Event-Banner.jpg
END:VEVENT
BEGIN:VEVENT
DTSTART;TZID=Australia/Brisbane:20260524T140000
DTEND;TZID=Australia/Brisbane:20260524T170000
DTSTAMP:20260420T212903
CREATED:20250715T004601Z
LAST-MODIFIED:20250916T010852Z
UID:10009006-1779631200-1779642000@maryboroughservicesclub.com.au
SUMMARY:Sunday Live Music
DESCRIPTION:Sunday Afternoon Live at Maryborough Services Club \nJoin us every Sunday afternoon from 2pm – 5pm for free live entertainment at Maryborough Services Club! \nFinish off the weekend by relaxing and enjoying great live music. \nWhy not make a day of it?\nTreat yourself to lunch or something from the café at the club. Click here to secure your table! \nSee you there!
URL:https://maryboroughservicesclub.com.au/event/sunday-live-music/2026-05-24/
LOCATION:The Services Club Maryborough\, 163-175 Lennox Street\, Maryborough\, QLD\, 4650\, Australia
CATEGORIES:All,Entertainment,Live Music
ATTACH;FMTTYPE=image/jpeg:https://maryboroughservicesclub.com.au/wp-content/uploads/2025/07/Live-Music-Sun-Event-Banner.jpg
END:VEVENT
BEGIN:VEVENT
DTSTART;TZID=Australia/Brisbane:20260529T210000
DTEND;TZID=Australia/Brisbane:20260530T010000
DTSTAMP:20260420T212903
CREATED:20250831T232723Z
LAST-MODIFIED:20251003T052306Z
UID:10013540-1780088400-1780102800@maryboroughservicesclub.com.au
SUMMARY:Friday Live Music
DESCRIPTION:Friday Night Live at Maryborough Services Club \nJoin us every Friday night from 9pm – 1am for free live entertainment at Maryborough Services Club! \nKick off your weekend the right way! Come along to dance\, relax\, and enjoy a great night out with friends. \nWhy not make a night of it?\nTreat yourself to a delicious dinner beforehand. Click here to secure your table! \nSee you there!
URL:https://maryboroughservicesclub.com.au/event/friday-live-music-10/2026-05-29/
LOCATION:The Services Club Maryborough\, 163-175 Lennox Street\, Maryborough\, QLD\, 4650\, Australia
CATEGORIES:All,Entertainment,Live Music
ATTACH;FMTTYPE=image/jpeg:https://maryboroughservicesclub.com.au/wp-content/uploads/2025/07/Live-Music-Fri-Sat-Event-Banner.jpg
END:VEVENT
BEGIN:VEVENT
DTSTART;TZID=Australia/Brisbane:20260530T200000
DTEND;TZID=Australia/Brisbane:20260531T000000
DTSTAMP:20260420T212903
CREATED:20250715T004010Z
LAST-MODIFIED:20251003T051545Z
UID:10008746-1780171200-1780185600@maryboroughservicesclub.com.au
SUMMARY:Saturday Live Music
DESCRIPTION:Saturday Night Live at Maryborough Services Club \nJoin us every Saturday night from 8pm – 12am for free live entertainment at Maryborough Services Club! \nEnjoy the weekend & come along to dance\, relax\, and enjoy a great night out with friends. \nWhy not make a night of it?\nTreat yourself to a delicious dinner beforehand. Click here to secure your table! \nSee you there!
URL:https://maryboroughservicesclub.com.au/event/saturday-live-music-12/2026-05-30/
LOCATION:The Services Club Maryborough\, 163-175 Lennox Street\, Maryborough\, QLD\, 4650\, Australia
CATEGORIES:All,Entertainment,Live Music
ATTACH;FMTTYPE=image/jpeg:https://maryboroughservicesclub.com.au/wp-content/uploads/2025/07/Live-Music-Fri-Sat-Event-Banner.jpg
END:VEVENT
BEGIN:VEVENT
DTSTART;TZID=Australia/Brisbane:20260531T140000
DTEND;TZID=Australia/Brisbane:20260531T170000
DTSTAMP:20260420T212903
CREATED:20250715T004601Z
LAST-MODIFIED:20250916T010852Z
UID:10009007-1780236000-1780246800@maryboroughservicesclub.com.au
SUMMARY:Sunday Live Music
DESCRIPTION:Sunday Afternoon Live at Maryborough Services Club \nJoin us every Sunday afternoon from 2pm – 5pm for free live entertainment at Maryborough Services Club! \nFinish off the weekend by relaxing and enjoying great live music. \nWhy not make a day of it?\nTreat yourself to lunch or something from the café at the club. Click here to secure your table! \nSee you there!
URL:https://maryboroughservicesclub.com.au/event/sunday-live-music/2026-05-31/
LOCATION:The Services Club Maryborough\, 163-175 Lennox Street\, Maryborough\, QLD\, 4650\, Australia
CATEGORIES:All,Entertainment,Live Music
ATTACH;FMTTYPE=image/jpeg:https://maryboroughservicesclub.com.au/wp-content/uploads/2025/07/Live-Music-Sun-Event-Banner.jpg
END:VEVENT
END:VCALENDAR