BEGIN:VCALENDAR
VERSION:2.0
PRODID:-//Maryborough Services Club - ECPv6.15.17//NONSGML v1.0//EN
CALSCALE:GREGORIAN
METHOD:PUBLISH
X-WR-CALNAME:Maryborough Services Club
X-ORIGINAL-URL:https://maryboroughservicesclub.com.au
X-WR-CALDESC:Events for Maryborough Services Club
REFRESH-INTERVAL;VALUE=DURATION:PT1H
X-Robots-Tag:noindex
X-PUBLISHED-TTL:PT1H
BEGIN:VTIMEZONE
TZID:Australia/Brisbane
BEGIN:STANDARD
TZOFFSETFROM:+1000
TZOFFSETTO:+1000
TZNAME:AEST
DTSTART:20250101T000000
END:STANDARD
END:VTIMEZONE
BEGIN:VEVENT
DTSTART;TZID=Australia/Brisbane:20261101T140000
DTEND;TZID=Australia/Brisbane:20261101T170000
DTSTAMP:20260421T131427
CREATED:20250715T004601Z
LAST-MODIFIED:20250916T010852Z
UID:10009029-1793541600-1793552400@maryboroughservicesclub.com.au
SUMMARY:Sunday Live Music
DESCRIPTION:Sunday Afternoon Live at Maryborough Services Club \nJoin us every Sunday afternoon from 2pm – 5pm for free live entertainment at Maryborough Services Club! \nFinish off the weekend by relaxing and enjoying great live music. \nWhy not make a day of it?\nTreat yourself to lunch or something from the café at the club. Click here to secure your table! \nSee you there!
URL:https://maryboroughservicesclub.com.au/event/sunday-live-music/2026-11-01/
LOCATION:The Services Club Maryborough\, 163-175 Lennox Street\, Maryborough\, QLD\, 4650\, Australia
CATEGORIES:All,Entertainment,Live Music
ATTACH;FMTTYPE=image/jpeg:https://maryboroughservicesclub.com.au/wp-content/uploads/2025/07/Live-Music-Sun-Event-Banner.jpg
END:VEVENT
BEGIN:VEVENT
DTSTART;TZID=Australia/Brisbane:20261106T210000
DTEND;TZID=Australia/Brisbane:20261107T010000
DTSTAMP:20260421T131427
CREATED:20250831T232723Z
LAST-MODIFIED:20251003T052306Z
UID:10013563-1793998800-1794013200@maryboroughservicesclub.com.au
SUMMARY:Friday Live Music
DESCRIPTION:Friday Night Live at Maryborough Services Club \nJoin us every Friday night from 9pm – 1am for free live entertainment at Maryborough Services Club! \nKick off your weekend the right way! Come along to dance\, relax\, and enjoy a great night out with friends. \nWhy not make a night of it?\nTreat yourself to a delicious dinner beforehand. Click here to secure your table! \nSee you there!
URL:https://maryboroughservicesclub.com.au/event/friday-live-music-10/2026-11-06/
LOCATION:The Services Club Maryborough\, 163-175 Lennox Street\, Maryborough\, QLD\, 4650\, Australia
CATEGORIES:All,Entertainment,Live Music
ATTACH;FMTTYPE=image/jpeg:https://maryboroughservicesclub.com.au/wp-content/uploads/2025/07/Live-Music-Fri-Sat-Event-Banner.jpg
END:VEVENT
BEGIN:VEVENT
DTSTART;TZID=Australia/Brisbane:20261107T200000
DTEND;TZID=Australia/Brisbane:20261108T000000
DTSTAMP:20260421T131427
CREATED:20250715T004010Z
LAST-MODIFIED:20251003T051545Z
UID:10008769-1794081600-1794096000@maryboroughservicesclub.com.au
SUMMARY:Saturday Live Music
DESCRIPTION:Saturday Night Live at Maryborough Services Club \nJoin us every Saturday night from 8pm – 12am for free live entertainment at Maryborough Services Club! \nEnjoy the weekend & come along to dance\, relax\, and enjoy a great night out with friends. \nWhy not make a night of it?\nTreat yourself to a delicious dinner beforehand. Click here to secure your table! \nSee you there!
URL:https://maryboroughservicesclub.com.au/event/saturday-live-music-12/2026-11-07/
LOCATION:The Services Club Maryborough\, 163-175 Lennox Street\, Maryborough\, QLD\, 4650\, Australia
CATEGORIES:All,Entertainment,Live Music
ATTACH;FMTTYPE=image/jpeg:https://maryboroughservicesclub.com.au/wp-content/uploads/2025/07/Live-Music-Fri-Sat-Event-Banner.jpg
END:VEVENT
BEGIN:VEVENT
DTSTART;TZID=Australia/Brisbane:20261108T140000
DTEND;TZID=Australia/Brisbane:20261108T170000
DTSTAMP:20260421T131427
CREATED:20250715T004601Z
LAST-MODIFIED:20250916T010852Z
UID:10009030-1794146400-1794157200@maryboroughservicesclub.com.au
SUMMARY:Sunday Live Music
DESCRIPTION:Sunday Afternoon Live at Maryborough Services Club \nJoin us every Sunday afternoon from 2pm – 5pm for free live entertainment at Maryborough Services Club! \nFinish off the weekend by relaxing and enjoying great live music. \nWhy not make a day of it?\nTreat yourself to lunch or something from the café at the club. Click here to secure your table! \nSee you there!
URL:https://maryboroughservicesclub.com.au/event/sunday-live-music/2026-11-08/
LOCATION:The Services Club Maryborough\, 163-175 Lennox Street\, Maryborough\, QLD\, 4650\, Australia
CATEGORIES:All,Entertainment,Live Music
ATTACH;FMTTYPE=image/jpeg:https://maryboroughservicesclub.com.au/wp-content/uploads/2025/07/Live-Music-Sun-Event-Banner.jpg
END:VEVENT
BEGIN:VEVENT
DTSTART;TZID=Australia/Brisbane:20261113T210000
DTEND;TZID=Australia/Brisbane:20261114T010000
DTSTAMP:20260421T131427
CREATED:20250831T232723Z
LAST-MODIFIED:20251003T052306Z
UID:10013564-1794603600-1794618000@maryboroughservicesclub.com.au
SUMMARY:Friday Live Music
DESCRIPTION:Friday Night Live at Maryborough Services Club \nJoin us every Friday night from 9pm – 1am for free live entertainment at Maryborough Services Club! \nKick off your weekend the right way! Come along to dance\, relax\, and enjoy a great night out with friends. \nWhy not make a night of it?\nTreat yourself to a delicious dinner beforehand. Click here to secure your table! \nSee you there!
URL:https://maryboroughservicesclub.com.au/event/friday-live-music-10/2026-11-13/
LOCATION:The Services Club Maryborough\, 163-175 Lennox Street\, Maryborough\, QLD\, 4650\, Australia
CATEGORIES:All,Entertainment,Live Music
ATTACH;FMTTYPE=image/jpeg:https://maryboroughservicesclub.com.au/wp-content/uploads/2025/07/Live-Music-Fri-Sat-Event-Banner.jpg
END:VEVENT
BEGIN:VEVENT
DTSTART;TZID=Australia/Brisbane:20261114T200000
DTEND;TZID=Australia/Brisbane:20261115T000000
DTSTAMP:20260421T131427
CREATED:20250715T004010Z
LAST-MODIFIED:20251003T051545Z
UID:10008770-1794686400-1794700800@maryboroughservicesclub.com.au
SUMMARY:Saturday Live Music
DESCRIPTION:Saturday Night Live at Maryborough Services Club \nJoin us every Saturday night from 8pm – 12am for free live entertainment at Maryborough Services Club! \nEnjoy the weekend & come along to dance\, relax\, and enjoy a great night out with friends. \nWhy not make a night of it?\nTreat yourself to a delicious dinner beforehand. Click here to secure your table! \nSee you there!
URL:https://maryboroughservicesclub.com.au/event/saturday-live-music-12/2026-11-14/
LOCATION:The Services Club Maryborough\, 163-175 Lennox Street\, Maryborough\, QLD\, 4650\, Australia
CATEGORIES:All,Entertainment,Live Music
ATTACH;FMTTYPE=image/jpeg:https://maryboroughservicesclub.com.au/wp-content/uploads/2025/07/Live-Music-Fri-Sat-Event-Banner.jpg
END:VEVENT
BEGIN:VEVENT
DTSTART;TZID=Australia/Brisbane:20261115T140000
DTEND;TZID=Australia/Brisbane:20261115T170000
DTSTAMP:20260421T131427
CREATED:20250715T004601Z
LAST-MODIFIED:20250916T010852Z
UID:10009031-1794751200-1794762000@maryboroughservicesclub.com.au
SUMMARY:Sunday Live Music
DESCRIPTION:Sunday Afternoon Live at Maryborough Services Club \nJoin us every Sunday afternoon from 2pm – 5pm for free live entertainment at Maryborough Services Club! \nFinish off the weekend by relaxing and enjoying great live music. \nWhy not make a day of it?\nTreat yourself to lunch or something from the café at the club. Click here to secure your table! \nSee you there!
URL:https://maryboroughservicesclub.com.au/event/sunday-live-music/2026-11-15/
LOCATION:The Services Club Maryborough\, 163-175 Lennox Street\, Maryborough\, QLD\, 4650\, Australia
CATEGORIES:All,Entertainment,Live Music
ATTACH;FMTTYPE=image/jpeg:https://maryboroughservicesclub.com.au/wp-content/uploads/2025/07/Live-Music-Sun-Event-Banner.jpg
END:VEVENT
BEGIN:VEVENT
DTSTART;TZID=Australia/Brisbane:20261120T210000
DTEND;TZID=Australia/Brisbane:20261121T010000
DTSTAMP:20260421T131427
CREATED:20250831T232723Z
LAST-MODIFIED:20251003T052306Z
UID:10013565-1795208400-1795222800@maryboroughservicesclub.com.au
SUMMARY:Friday Live Music
DESCRIPTION:Friday Night Live at Maryborough Services Club \nJoin us every Friday night from 9pm – 1am for free live entertainment at Maryborough Services Club! \nKick off your weekend the right way! Come along to dance\, relax\, and enjoy a great night out with friends. \nWhy not make a night of it?\nTreat yourself to a delicious dinner beforehand. Click here to secure your table! \nSee you there!
URL:https://maryboroughservicesclub.com.au/event/friday-live-music-10/2026-11-20/
LOCATION:The Services Club Maryborough\, 163-175 Lennox Street\, Maryborough\, QLD\, 4650\, Australia
CATEGORIES:All,Entertainment,Live Music
ATTACH;FMTTYPE=image/jpeg:https://maryboroughservicesclub.com.au/wp-content/uploads/2025/07/Live-Music-Fri-Sat-Event-Banner.jpg
END:VEVENT
BEGIN:VEVENT
DTSTART;TZID=Australia/Brisbane:20261121T200000
DTEND;TZID=Australia/Brisbane:20261122T000000
DTSTAMP:20260421T131427
CREATED:20250715T004010Z
LAST-MODIFIED:20251003T051545Z
UID:10008771-1795291200-1795305600@maryboroughservicesclub.com.au
SUMMARY:Saturday Live Music
DESCRIPTION:Saturday Night Live at Maryborough Services Club \nJoin us every Saturday night from 8pm – 12am for free live entertainment at Maryborough Services Club! \nEnjoy the weekend & come along to dance\, relax\, and enjoy a great night out with friends. \nWhy not make a night of it?\nTreat yourself to a delicious dinner beforehand. Click here to secure your table! \nSee you there!
URL:https://maryboroughservicesclub.com.au/event/saturday-live-music-12/2026-11-21/
LOCATION:The Services Club Maryborough\, 163-175 Lennox Street\, Maryborough\, QLD\, 4650\, Australia
CATEGORIES:All,Entertainment,Live Music
ATTACH;FMTTYPE=image/jpeg:https://maryboroughservicesclub.com.au/wp-content/uploads/2025/07/Live-Music-Fri-Sat-Event-Banner.jpg
END:VEVENT
BEGIN:VEVENT
DTSTART;TZID=Australia/Brisbane:20261122T140000
DTEND;TZID=Australia/Brisbane:20261122T170000
DTSTAMP:20260421T131427
CREATED:20250715T004601Z
LAST-MODIFIED:20250916T010852Z
UID:10009032-1795356000-1795366800@maryboroughservicesclub.com.au
SUMMARY:Sunday Live Music
DESCRIPTION:Sunday Afternoon Live at Maryborough Services Club \nJoin us every Sunday afternoon from 2pm – 5pm for free live entertainment at Maryborough Services Club! \nFinish off the weekend by relaxing and enjoying great live music. \nWhy not make a day of it?\nTreat yourself to lunch or something from the café at the club. Click here to secure your table! \nSee you there!
URL:https://maryboroughservicesclub.com.au/event/sunday-live-music/2026-11-22/
LOCATION:The Services Club Maryborough\, 163-175 Lennox Street\, Maryborough\, QLD\, 4650\, Australia
CATEGORIES:All,Entertainment,Live Music
ATTACH;FMTTYPE=image/jpeg:https://maryboroughservicesclub.com.au/wp-content/uploads/2025/07/Live-Music-Sun-Event-Banner.jpg
END:VEVENT
BEGIN:VEVENT
DTSTART;TZID=Australia/Brisbane:20261127T210000
DTEND;TZID=Australia/Brisbane:20261128T010000
DTSTAMP:20260421T131427
CREATED:20250831T232723Z
LAST-MODIFIED:20251003T052306Z
UID:10013566-1795813200-1795827600@maryboroughservicesclub.com.au
SUMMARY:Friday Live Music
DESCRIPTION:Friday Night Live at Maryborough Services Club \nJoin us every Friday night from 9pm – 1am for free live entertainment at Maryborough Services Club! \nKick off your weekend the right way! Come along to dance\, relax\, and enjoy a great night out with friends. \nWhy not make a night of it?\nTreat yourself to a delicious dinner beforehand. Click here to secure your table! \nSee you there!
URL:https://maryboroughservicesclub.com.au/event/friday-live-music-10/2026-11-27/
LOCATION:The Services Club Maryborough\, 163-175 Lennox Street\, Maryborough\, QLD\, 4650\, Australia
CATEGORIES:All,Entertainment,Live Music
ATTACH;FMTTYPE=image/jpeg:https://maryboroughservicesclub.com.au/wp-content/uploads/2025/07/Live-Music-Fri-Sat-Event-Banner.jpg
END:VEVENT
BEGIN:VEVENT
DTSTART;TZID=Australia/Brisbane:20261128T200000
DTEND;TZID=Australia/Brisbane:20261129T000000
DTSTAMP:20260421T131427
CREATED:20250715T004010Z
LAST-MODIFIED:20251003T051545Z
UID:10008772-1795896000-1795910400@maryboroughservicesclub.com.au
SUMMARY:Saturday Live Music
DESCRIPTION:Saturday Night Live at Maryborough Services Club \nJoin us every Saturday night from 8pm – 12am for free live entertainment at Maryborough Services Club! \nEnjoy the weekend & come along to dance\, relax\, and enjoy a great night out with friends. \nWhy not make a night of it?\nTreat yourself to a delicious dinner beforehand. Click here to secure your table! \nSee you there!
URL:https://maryboroughservicesclub.com.au/event/saturday-live-music-12/2026-11-28/
LOCATION:The Services Club Maryborough\, 163-175 Lennox Street\, Maryborough\, QLD\, 4650\, Australia
CATEGORIES:All,Entertainment,Live Music
ATTACH;FMTTYPE=image/jpeg:https://maryboroughservicesclub.com.au/wp-content/uploads/2025/07/Live-Music-Fri-Sat-Event-Banner.jpg
END:VEVENT
BEGIN:VEVENT
DTSTART;TZID=Australia/Brisbane:20261129T140000
DTEND;TZID=Australia/Brisbane:20261129T170000
DTSTAMP:20260421T131427
CREATED:20250715T004601Z
LAST-MODIFIED:20250916T010852Z
UID:10009033-1795960800-1795971600@maryboroughservicesclub.com.au
SUMMARY:Sunday Live Music
DESCRIPTION:Sunday Afternoon Live at Maryborough Services Club \nJoin us every Sunday afternoon from 2pm – 5pm for free live entertainment at Maryborough Services Club! \nFinish off the weekend by relaxing and enjoying great live music. \nWhy not make a day of it?\nTreat yourself to lunch or something from the café at the club. Click here to secure your table! \nSee you there!
URL:https://maryboroughservicesclub.com.au/event/sunday-live-music/2026-11-29/
LOCATION:The Services Club Maryborough\, 163-175 Lennox Street\, Maryborough\, QLD\, 4650\, Australia
CATEGORIES:All,Entertainment,Live Music
ATTACH;FMTTYPE=image/jpeg:https://maryboroughservicesclub.com.au/wp-content/uploads/2025/07/Live-Music-Sun-Event-Banner.jpg
END:VEVENT
END:VCALENDAR