BEGIN:VCALENDAR
VERSION:2.0
PRODID:-//Maryborough Services Club - ECPv6.15.17//NONSGML v1.0//EN
CALSCALE:GREGORIAN
METHOD:PUBLISH
X-WR-CALNAME:Maryborough Services Club
X-ORIGINAL-URL:https://maryboroughservicesclub.com.au
X-WR-CALDESC:Events for Maryborough Services Club
REFRESH-INTERVAL;VALUE=DURATION:PT1H
X-Robots-Tag:noindex
X-PUBLISHED-TTL:PT1H
BEGIN:VTIMEZONE
TZID:Australia/Brisbane
BEGIN:STANDARD
TZOFFSETFROM:+1000
TZOFFSETTO:+1000
TZNAME:AEST
DTSTART:20260101T000000
END:STANDARD
END:VTIMEZONE
BEGIN:VEVENT
DTSTART;TZID=Australia/Brisbane:20270101T210000
DTEND;TZID=Australia/Brisbane:20270102T010000
DTSTAMP:20260421T203804
CREATED:20250831T232723Z
LAST-MODIFIED:20251003T052306Z
UID:10013571-1798837200-1798851600@maryboroughservicesclub.com.au
SUMMARY:Friday Live Music
DESCRIPTION:Friday Night Live at Maryborough Services Club \nJoin us every Friday night from 9pm – 1am for free live entertainment at Maryborough Services Club! \nKick off your weekend the right way! Come along to dance\, relax\, and enjoy a great night out with friends. \nWhy not make a night of it?\nTreat yourself to a delicious dinner beforehand. Click here to secure your table! \nSee you there!
URL:https://maryboroughservicesclub.com.au/event/friday-live-music-10/2027-01-01/
LOCATION:The Services Club Maryborough\, 163-175 Lennox Street\, Maryborough\, QLD\, 4650\, Australia
CATEGORIES:All,Entertainment,Live Music
ATTACH;FMTTYPE=image/jpeg:https://maryboroughservicesclub.com.au/wp-content/uploads/2025/07/Live-Music-Fri-Sat-Event-Banner.jpg
END:VEVENT
BEGIN:VEVENT
DTSTART;TZID=Australia/Brisbane:20270102T200000
DTEND;TZID=Australia/Brisbane:20270103T000000
DTSTAMP:20260421T203804
CREATED:20250715T004010Z
LAST-MODIFIED:20251003T051545Z
UID:10008777-1798920000-1798934400@maryboroughservicesclub.com.au
SUMMARY:Saturday Live Music
DESCRIPTION:Saturday Night Live at Maryborough Services Club \nJoin us every Saturday night from 8pm – 12am for free live entertainment at Maryborough Services Club! \nEnjoy the weekend & come along to dance\, relax\, and enjoy a great night out with friends. \nWhy not make a night of it?\nTreat yourself to a delicious dinner beforehand. Click here to secure your table! \nSee you there!
URL:https://maryboroughservicesclub.com.au/event/saturday-live-music-12/2027-01-02/
LOCATION:The Services Club Maryborough\, 163-175 Lennox Street\, Maryborough\, QLD\, 4650\, Australia
CATEGORIES:All,Entertainment,Live Music
ATTACH;FMTTYPE=image/jpeg:https://maryboroughservicesclub.com.au/wp-content/uploads/2025/07/Live-Music-Fri-Sat-Event-Banner.jpg
END:VEVENT
BEGIN:VEVENT
DTSTART;TZID=Australia/Brisbane:20270103T140000
DTEND;TZID=Australia/Brisbane:20270103T170000
DTSTAMP:20260421T203804
CREATED:20250715T004601Z
LAST-MODIFIED:20250916T010852Z
UID:10009038-1798984800-1798995600@maryboroughservicesclub.com.au
SUMMARY:Sunday Live Music
DESCRIPTION:Sunday Afternoon Live at Maryborough Services Club \nJoin us every Sunday afternoon from 2pm – 5pm for free live entertainment at Maryborough Services Club! \nFinish off the weekend by relaxing and enjoying great live music. \nWhy not make a day of it?\nTreat yourself to lunch or something from the café at the club. Click here to secure your table! \nSee you there!
URL:https://maryboroughservicesclub.com.au/event/sunday-live-music/2027-01-03/
LOCATION:The Services Club Maryborough\, 163-175 Lennox Street\, Maryborough\, QLD\, 4650\, Australia
CATEGORIES:All,Entertainment,Live Music
ATTACH;FMTTYPE=image/jpeg:https://maryboroughservicesclub.com.au/wp-content/uploads/2025/07/Live-Music-Sun-Event-Banner.jpg
END:VEVENT
BEGIN:VEVENT
DTSTART;TZID=Australia/Brisbane:20270108T210000
DTEND;TZID=Australia/Brisbane:20270109T010000
DTSTAMP:20260421T203804
CREATED:20250831T232723Z
LAST-MODIFIED:20251003T052306Z
UID:10013572-1799442000-1799456400@maryboroughservicesclub.com.au
SUMMARY:Friday Live Music
DESCRIPTION:Friday Night Live at Maryborough Services Club \nJoin us every Friday night from 9pm – 1am for free live entertainment at Maryborough Services Club! \nKick off your weekend the right way! Come along to dance\, relax\, and enjoy a great night out with friends. \nWhy not make a night of it?\nTreat yourself to a delicious dinner beforehand. Click here to secure your table! \nSee you there!
URL:https://maryboroughservicesclub.com.au/event/friday-live-music-10/2027-01-08/
LOCATION:The Services Club Maryborough\, 163-175 Lennox Street\, Maryborough\, QLD\, 4650\, Australia
CATEGORIES:All,Entertainment,Live Music
ATTACH;FMTTYPE=image/jpeg:https://maryboroughservicesclub.com.au/wp-content/uploads/2025/07/Live-Music-Fri-Sat-Event-Banner.jpg
END:VEVENT
BEGIN:VEVENT
DTSTART;TZID=Australia/Brisbane:20270109T200000
DTEND;TZID=Australia/Brisbane:20270110T000000
DTSTAMP:20260421T203804
CREATED:20250715T004010Z
LAST-MODIFIED:20251003T051545Z
UID:10008778-1799524800-1799539200@maryboroughservicesclub.com.au
SUMMARY:Saturday Live Music
DESCRIPTION:Saturday Night Live at Maryborough Services Club \nJoin us every Saturday night from 8pm – 12am for free live entertainment at Maryborough Services Club! \nEnjoy the weekend & come along to dance\, relax\, and enjoy a great night out with friends. \nWhy not make a night of it?\nTreat yourself to a delicious dinner beforehand. Click here to secure your table! \nSee you there!
URL:https://maryboroughservicesclub.com.au/event/saturday-live-music-12/2027-01-09/
LOCATION:The Services Club Maryborough\, 163-175 Lennox Street\, Maryborough\, QLD\, 4650\, Australia
CATEGORIES:All,Entertainment,Live Music
ATTACH;FMTTYPE=image/jpeg:https://maryboroughservicesclub.com.au/wp-content/uploads/2025/07/Live-Music-Fri-Sat-Event-Banner.jpg
END:VEVENT
BEGIN:VEVENT
DTSTART;TZID=Australia/Brisbane:20270110T140000
DTEND;TZID=Australia/Brisbane:20270110T170000
DTSTAMP:20260421T203804
CREATED:20250715T004601Z
LAST-MODIFIED:20250916T010852Z
UID:10009039-1799589600-1799600400@maryboroughservicesclub.com.au
SUMMARY:Sunday Live Music
DESCRIPTION:Sunday Afternoon Live at Maryborough Services Club \nJoin us every Sunday afternoon from 2pm – 5pm for free live entertainment at Maryborough Services Club! \nFinish off the weekend by relaxing and enjoying great live music. \nWhy not make a day of it?\nTreat yourself to lunch or something from the café at the club. Click here to secure your table! \nSee you there!
URL:https://maryboroughservicesclub.com.au/event/sunday-live-music/2027-01-10/
LOCATION:The Services Club Maryborough\, 163-175 Lennox Street\, Maryborough\, QLD\, 4650\, Australia
CATEGORIES:All,Entertainment,Live Music
ATTACH;FMTTYPE=image/jpeg:https://maryboroughservicesclub.com.au/wp-content/uploads/2025/07/Live-Music-Sun-Event-Banner.jpg
END:VEVENT
BEGIN:VEVENT
DTSTART;TZID=Australia/Brisbane:20270115T210000
DTEND;TZID=Australia/Brisbane:20270116T010000
DTSTAMP:20260421T203804
CREATED:20250831T232723Z
LAST-MODIFIED:20251003T052306Z
UID:10013573-1800046800-1800061200@maryboroughservicesclub.com.au
SUMMARY:Friday Live Music
DESCRIPTION:Friday Night Live at Maryborough Services Club \nJoin us every Friday night from 9pm – 1am for free live entertainment at Maryborough Services Club! \nKick off your weekend the right way! Come along to dance\, relax\, and enjoy a great night out with friends. \nWhy not make a night of it?\nTreat yourself to a delicious dinner beforehand. Click here to secure your table! \nSee you there!
URL:https://maryboroughservicesclub.com.au/event/friday-live-music-10/2027-01-15/
LOCATION:The Services Club Maryborough\, 163-175 Lennox Street\, Maryborough\, QLD\, 4650\, Australia
CATEGORIES:All,Entertainment,Live Music
ATTACH;FMTTYPE=image/jpeg:https://maryboroughservicesclub.com.au/wp-content/uploads/2025/07/Live-Music-Fri-Sat-Event-Banner.jpg
END:VEVENT
BEGIN:VEVENT
DTSTART;TZID=Australia/Brisbane:20270116T200000
DTEND;TZID=Australia/Brisbane:20270117T000000
DTSTAMP:20260421T203804
CREATED:20250715T004010Z
LAST-MODIFIED:20251003T051545Z
UID:10008779-1800129600-1800144000@maryboroughservicesclub.com.au
SUMMARY:Saturday Live Music
DESCRIPTION:Saturday Night Live at Maryborough Services Club \nJoin us every Saturday night from 8pm – 12am for free live entertainment at Maryborough Services Club! \nEnjoy the weekend & come along to dance\, relax\, and enjoy a great night out with friends. \nWhy not make a night of it?\nTreat yourself to a delicious dinner beforehand. Click here to secure your table! \nSee you there!
URL:https://maryboroughservicesclub.com.au/event/saturday-live-music-12/2027-01-16/
LOCATION:The Services Club Maryborough\, 163-175 Lennox Street\, Maryborough\, QLD\, 4650\, Australia
CATEGORIES:All,Entertainment,Live Music
ATTACH;FMTTYPE=image/jpeg:https://maryboroughservicesclub.com.au/wp-content/uploads/2025/07/Live-Music-Fri-Sat-Event-Banner.jpg
END:VEVENT
BEGIN:VEVENT
DTSTART;TZID=Australia/Brisbane:20270117T140000
DTEND;TZID=Australia/Brisbane:20270117T170000
DTSTAMP:20260421T203804
CREATED:20250715T004601Z
LAST-MODIFIED:20250916T010852Z
UID:10009040-1800194400-1800205200@maryboroughservicesclub.com.au
SUMMARY:Sunday Live Music
DESCRIPTION:Sunday Afternoon Live at Maryborough Services Club \nJoin us every Sunday afternoon from 2pm – 5pm for free live entertainment at Maryborough Services Club! \nFinish off the weekend by relaxing and enjoying great live music. \nWhy not make a day of it?\nTreat yourself to lunch or something from the café at the club. Click here to secure your table! \nSee you there!
URL:https://maryboroughservicesclub.com.au/event/sunday-live-music/2027-01-17/
LOCATION:The Services Club Maryborough\, 163-175 Lennox Street\, Maryborough\, QLD\, 4650\, Australia
CATEGORIES:All,Entertainment,Live Music
ATTACH;FMTTYPE=image/jpeg:https://maryboroughservicesclub.com.au/wp-content/uploads/2025/07/Live-Music-Sun-Event-Banner.jpg
END:VEVENT
BEGIN:VEVENT
DTSTART;TZID=Australia/Brisbane:20270122T210000
DTEND;TZID=Australia/Brisbane:20270123T010000
DTSTAMP:20260421T203804
CREATED:20250831T232723Z
LAST-MODIFIED:20251003T052306Z
UID:10013574-1800651600-1800666000@maryboroughservicesclub.com.au
SUMMARY:Friday Live Music
DESCRIPTION:Friday Night Live at Maryborough Services Club \nJoin us every Friday night from 9pm – 1am for free live entertainment at Maryborough Services Club! \nKick off your weekend the right way! Come along to dance\, relax\, and enjoy a great night out with friends. \nWhy not make a night of it?\nTreat yourself to a delicious dinner beforehand. Click here to secure your table! \nSee you there!
URL:https://maryboroughservicesclub.com.au/event/friday-live-music-10/2027-01-22/
LOCATION:The Services Club Maryborough\, 163-175 Lennox Street\, Maryborough\, QLD\, 4650\, Australia
CATEGORIES:All,Entertainment,Live Music
ATTACH;FMTTYPE=image/jpeg:https://maryboroughservicesclub.com.au/wp-content/uploads/2025/07/Live-Music-Fri-Sat-Event-Banner.jpg
END:VEVENT
BEGIN:VEVENT
DTSTART;TZID=Australia/Brisbane:20270123T200000
DTEND;TZID=Australia/Brisbane:20270124T000000
DTSTAMP:20260421T203804
CREATED:20250715T004010Z
LAST-MODIFIED:20251003T051545Z
UID:10008780-1800734400-1800748800@maryboroughservicesclub.com.au
SUMMARY:Saturday Live Music
DESCRIPTION:Saturday Night Live at Maryborough Services Club \nJoin us every Saturday night from 8pm – 12am for free live entertainment at Maryborough Services Club! \nEnjoy the weekend & come along to dance\, relax\, and enjoy a great night out with friends. \nWhy not make a night of it?\nTreat yourself to a delicious dinner beforehand. Click here to secure your table! \nSee you there!
URL:https://maryboroughservicesclub.com.au/event/saturday-live-music-12/2027-01-23/
LOCATION:The Services Club Maryborough\, 163-175 Lennox Street\, Maryborough\, QLD\, 4650\, Australia
CATEGORIES:All,Entertainment,Live Music
ATTACH;FMTTYPE=image/jpeg:https://maryboroughservicesclub.com.au/wp-content/uploads/2025/07/Live-Music-Fri-Sat-Event-Banner.jpg
END:VEVENT
BEGIN:VEVENT
DTSTART;TZID=Australia/Brisbane:20270124T140000
DTEND;TZID=Australia/Brisbane:20270124T170000
DTSTAMP:20260421T203804
CREATED:20250715T004601Z
LAST-MODIFIED:20250916T010852Z
UID:10009041-1800799200-1800810000@maryboroughservicesclub.com.au
SUMMARY:Sunday Live Music
DESCRIPTION:Sunday Afternoon Live at Maryborough Services Club \nJoin us every Sunday afternoon from 2pm – 5pm for free live entertainment at Maryborough Services Club! \nFinish off the weekend by relaxing and enjoying great live music. \nWhy not make a day of it?\nTreat yourself to lunch or something from the café at the club. Click here to secure your table! \nSee you there!
URL:https://maryboroughservicesclub.com.au/event/sunday-live-music/2027-01-24/
LOCATION:The Services Club Maryborough\, 163-175 Lennox Street\, Maryborough\, QLD\, 4650\, Australia
CATEGORIES:All,Entertainment,Live Music
ATTACH;FMTTYPE=image/jpeg:https://maryboroughservicesclub.com.au/wp-content/uploads/2025/07/Live-Music-Sun-Event-Banner.jpg
END:VEVENT
BEGIN:VEVENT
DTSTART;TZID=Australia/Brisbane:20270129T210000
DTEND;TZID=Australia/Brisbane:20270130T010000
DTSTAMP:20260421T203804
CREATED:20250831T232723Z
LAST-MODIFIED:20251003T052306Z
UID:10013575-1801256400-1801270800@maryboroughservicesclub.com.au
SUMMARY:Friday Live Music
DESCRIPTION:Friday Night Live at Maryborough Services Club \nJoin us every Friday night from 9pm – 1am for free live entertainment at Maryborough Services Club! \nKick off your weekend the right way! Come along to dance\, relax\, and enjoy a great night out with friends. \nWhy not make a night of it?\nTreat yourself to a delicious dinner beforehand. Click here to secure your table! \nSee you there!
URL:https://maryboroughservicesclub.com.au/event/friday-live-music-10/2027-01-29/
LOCATION:The Services Club Maryborough\, 163-175 Lennox Street\, Maryborough\, QLD\, 4650\, Australia
CATEGORIES:All,Entertainment,Live Music
ATTACH;FMTTYPE=image/jpeg:https://maryboroughservicesclub.com.au/wp-content/uploads/2025/07/Live-Music-Fri-Sat-Event-Banner.jpg
END:VEVENT
BEGIN:VEVENT
DTSTART;TZID=Australia/Brisbane:20270130T200000
DTEND;TZID=Australia/Brisbane:20270131T000000
DTSTAMP:20260421T203804
CREATED:20250715T004010Z
LAST-MODIFIED:20251003T051545Z
UID:10008781-1801339200-1801353600@maryboroughservicesclub.com.au
SUMMARY:Saturday Live Music
DESCRIPTION:Saturday Night Live at Maryborough Services Club \nJoin us every Saturday night from 8pm – 12am for free live entertainment at Maryborough Services Club! \nEnjoy the weekend & come along to dance\, relax\, and enjoy a great night out with friends. \nWhy not make a night of it?\nTreat yourself to a delicious dinner beforehand. Click here to secure your table! \nSee you there!
URL:https://maryboroughservicesclub.com.au/event/saturday-live-music-12/2027-01-30/
LOCATION:The Services Club Maryborough\, 163-175 Lennox Street\, Maryborough\, QLD\, 4650\, Australia
CATEGORIES:All,Entertainment,Live Music
ATTACH;FMTTYPE=image/jpeg:https://maryboroughservicesclub.com.au/wp-content/uploads/2025/07/Live-Music-Fri-Sat-Event-Banner.jpg
END:VEVENT
BEGIN:VEVENT
DTSTART;TZID=Australia/Brisbane:20270131T140000
DTEND;TZID=Australia/Brisbane:20270131T170000
DTSTAMP:20260421T203804
CREATED:20250715T004601Z
LAST-MODIFIED:20250916T010852Z
UID:10009042-1801404000-1801414800@maryboroughservicesclub.com.au
SUMMARY:Sunday Live Music
DESCRIPTION:Sunday Afternoon Live at Maryborough Services Club \nJoin us every Sunday afternoon from 2pm – 5pm for free live entertainment at Maryborough Services Club! \nFinish off the weekend by relaxing and enjoying great live music. \nWhy not make a day of it?\nTreat yourself to lunch or something from the café at the club. Click here to secure your table! \nSee you there!
URL:https://maryboroughservicesclub.com.au/event/sunday-live-music/2027-01-31/
LOCATION:The Services Club Maryborough\, 163-175 Lennox Street\, Maryborough\, QLD\, 4650\, Australia
CATEGORIES:All,Entertainment,Live Music
ATTACH;FMTTYPE=image/jpeg:https://maryboroughservicesclub.com.au/wp-content/uploads/2025/07/Live-Music-Sun-Event-Banner.jpg
END:VEVENT
END:VCALENDAR