BEGIN:VCALENDAR
VERSION:2.0
PRODID:-//Maryborough Services Club - ECPv6.15.17//NONSGML v1.0//EN
CALSCALE:GREGORIAN
METHOD:PUBLISH
X-WR-CALNAME:Maryborough Services Club
X-ORIGINAL-URL:https://maryboroughservicesclub.com.au
X-WR-CALDESC:Events for Maryborough Services Club
REFRESH-INTERVAL;VALUE=DURATION:PT1H
X-Robots-Tag:noindex
X-PUBLISHED-TTL:PT1H
BEGIN:VTIMEZONE
TZID:Australia/Brisbane
BEGIN:STANDARD
TZOFFSETFROM:+1000
TZOFFSETTO:+1000
TZNAME:AEST
DTSTART:20240101T000000
END:STANDARD
END:VTIMEZONE
BEGIN:VEVENT
DTSTART;TZID=Australia/Brisbane:20251104T110000
DTEND;TZID=Australia/Brisbane:20251104T170000
DTSTAMP:20260421T052521
CREATED:20250915T040032Z
LAST-MODIFIED:20250929T001804Z
UID:10013796-1762254000-1762275600@maryboroughservicesclub.com.au
SUMMARY:Melbourne Cup Luncheon
DESCRIPTION:Join us at Maryborough Services Club for our Melbourne Cup Luncheon on Tuesday 4th November from 11am! \nJoin us for a stylish afternoon to celebrate the race that stops the nation. Enjoy an unforgettable Melbourne Cup Luncheon featuring incredible food\, live entertainment\, and all the excitement of the big race. \nWhat’s included: \n\nChef-curated alternate drop plated lunch\nIndulgent grazing dessert table\nLive music by Girl Friday\, bringing the vibes all afternoon\nThe big race live on the big screen\nTAB facilities available on-site\nPrizes for Best Dressed – dress to impress\nSweepstakes\, fun and a fabulous atmosphere\n\nGrab your fascinators\, florals\, and finest race day fashion – this is one event you don’t want to miss. \n$69 per person – limited spots available.
URL:https://maryboroughservicesclub.com.au/event/melbourne-cup-luncheon/
LOCATION:The Services Club Maryborough\, 163-175 Lennox Street\, Maryborough\, QLD\, 4650\, Australia
CATEGORIES:All,Entertainment,Meal Specials,Special Events
END:VEVENT
BEGIN:VEVENT
DTSTART;VALUE=DATE:20251128
DTEND;VALUE=DATE:20251217
DTSTAMP:20260421T052521
CREATED:20251128T005159Z
LAST-MODIFIED:20251128T005159Z
UID:10016288-1764288000-1765929599@maryboroughservicesclub.com.au
SUMMARY:Members Christmas Hampers
DESCRIPTION:We have 10 x $200 Christmas Hampers to give away through our kiosk! \nReceive one virtual entry every day you swipe your current Services membership card at one of our kiosks! \nMembers must be present to win\, drawn Tuesday 16th December from 7pm \nTerms and Conditions apply.
URL:https://maryboroughservicesclub.com.au/event/members-christmas-hampers/
LOCATION:The Services Club Maryborough\, 163-175 Lennox Street\, Maryborough\, QLD\, 4650\, Australia
CATEGORIES:All,Promotions,Special Events
END:VEVENT
BEGIN:VEVENT
DTSTART;TZID=Australia/Brisbane:20251128T080000
DTEND;TZID=Australia/Brisbane:20251128T170000
DTSTAMP:20260421T052521
CREATED:20251128T011049Z
LAST-MODIFIED:20251128T011049Z
UID:10016573-1764316800-1764349200@maryboroughservicesclub.com.au
SUMMARY:Renew and Win
DESCRIPTION:Join or renew now for your chance to win 100\, 000 MyRewards points! \n1 x member will be drawn on Friday 2nd January 2026 at 12.30pm! \nPlus\, the winner will receive a $200 cash bonus if present for the draw! \nTerms & Conditions apply.
URL:https://maryboroughservicesclub.com.au/event/renew-and-win/
LOCATION:The Services Club Maryborough\, 163-175 Lennox Street\, Maryborough\, QLD\, 4650\, Australia
CATEGORIES:All,Promotions,Special Events
END:VEVENT
END:VCALENDAR