BEGIN:VCALENDAR
VERSION:2.0
PRODID:-//Maryborough Services Club - ECPv6.15.17//NONSGML v1.0//EN
CALSCALE:GREGORIAN
METHOD:PUBLISH
X-WR-CALNAME:Maryborough Services Club
X-ORIGINAL-URL:https://maryboroughservicesclub.com.au
X-WR-CALDESC:Events for Maryborough Services Club
REFRESH-INTERVAL;VALUE=DURATION:PT1H
X-Robots-Tag:noindex
X-PUBLISHED-TTL:PT1H
BEGIN:VTIMEZONE
TZID:Australia/Brisbane
BEGIN:STANDARD
TZOFFSETFROM:+1000
TZOFFSETTO:+1000
TZNAME:AEST
DTSTART:20240101T000000
END:STANDARD
END:VTIMEZONE
BEGIN:VEVENT
DTSTART;VALUE=DATE:20251128
DTEND;VALUE=DATE:20251217
DTSTAMP:20260421T045334
CREATED:20251128T005159Z
LAST-MODIFIED:20251128T005159Z
UID:10016288-1764288000-1765929599@maryboroughservicesclub.com.au
SUMMARY:Members Christmas Hampers
DESCRIPTION:We have 10 x $200 Christmas Hampers to give away through our kiosk! \nReceive one virtual entry every day you swipe your current Services membership card at one of our kiosks! \nMembers must be present to win\, drawn Tuesday 16th December from 7pm \nTerms and Conditions apply.
URL:https://maryboroughservicesclub.com.au/event/members-christmas-hampers/
LOCATION:The Services Club Maryborough\, 163-175 Lennox Street\, Maryborough\, QLD\, 4650\, Australia
CATEGORIES:All,Promotions,Special Events
END:VEVENT
BEGIN:VEVENT
DTSTART;TZID=Australia/Brisbane:20251201T090000
DTEND;TZID=Australia/Brisbane:20251201T190000
DTSTAMP:20260421T045334
CREATED:20251126T032623Z
LAST-MODIFIED:20251126T033519Z
UID:10014804-1764579600-1764615600@maryboroughservicesclub.com.au
SUMMARY:Ham Raffles
DESCRIPTION:Join us for our Ham Raffles! We have a total of 150 ham to be won over three nights\, 50 hams to be won each night! Tickets are on sale one day only\, raffle drawn at 7pm. Tickets are $5 for 25 numbers and winners must be present to claim their prize. \nWhy not make a night of it?\nTreat yourself to a delicious dinner beforehand. Click here to secure your table! \nSee you there!
URL:https://maryboroughservicesclub.com.au/event/ham-raffles/2025-12-01/
LOCATION:The Services Club Maryborough\, 163-175 Lennox Street\, Maryborough\, QLD\, 4650\, Australia
CATEGORIES:All,Promotions,Raffles,Special Events
ATTACH;FMTTYPE=image/jpeg:https://maryboroughservicesclub.com.au/wp-content/uploads/2025/11/Ham-Feat-Image.jpg
END:VEVENT
BEGIN:VEVENT
DTSTART;TZID=Australia/Brisbane:20251208T090000
DTEND;TZID=Australia/Brisbane:20251208T190000
DTSTAMP:20260421T045334
CREATED:20251126T032623Z
LAST-MODIFIED:20251126T033519Z
UID:10014805-1765184400-1765220400@maryboroughservicesclub.com.au
SUMMARY:Ham Raffles
DESCRIPTION:Join us for our Ham Raffles! We have a total of 150 ham to be won over three nights\, 50 hams to be won each night! Tickets are on sale one day only\, raffle drawn at 7pm. Tickets are $5 for 25 numbers and winners must be present to claim their prize. \nWhy not make a night of it?\nTreat yourself to a delicious dinner beforehand. Click here to secure your table! \nSee you there!
URL:https://maryboroughservicesclub.com.au/event/ham-raffles/2025-12-08/
LOCATION:The Services Club Maryborough\, 163-175 Lennox Street\, Maryborough\, QLD\, 4650\, Australia
CATEGORIES:All,Promotions,Raffles,Special Events
ATTACH;FMTTYPE=image/jpeg:https://maryboroughservicesclub.com.au/wp-content/uploads/2025/11/Ham-Feat-Image.jpg
END:VEVENT
BEGIN:VEVENT
DTSTART;TZID=Australia/Brisbane:20251215T090000
DTEND;TZID=Australia/Brisbane:20251215T190000
DTSTAMP:20260421T045334
CREATED:20251126T032623Z
LAST-MODIFIED:20251126T033519Z
UID:10014806-1765789200-1765825200@maryboroughservicesclub.com.au
SUMMARY:Ham Raffles
DESCRIPTION:Join us for our Ham Raffles! We have a total of 150 ham to be won over three nights\, 50 hams to be won each night! Tickets are on sale one day only\, raffle drawn at 7pm. Tickets are $5 for 25 numbers and winners must be present to claim their prize. \nWhy not make a night of it?\nTreat yourself to a delicious dinner beforehand. Click here to secure your table! \nSee you there!
URL:https://maryboroughservicesclub.com.au/event/ham-raffles/2025-12-15/
LOCATION:The Services Club Maryborough\, 163-175 Lennox Street\, Maryborough\, QLD\, 4650\, Australia
CATEGORIES:All,Promotions,Raffles,Special Events
ATTACH;FMTTYPE=image/jpeg:https://maryboroughservicesclub.com.au/wp-content/uploads/2025/11/Ham-Feat-Image.jpg
END:VEVENT
BEGIN:VEVENT
DTSTART;TZID=Australia/Brisbane:20251224T160000
DTEND;TZID=Australia/Brisbane:20251224T190000
DTSTAMP:20260421T045334
CREATED:20251126T031150Z
LAST-MODIFIED:20251126T033300Z
UID:10014803-1766592000-1766602800@maryboroughservicesclub.com.au
SUMMARY:Prawn Raffles
DESCRIPTION:Christmas Prawn Raffles \nJoin us on Christmas Eve for your chance to win Prawns! 20kg in total to be won\, 10 x 2kg bags! Tickets are on sale from 4pm\, raffle drawn at 7pm. Tickets are $5 for 25 numbers and winners must be present to claim prize. \nWhy not make a night of it?\nTreat yourself to a delicious dinner beforehand. Click here to secure your table! \nSee you there!
URL:https://maryboroughservicesclub.com.au/event/prawn-raffles/
LOCATION:The Services Club Maryborough\, 163-175 Lennox Street\, Maryborough\, QLD\, 4650\, Australia
CATEGORIES:All,Promotions,Raffles,Special Events
ATTACH;FMTTYPE=image/jpeg:https://maryboroughservicesclub.com.au/wp-content/uploads/2025/11/prawn-raffle-feat-image-custom.jpg
END:VEVENT
END:VCALENDAR