BEGIN:VCALENDAR
VERSION:2.0
PRODID:-//Maryborough Services Club - ECPv6.15.17//NONSGML v1.0//EN
CALSCALE:GREGORIAN
METHOD:PUBLISH
X-WR-CALNAME:Maryborough Services Club
X-ORIGINAL-URL:https://maryboroughservicesclub.com.au
X-WR-CALDESC:Events for Maryborough Services Club
REFRESH-INTERVAL;VALUE=DURATION:PT1H
X-Robots-Tag:noindex
X-PUBLISHED-TTL:PT1H
BEGIN:VTIMEZONE
TZID:Australia/Brisbane
BEGIN:STANDARD
TZOFFSETFROM:+1000
TZOFFSETTO:+1000
TZNAME:AEST
DTSTART:20250101T000000
END:STANDARD
END:VTIMEZONE
BEGIN:VEVENT
DTSTART;TZID=Australia/Brisbane:20260311T080000
DTEND;TZID=Australia/Brisbane:20260407T170000
DTSTAMP:20260420T213754
CREATED:20260311T002653Z
LAST-MODIFIED:20260316T043839Z
UID:10016719-1773216000-1775581200@maryboroughservicesclub.com.au
SUMMARY:Hop Into Cash
DESCRIPTION:🌼🐣 Hop Into Cash is HERE! 🐰💰We’re giving away a massive $7\,000 in cash & prizes from 23rd March – 6th April… and you’re invited to jump in on the fun! \n🍫 Easter Hampers – Sun 29th March💸 $1\,000 Cash – Thurs 2nd April💵 $2\,000 Cash – Sat 4th April💰 $3\,000 Cash – Mon 6th April \nEarn entries with every $20 gaming play\, $5 spend on food or drinks\, or by swiping at the kiosk. \nGet ready to hop\, win\, and celebrate! 🐇✨T&Cs apply. Gamble responsibly.
URL:https://maryboroughservicesclub.com.au/event/hop-into-cash/
LOCATION:The Services Club Maryborough\, 163-175 Lennox Street\, Maryborough\, QLD\, 4650\, Australia
CATEGORIES:All,Promotions,Special Events
END:VEVENT
BEGIN:VEVENT
DTSTART;TZID=Australia/Brisbane:20260313T080000
DTEND;TZID=Australia/Brisbane:20260331T190000
DTSTAMP:20260420T213754
CREATED:20260312T233041Z
LAST-MODIFIED:20260312T233041Z
UID:10017101-1773388800-1774983600@maryboroughservicesclub.com.au
SUMMARY:Easter Hampers
DESCRIPTION:Swipe and Win an Easter Hamper!! \nReceive one virtual entry everyday you swipe your current services club membership card at the kiosk. \nOver $1\,000 in total value. \n2 x $50 Hampers \n3 x $100 Hampers \n1 x $200 Hamper \n1 x $400 Hamper \nDrawn at 7pm Tuesday 31st March 2026. \nMust be here to win!
URL:https://maryboroughservicesclub.com.au/event/easter-hampers/
LOCATION:The Services Club Maryborough\, 163-175 Lennox Street\, Maryborough\, QLD\, 4650\, Australia
CATEGORIES:All,Major Promotions,Promotions,Special Events
END:VEVENT
BEGIN:VEVENT
DTSTART;TZID=Australia/Brisbane:20260327T180000
DTEND;TZID=Australia/Brisbane:20260327T220000
DTSTAMP:20260420T213754
CREATED:20260224T051333Z
LAST-MODIFIED:20260224T051459Z
UID:10016705-1774634400-1774648800@maryboroughservicesclub.com.au
SUMMARY:Bogan Bingo
DESCRIPTION:Get ready for a night of outrageous fun\, rock anthems\, and full-blown bogan brilliance! Thought you’d seen it all? Think again—Bogan Bingo is back this March with more laughs\, more prizes\, and more Aussie chaos.\n Awards on the night: Best Dressed Guy Best Dressed Girl Biggest Bogan Air Guitar Champion\n Soundtrack: Every rock anthem from the 80s and 90s\nGrab your mates\, dust off the flanno\, tease that hair\, and get ready for a night you won’t forget!\n🎟️ Tickets are ON SALE NOW at reception!\n\nCall our friendly team on (07) 4122 2321 or pop in to grab your tickets and lock in your table! 🙌 \n🔥 And seriously… get those mullets ready!Bookings are filling fast — don’t miss out on the wildest night of the year! 🤟😎 \nLet’s gooooo! 🎉✨
URL:https://maryboroughservicesclub.com.au/event/bogan-bingo/
LOCATION:The Services Club Maryborough\, 163-175 Lennox Street\, Maryborough\, QLD\, 4650\, Australia
CATEGORIES:Entertainment,Special Events
END:VEVENT
END:VCALENDAR