BEGIN:VCALENDAR
VERSION:2.0
PRODID:-//Maryborough Services Club - ECPv6.15.17//NONSGML v1.0//EN
CALSCALE:GREGORIAN
METHOD:PUBLISH
X-ORIGINAL-URL:https://maryboroughservicesclub.com.au
X-WR-CALDESC:Events for Maryborough Services Club
REFRESH-INTERVAL;VALUE=DURATION:PT1H
X-Robots-Tag:noindex
X-PUBLISHED-TTL:PT1H
BEGIN:VTIMEZONE
TZID:Australia/Brisbane
BEGIN:STANDARD
TZOFFSETFROM:+1000
TZOFFSETTO:+1000
TZNAME:AEST
DTSTART:20250101T000000
END:STANDARD
END:VTIMEZONE
BEGIN:VEVENT
DTSTART;TZID=Australia/Brisbane:20260425T064500
DTEND;TZID=Australia/Brisbane:20260425T100000
DTSTAMP:20260420T194336
CREATED:20260407T020122Z
LAST-MODIFIED:20260413T013127Z
UID:10017124-1777099500-1777111200@maryboroughservicesclub.com.au
SUMMARY:Anzac Day
DESCRIPTION:Anzac Day Gunfire Breakfast \nApril 25 2026 \n  \nServicemen and women\, immediate families\, official volunteers and cadets – our Honored Guests. \nAll other members of our community welcome $5. \nHot Buffet Breakfast 6.45AM \n  \nDawn Service \nAssemble 5.15AM Adelaide Street Entrance Maryborough Services Club. March off 5.30AM. \n  \nMain Service \nAssemble 8.15AM Adelaide Street Entrance Maryborough Services Club. March off 9.00AM. \n2up from 2.00PM \n 
URL:https://maryboroughservicesclub.com.au/event/anzac-day/
LOCATION:The Services Club Maryborough\, 163-175 Lennox Street\, Maryborough\, QLD\, 4650\, Australia
CATEGORIES:All,Special Events
ATTACH;FMTTYPE=image/png:https://maryboroughservicesclub.com.au/wp-content/uploads/2026/04/ANZAC-day-2026-960-x-400-px.png
END:VEVENT
BEGIN:VEVENT
DTSTART;TZID=Australia/Brisbane:20260510T080000
DTEND;TZID=Australia/Brisbane:20260510T103000
DTSTAMP:20260420T194336
CREATED:20260407T014232Z
LAST-MODIFIED:20260413T013233Z
UID:10017123-1778400000-1778409000@maryboroughservicesclub.com.au
SUMMARY:Mothers Day Buffet Breakfast
DESCRIPTION:Mother’s Day Breakfast \n\n\nCelebrate the most important women in our lives with a beautiful morning treat \n Hot buffet breakfast\n Fresh fruit\, Danishes & delicious pancakes\n\n\n Bookings essential – call 4122 2321\nMake Mum feel extra special this Mother’s Day
URL:https://maryboroughservicesclub.com.au/event/mothers-day-buffet-breakfast/
LOCATION:The Services Club Maryborough\, 163-175 Lennox Street\, Maryborough\, QLD\, 4650\, Australia
CATEGORIES:All,Special Events
ATTACH;FMTTYPE=image/png:https://maryboroughservicesclub.com.au/wp-content/uploads/2026/04/mothers-day-web-feat-image-.png
END:VEVENT
BEGIN:VEVENT
DTSTART;TZID=Australia/Brisbane:20260712T140000
DTEND;TZID=Australia/Brisbane:20260712T160000
DTSTAMP:20260420T194336
CREATED:20260417T042952Z
LAST-MODIFIED:20260417T043258Z
UID:10017192-1783864800-1783872000@maryboroughservicesclub.com.au
SUMMARY:Geed Up
DESCRIPTION:Geed up and ready to go! 🔥 Free show for the community ! \nJoin us for another massive night with #Theworstshoweva — the boys are back and bringing the energy! Expect a show that’ll have mum dancing\, the kids cheering\, and dad tapping his toes all show long. \nDon’t miss it 👊🎶
URL:https://maryboroughservicesclub.com.au/event/18419/
LOCATION:The Services Club Maryborough\, 163-175 Lennox Street\, Maryborough\, QLD\, 4650\, Australia
CATEGORIES:All,Entertainment,Live Music,Special Events
ATTACH;FMTTYPE=image/png:https://maryboroughservicesclub.com.au/wp-content/uploads/2026/04/Geed-Upweb-feat-image-.png
END:VEVENT
END:VCALENDAR