BEGIN:VCALENDAR
VERSION:2.0
PRODID:-//Maryborough Services Club - ECPv6.15.17//NONSGML v1.0//EN
CALSCALE:GREGORIAN
METHOD:PUBLISH
X-ORIGINAL-URL:https://maryboroughservicesclub.com.au
X-WR-CALDESC:Events for Maryborough Services Club
REFRESH-INTERVAL;VALUE=DURATION:PT1H
X-Robots-Tag:noindex
X-PUBLISHED-TTL:PT1H
BEGIN:VTIMEZONE
TZID:Australia/Brisbane
BEGIN:STANDARD
TZOFFSETFROM:+1000
TZOFFSETTO:+1000
TZNAME:AEST
DTSTART:20240101T000000
END:STANDARD
END:VTIMEZONE
BEGIN:VEVENT
DTSTART;TZID=Australia/Brisbane:20251229T140000
DTEND;TZID=Australia/Brisbane:20260322T163000
DTSTAMP:20260421T213330
CREATED:20251218T052930Z
LAST-MODIFIED:20251218T052941Z
UID:10001378-1767016800-1774197000@maryboroughservicesclub.com.au
SUMMARY:Boatload of Cash
DESCRIPTION:Join us every Sunday for our Boatload of Cash major promotion at Maryborough Services Club! \nEach week\, 5x members will share in $1\,250 CASH! Plus\, mark your calendars for the 22nd March as we’ll be giving away a Quintrex 390 Outback Explorer Boat! \nDraws are on every Sunday from 2pm. \nEarn entries every day with every $20 gaming play\, $5 spend on food & beverage and one kiosk swipe per day. \nTerms and conditions apply. Gamble responsibly.
URL:https://maryboroughservicesclub.com.au/event/20k-money-mountain-2/
LOCATION:The Services Club Maryborough\, 163-175 Lennox Street\, Maryborough\, QLD\, 4650\, Australia
CATEGORIES:All,Major Promotions,Promotions
END:VEVENT
BEGIN:VEVENT
DTSTART;TZID=Australia/Brisbane:20260311T180000
DTEND;TZID=Australia/Brisbane:20280602T220000
DTSTAMP:20260421T213330
CREATED:20260312T054757Z
LAST-MODIFIED:20260407T010242Z
UID:10016722-1773252000-1843596000@maryboroughservicesclub.com.au
SUMMARY:Super Draw Wednesday!
DESCRIPTION:Join us every Wednesday for our Live Streamed Super Draw major promotion at Maryborough Services Club! \nEach week\, members will have 2 chances to win thousands! \nDraws are on every Wednesday 6.30pm and 7.15pm. \nEarn entries just by swiping your current members card and being here Wednesday evenings for the draws. \nTerms and conditions apply.
URL:https://maryboroughservicesclub.com.au/event/super-draw-wednesday/2026-03-11/
LOCATION:The Services Club Maryborough\, 163-175 Lennox Street\, Maryborough\, QLD\, 4650\, Australia
CATEGORIES:All,Major Promotions,Promotions,Weekly Promotions
ATTACH;FMTTYPE=image/jpeg:https://maryboroughservicesclub.com.au/wp-content/uploads/2026/03/Superdraw.jpg
END:VEVENT
BEGIN:VEVENT
DTSTART;TZID=Australia/Brisbane:20260313T080000
DTEND;TZID=Australia/Brisbane:20260331T190000
DTSTAMP:20260421T213330
CREATED:20260312T233041Z
LAST-MODIFIED:20260312T233041Z
UID:10017101-1773388800-1774983600@maryboroughservicesclub.com.au
SUMMARY:Easter Hampers
DESCRIPTION:Swipe and Win an Easter Hamper!! \nReceive one virtual entry everyday you swipe your current services club membership card at the kiosk. \nOver $1\,000 in total value. \n2 x $50 Hampers \n3 x $100 Hampers \n1 x $200 Hamper \n1 x $400 Hamper \nDrawn at 7pm Tuesday 31st March 2026. \nMust be here to win!
URL:https://maryboroughservicesclub.com.au/event/easter-hampers/
LOCATION:The Services Club Maryborough\, 163-175 Lennox Street\, Maryborough\, QLD\, 4650\, Australia
CATEGORIES:All,Major Promotions,Promotions,Special Events
END:VEVENT
BEGIN:VEVENT
DTSTART;TZID=Australia/Brisbane:20260318T180000
DTEND;TZID=Australia/Brisbane:20280609T220000
DTSTAMP:20260421T213330
CREATED:20260312T054757Z
LAST-MODIFIED:20260407T010242Z
UID:10016723-1773856800-1844200800@maryboroughservicesclub.com.au
SUMMARY:Super Draw Wednesday!
DESCRIPTION:Join us every Wednesday for our Live Streamed Super Draw major promotion at Maryborough Services Club! \nEach week\, members will have 2 chances to win thousands! \nDraws are on every Wednesday 6.30pm and 7.15pm. \nEarn entries just by swiping your current members card and being here Wednesday evenings for the draws. \nTerms and conditions apply.
URL:https://maryboroughservicesclub.com.au/event/super-draw-wednesday/2026-03-18/
LOCATION:The Services Club Maryborough\, 163-175 Lennox Street\, Maryborough\, QLD\, 4650\, Australia
CATEGORIES:All,Major Promotions,Promotions,Weekly Promotions
ATTACH;FMTTYPE=image/jpeg:https://maryboroughservicesclub.com.au/wp-content/uploads/2026/03/Superdraw.jpg
END:VEVENT
BEGIN:VEVENT
DTSTART;TZID=Australia/Brisbane:20260325T180000
DTEND;TZID=Australia/Brisbane:20280616T220000
DTSTAMP:20260421T213330
CREATED:20260312T054757Z
LAST-MODIFIED:20260407T010242Z
UID:10016724-1774461600-1844805600@maryboroughservicesclub.com.au
SUMMARY:Super Draw Wednesday!
DESCRIPTION:Join us every Wednesday for our Live Streamed Super Draw major promotion at Maryborough Services Club! \nEach week\, members will have 2 chances to win thousands! \nDraws are on every Wednesday 6.30pm and 7.15pm. \nEarn entries just by swiping your current members card and being here Wednesday evenings for the draws. \nTerms and conditions apply.
URL:https://maryboroughservicesclub.com.au/event/super-draw-wednesday/2026-03-25/
LOCATION:The Services Club Maryborough\, 163-175 Lennox Street\, Maryborough\, QLD\, 4650\, Australia
CATEGORIES:All,Major Promotions,Promotions,Weekly Promotions
ATTACH;FMTTYPE=image/jpeg:https://maryboroughservicesclub.com.au/wp-content/uploads/2026/03/Superdraw.jpg
END:VEVENT
END:VCALENDAR