BEGIN:VCALENDAR
VERSION:2.0
PRODID:-//Maryborough Services Club - ECPv6.15.17//NONSGML v1.0//EN
CALSCALE:GREGORIAN
METHOD:PUBLISH
X-WR-CALNAME:Maryborough Services Club
X-ORIGINAL-URL:https://maryboroughservicesclub.com.au
X-WR-CALDESC:Events for Maryborough Services Club
REFRESH-INTERVAL;VALUE=DURATION:PT1H
X-Robots-Tag:noindex
X-PUBLISHED-TTL:PT1H
BEGIN:VTIMEZONE
TZID:Australia/Brisbane
BEGIN:STANDARD
TZOFFSETFROM:+1000
TZOFFSETTO:+1000
TZNAME:AEST
DTSTART:20240101T000000
END:STANDARD
END:VTIMEZONE
BEGIN:VEVENT
DTSTART;TZID=Australia/Brisbane:20260313T080000
DTEND;TZID=Australia/Brisbane:20260331T190000
DTSTAMP:20260423T181720
CREATED:20260312T233041Z
LAST-MODIFIED:20260312T233041Z
UID:10017101-1773388800-1774983600@maryboroughservicesclub.com.au
SUMMARY:Easter Hampers
DESCRIPTION:Swipe and Win an Easter Hamper!! \nReceive one virtual entry everyday you swipe your current services club membership card at the kiosk. \nOver $1\,000 in total value. \n2 x $50 Hampers \n3 x $100 Hampers \n1 x $200 Hamper \n1 x $400 Hamper \nDrawn at 7pm Tuesday 31st March 2026. \nMust be here to win!
URL:https://maryboroughservicesclub.com.au/event/easter-hampers/
LOCATION:The Services Club Maryborough\, 163-175 Lennox Street\, Maryborough\, QLD\, 4650\, Australia
CATEGORIES:All,Major Promotions,Promotions,Special Events
END:VEVENT
BEGIN:VEVENT
DTSTART;TZID=Australia/Brisbane:20251229T140000
DTEND;TZID=Australia/Brisbane:20260322T163000
DTSTAMP:20260423T181720
CREATED:20251218T052930Z
LAST-MODIFIED:20251218T052941Z
UID:10001378-1767016800-1774197000@maryboroughservicesclub.com.au
SUMMARY:Boatload of Cash
DESCRIPTION:Join us every Sunday for our Boatload of Cash major promotion at Maryborough Services Club! \nEach week\, 5x members will share in $1\,250 CASH! Plus\, mark your calendars for the 22nd March as we’ll be giving away a Quintrex 390 Outback Explorer Boat! \nDraws are on every Sunday from 2pm. \nEarn entries every day with every $20 gaming play\, $5 spend on food & beverage and one kiosk swipe per day. \nTerms and conditions apply. Gamble responsibly.
URL:https://maryboroughservicesclub.com.au/event/20k-money-mountain-2/
LOCATION:The Services Club Maryborough\, 163-175 Lennox Street\, Maryborough\, QLD\, 4650\, Australia
CATEGORIES:All,Major Promotions,Promotions
END:VEVENT
BEGIN:VEVENT
DTSTART;TZID=Australia/Brisbane:20250921T140000
DTEND;TZID=Australia/Brisbane:20250921T163000
DTSTAMP:20260423T181720
CREATED:20250703T032937Z
LAST-MODIFIED:20250916T005711Z
UID:10001377-1758463200-1758472200@maryboroughservicesclub.com.au
SUMMARY:$20K Money Mountain
DESCRIPTION:Join us every Sunday for our $20K Money Mountain major promotion at Maryborough Services Club! \nEach week\, 6x members will share in $1\,800 CASH! Plus\, mark your calendars for the 31st August & 28th September as we’ll be giving away DOUBLE PRIZES! \nDraws are on every Sunday from 2pm. \nEarn entries every day with every $20 gaming play\, $5 spend on food & beverage and one kiosk swipe per day. \nTerms and conditions apply. Gamble responsibly.
URL:https://maryboroughservicesclub.com.au/event/20k-money-mountain/2025-09-21/
LOCATION:The Services Club Maryborough\, 163-175 Lennox Street\, Maryborough\, QLD\, 4650\, Australia
CATEGORIES:All,Major Promotions,Promotions
END:VEVENT
BEGIN:VEVENT
DTSTART;TZID=Australia/Brisbane:20250914T140000
DTEND;TZID=Australia/Brisbane:20250914T163000
DTSTAMP:20260423T181720
CREATED:20250703T032937Z
LAST-MODIFIED:20250916T005711Z
UID:10001376-1757858400-1757867400@maryboroughservicesclub.com.au
SUMMARY:$20K Money Mountain
DESCRIPTION:Join us every Sunday for our $20K Money Mountain major promotion at Maryborough Services Club! \nEach week\, 6x members will share in $1\,800 CASH! Plus\, mark your calendars for the 31st August & 28th September as we’ll be giving away DOUBLE PRIZES! \nDraws are on every Sunday from 2pm. \nEarn entries every day with every $20 gaming play\, $5 spend on food & beverage and one kiosk swipe per day. \nTerms and conditions apply. Gamble responsibly.
URL:https://maryboroughservicesclub.com.au/event/20k-money-mountain/2025-09-14/
LOCATION:The Services Club Maryborough\, 163-175 Lennox Street\, Maryborough\, QLD\, 4650\, Australia
CATEGORIES:All,Major Promotions,Promotions
END:VEVENT
BEGIN:VEVENT
DTSTART;TZID=Australia/Brisbane:20250907T140000
DTEND;TZID=Australia/Brisbane:20250907T163000
DTSTAMP:20260423T181720
CREATED:20250703T032937Z
LAST-MODIFIED:20250916T005711Z
UID:10001375-1757253600-1757262600@maryboroughservicesclub.com.au
SUMMARY:$20K Money Mountain
DESCRIPTION:Join us every Sunday for our $20K Money Mountain major promotion at Maryborough Services Club! \nEach week\, 6x members will share in $1\,800 CASH! Plus\, mark your calendars for the 31st August & 28th September as we’ll be giving away DOUBLE PRIZES! \nDraws are on every Sunday from 2pm. \nEarn entries every day with every $20 gaming play\, $5 spend on food & beverage and one kiosk swipe per day. \nTerms and conditions apply. Gamble responsibly.
URL:https://maryboroughservicesclub.com.au/event/20k-money-mountain/2025-09-07/
LOCATION:The Services Club Maryborough\, 163-175 Lennox Street\, Maryborough\, QLD\, 4650\, Australia
CATEGORIES:All,Major Promotions,Promotions
END:VEVENT
BEGIN:VEVENT
DTSTART;TZID=Australia/Brisbane:20250831T140000
DTEND;TZID=Australia/Brisbane:20250831T163000
DTSTAMP:20260423T181720
CREATED:20250703T032937Z
LAST-MODIFIED:20250916T005711Z
UID:10001374-1756648800-1756657800@maryboroughservicesclub.com.au
SUMMARY:$20K Money Mountain
DESCRIPTION:Join us every Sunday for our $20K Money Mountain major promotion at Maryborough Services Club! \nEach week\, 6x members will share in $1\,800 CASH! Plus\, mark your calendars for the 31st August & 28th September as we’ll be giving away DOUBLE PRIZES! \nDraws are on every Sunday from 2pm. \nEarn entries every day with every $20 gaming play\, $5 spend on food & beverage and one kiosk swipe per day. \nTerms and conditions apply. Gamble responsibly.
URL:https://maryboroughservicesclub.com.au/event/20k-money-mountain/2025-08-31/
LOCATION:The Services Club Maryborough\, 163-175 Lennox Street\, Maryborough\, QLD\, 4650\, Australia
CATEGORIES:All,Major Promotions,Promotions
END:VEVENT
BEGIN:VEVENT
DTSTART;TZID=Australia/Brisbane:20250824T140000
DTEND;TZID=Australia/Brisbane:20250824T163000
DTSTAMP:20260423T181720
CREATED:20250703T032937Z
LAST-MODIFIED:20250916T005711Z
UID:10001373-1756044000-1756053000@maryboroughservicesclub.com.au
SUMMARY:$20K Money Mountain
DESCRIPTION:Join us every Sunday for our $20K Money Mountain major promotion at Maryborough Services Club! \nEach week\, 6x members will share in $1\,800 CASH! Plus\, mark your calendars for the 31st August & 28th September as we’ll be giving away DOUBLE PRIZES! \nDraws are on every Sunday from 2pm. \nEarn entries every day with every $20 gaming play\, $5 spend on food & beverage and one kiosk swipe per day. \nTerms and conditions apply. Gamble responsibly.
URL:https://maryboroughservicesclub.com.au/event/20k-money-mountain/2025-08-24/
LOCATION:The Services Club Maryborough\, 163-175 Lennox Street\, Maryborough\, QLD\, 4650\, Australia
CATEGORIES:All,Major Promotions,Promotions
END:VEVENT
BEGIN:VEVENT
DTSTART;TZID=Australia/Brisbane:20250817T140000
DTEND;TZID=Australia/Brisbane:20250817T163000
DTSTAMP:20260423T181720
CREATED:20250703T032937Z
LAST-MODIFIED:20250916T005711Z
UID:10001372-1755439200-1755448200@maryboroughservicesclub.com.au
SUMMARY:$20K Money Mountain
DESCRIPTION:Join us every Sunday for our $20K Money Mountain major promotion at Maryborough Services Club! \nEach week\, 6x members will share in $1\,800 CASH! Plus\, mark your calendars for the 31st August & 28th September as we’ll be giving away DOUBLE PRIZES! \nDraws are on every Sunday from 2pm. \nEarn entries every day with every $20 gaming play\, $5 spend on food & beverage and one kiosk swipe per day. \nTerms and conditions apply. Gamble responsibly.
URL:https://maryboroughservicesclub.com.au/event/20k-money-mountain/2025-08-17/
LOCATION:The Services Club Maryborough\, 163-175 Lennox Street\, Maryborough\, QLD\, 4650\, Australia
CATEGORIES:All,Major Promotions,Promotions
END:VEVENT
BEGIN:VEVENT
DTSTART;TZID=Australia/Brisbane:20250810T140000
DTEND;TZID=Australia/Brisbane:20250810T163000
DTSTAMP:20260423T181720
CREATED:20250703T032937Z
LAST-MODIFIED:20250916T005711Z
UID:10001371-1754834400-1754843400@maryboroughservicesclub.com.au
SUMMARY:$20K Money Mountain
DESCRIPTION:Join us every Sunday for our $20K Money Mountain major promotion at Maryborough Services Club! \nEach week\, 6x members will share in $1\,800 CASH! Plus\, mark your calendars for the 31st August & 28th September as we’ll be giving away DOUBLE PRIZES! \nDraws are on every Sunday from 2pm. \nEarn entries every day with every $20 gaming play\, $5 spend on food & beverage and one kiosk swipe per day. \nTerms and conditions apply. Gamble responsibly.
URL:https://maryboroughservicesclub.com.au/event/20k-money-mountain/2025-08-10/
LOCATION:The Services Club Maryborough\, 163-175 Lennox Street\, Maryborough\, QLD\, 4650\, Australia
CATEGORIES:All,Major Promotions,Promotions
END:VEVENT
BEGIN:VEVENT
DTSTART;TZID=Australia/Brisbane:20250803T140000
DTEND;TZID=Australia/Brisbane:20250803T163000
DTSTAMP:20260423T181720
CREATED:20250703T032937Z
LAST-MODIFIED:20250916T005711Z
UID:10001370-1754229600-1754238600@maryboroughservicesclub.com.au
SUMMARY:$20K Money Mountain
DESCRIPTION:Join us every Sunday for our $20K Money Mountain major promotion at Maryborough Services Club! \nEach week\, 6x members will share in $1\,800 CASH! Plus\, mark your calendars for the 31st August & 28th September as we’ll be giving away DOUBLE PRIZES! \nDraws are on every Sunday from 2pm. \nEarn entries every day with every $20 gaming play\, $5 spend on food & beverage and one kiosk swipe per day. \nTerms and conditions apply. Gamble responsibly.
URL:https://maryboroughservicesclub.com.au/event/20k-money-mountain/2025-08-03/
LOCATION:The Services Club Maryborough\, 163-175 Lennox Street\, Maryborough\, QLD\, 4650\, Australia
CATEGORIES:All,Major Promotions,Promotions
END:VEVENT
END:VCALENDAR