BEGIN:VCALENDAR
VERSION:2.0
PRODID:-//Maryborough Services Club - ECPv6.15.17//NONSGML v1.0//EN
CALSCALE:GREGORIAN
METHOD:PUBLISH
X-WR-CALNAME:Maryborough Services Club
X-ORIGINAL-URL:https://maryboroughservicesclub.com.au
X-WR-CALDESC:Events for Maryborough Services Club
REFRESH-INTERVAL;VALUE=DURATION:PT1H
X-Robots-Tag:noindex
X-PUBLISHED-TTL:PT1H
BEGIN:VTIMEZONE
TZID:Australia/Brisbane
BEGIN:STANDARD
TZOFFSETFROM:+1000
TZOFFSETTO:+1000
TZNAME:AEST
DTSTART:20240101T000000
END:STANDARD
END:VTIMEZONE
BEGIN:VEVENT
DTSTART;TZID=Australia/Brisbane:20250701T170000
DTEND;TZID=Australia/Brisbane:20250701T180000
DTSTAMP:20260421T173141
CREATED:20250810T230030Z
LAST-MODIFIED:20250810T230500Z
UID:10012774-1751389200-1751392800@maryboroughservicesclub.com.au
SUMMARY:Senior's Roast
DESCRIPTION:Calling all the seniors! \nTreat yourself to a senior’s roast every weekday from 5pm – 6pm for just $12.50! \nCall the Club on 4122 2321 to book your table or book online now! \nTerms and conditions apply. Please present your seniors card to be eligible. Available Monday to Friday only. \n  \n 
URL:https://maryboroughservicesclub.com.au/event/seniors-roast/2025-07-01/
LOCATION:The Services Club Maryborough\, 163-175 Lennox Street\, Maryborough\, QLD\, 4650\, Australia
CATEGORIES:All,Meal Specials
ATTACH;FMTTYPE=image/jpeg:https://maryboroughservicesclub.com.au/wp-content/uploads/2025/08/senior-s-meal-deal-web-feat-image-custom.jpeg
END:VEVENT
BEGIN:VEVENT
DTSTART;TZID=Australia/Brisbane:20250702T170000
DTEND;TZID=Australia/Brisbane:20250702T180000
DTSTAMP:20260421T173141
CREATED:20250810T230030Z
LAST-MODIFIED:20250810T230500Z
UID:10012775-1751475600-1751479200@maryboroughservicesclub.com.au
SUMMARY:Senior's Roast
DESCRIPTION:Calling all the seniors! \nTreat yourself to a senior’s roast every weekday from 5pm – 6pm for just $12.50! \nCall the Club on 4122 2321 to book your table or book online now! \nTerms and conditions apply. Please present your seniors card to be eligible. Available Monday to Friday only. \n  \n 
URL:https://maryboroughservicesclub.com.au/event/seniors-roast/2025-07-02/
LOCATION:The Services Club Maryborough\, 163-175 Lennox Street\, Maryborough\, QLD\, 4650\, Australia
CATEGORIES:All,Meal Specials
ATTACH;FMTTYPE=image/jpeg:https://maryboroughservicesclub.com.au/wp-content/uploads/2025/08/senior-s-meal-deal-web-feat-image-custom.jpeg
END:VEVENT
BEGIN:VEVENT
DTSTART;TZID=Australia/Brisbane:20250703T170000
DTEND;TZID=Australia/Brisbane:20250703T180000
DTSTAMP:20260421T173141
CREATED:20250810T230030Z
LAST-MODIFIED:20250810T230500Z
UID:10012776-1751562000-1751565600@maryboroughservicesclub.com.au
SUMMARY:Senior's Roast
DESCRIPTION:Calling all the seniors! \nTreat yourself to a senior’s roast every weekday from 5pm – 6pm for just $12.50! \nCall the Club on 4122 2321 to book your table or book online now! \nTerms and conditions apply. Please present your seniors card to be eligible. Available Monday to Friday only. \n  \n 
URL:https://maryboroughservicesclub.com.au/event/seniors-roast/2025-07-03/
LOCATION:The Services Club Maryborough\, 163-175 Lennox Street\, Maryborough\, QLD\, 4650\, Australia
CATEGORIES:All,Meal Specials
ATTACH;FMTTYPE=image/jpeg:https://maryboroughservicesclub.com.au/wp-content/uploads/2025/08/senior-s-meal-deal-web-feat-image-custom.jpeg
END:VEVENT
BEGIN:VEVENT
DTSTART;TZID=Australia/Brisbane:20250704T170000
DTEND;TZID=Australia/Brisbane:20250704T180000
DTSTAMP:20260421T173141
CREATED:20250810T230030Z
LAST-MODIFIED:20250810T230500Z
UID:10012777-1751648400-1751652000@maryboroughservicesclub.com.au
SUMMARY:Senior's Roast
DESCRIPTION:Calling all the seniors! \nTreat yourself to a senior’s roast every weekday from 5pm – 6pm for just $12.50! \nCall the Club on 4122 2321 to book your table or book online now! \nTerms and conditions apply. Please present your seniors card to be eligible. Available Monday to Friday only. \n  \n 
URL:https://maryboroughservicesclub.com.au/event/seniors-roast/2025-07-04/
LOCATION:The Services Club Maryborough\, 163-175 Lennox Street\, Maryborough\, QLD\, 4650\, Australia
CATEGORIES:All,Meal Specials
ATTACH;FMTTYPE=image/jpeg:https://maryboroughservicesclub.com.au/wp-content/uploads/2025/08/senior-s-meal-deal-web-feat-image-custom.jpeg
END:VEVENT
BEGIN:VEVENT
DTSTART;TZID=Australia/Brisbane:20250707T170000
DTEND;TZID=Australia/Brisbane:20250707T180000
DTSTAMP:20260421T173141
CREATED:20250810T230030Z
LAST-MODIFIED:20250810T230500Z
UID:10012780-1751907600-1751911200@maryboroughservicesclub.com.au
SUMMARY:Senior's Roast
DESCRIPTION:Calling all the seniors! \nTreat yourself to a senior’s roast every weekday from 5pm – 6pm for just $12.50! \nCall the Club on 4122 2321 to book your table or book online now! \nTerms and conditions apply. Please present your seniors card to be eligible. Available Monday to Friday only. \n  \n 
URL:https://maryboroughservicesclub.com.au/event/seniors-roast/2025-07-07/
LOCATION:The Services Club Maryborough\, 163-175 Lennox Street\, Maryborough\, QLD\, 4650\, Australia
CATEGORIES:All,Meal Specials
ATTACH;FMTTYPE=image/jpeg:https://maryboroughservicesclub.com.au/wp-content/uploads/2025/08/senior-s-meal-deal-web-feat-image-custom.jpeg
END:VEVENT
BEGIN:VEVENT
DTSTART;TZID=Australia/Brisbane:20250708T170000
DTEND;TZID=Australia/Brisbane:20250708T180000
DTSTAMP:20260421T173141
CREATED:20250810T230030Z
LAST-MODIFIED:20250810T230500Z
UID:10012781-1751994000-1751997600@maryboroughservicesclub.com.au
SUMMARY:Senior's Roast
DESCRIPTION:Calling all the seniors! \nTreat yourself to a senior’s roast every weekday from 5pm – 6pm for just $12.50! \nCall the Club on 4122 2321 to book your table or book online now! \nTerms and conditions apply. Please present your seniors card to be eligible. Available Monday to Friday only. \n  \n 
URL:https://maryboroughservicesclub.com.au/event/seniors-roast/2025-07-08/
LOCATION:The Services Club Maryborough\, 163-175 Lennox Street\, Maryborough\, QLD\, 4650\, Australia
CATEGORIES:All,Meal Specials
ATTACH;FMTTYPE=image/jpeg:https://maryboroughservicesclub.com.au/wp-content/uploads/2025/08/senior-s-meal-deal-web-feat-image-custom.jpeg
END:VEVENT
BEGIN:VEVENT
DTSTART;TZID=Australia/Brisbane:20250709T113000
DTEND;TZID=Australia/Brisbane:20250709T200000
DTSTAMP:20260421T173141
CREATED:20250709T053645Z
LAST-MODIFIED:20250710T004711Z
UID:10003738-1752060600-1752091200@maryboroughservicesclub.com.au
SUMMARY:July Meal Special
DESCRIPTION:Try our Monthly Meal Special at Maryborough Services Club! \nJoin us in July and try out our coconut beef massaman curry\, served with rice and Paratha flat bread for just $25! \nCall the Club on 4122 2321 to book your table or book online now!
URL:https://maryboroughservicesclub.com.au/event/july-meal-special/2025-07-09/
LOCATION:The Services Club Maryborough\, 163-175 Lennox Street\, Maryborough\, QLD\, 4650\, Australia
CATEGORIES:All,Meal Specials
END:VEVENT
BEGIN:VEVENT
DTSTART;TZID=Australia/Brisbane:20250709T170000
DTEND;TZID=Australia/Brisbane:20250709T180000
DTSTAMP:20260421T173141
CREATED:20250810T230030Z
LAST-MODIFIED:20250810T230500Z
UID:10012782-1752080400-1752084000@maryboroughservicesclub.com.au
SUMMARY:Senior's Roast
DESCRIPTION:Calling all the seniors! \nTreat yourself to a senior’s roast every weekday from 5pm – 6pm for just $12.50! \nCall the Club on 4122 2321 to book your table or book online now! \nTerms and conditions apply. Please present your seniors card to be eligible. Available Monday to Friday only. \n  \n 
URL:https://maryboroughservicesclub.com.au/event/seniors-roast/2025-07-09/
LOCATION:The Services Club Maryborough\, 163-175 Lennox Street\, Maryborough\, QLD\, 4650\, Australia
CATEGORIES:All,Meal Specials
ATTACH;FMTTYPE=image/jpeg:https://maryboroughservicesclub.com.au/wp-content/uploads/2025/08/senior-s-meal-deal-web-feat-image-custom.jpeg
END:VEVENT
BEGIN:VEVENT
DTSTART;TZID=Australia/Brisbane:20250710T170000
DTEND;TZID=Australia/Brisbane:20250710T180000
DTSTAMP:20260421T173141
CREATED:20250810T230030Z
LAST-MODIFIED:20250810T230500Z
UID:10012783-1752166800-1752170400@maryboroughservicesclub.com.au
SUMMARY:Senior's Roast
DESCRIPTION:Calling all the seniors! \nTreat yourself to a senior’s roast every weekday from 5pm – 6pm for just $12.50! \nCall the Club on 4122 2321 to book your table or book online now! \nTerms and conditions apply. Please present your seniors card to be eligible. Available Monday to Friday only. \n  \n 
URL:https://maryboroughservicesclub.com.au/event/seniors-roast/2025-07-10/
LOCATION:The Services Club Maryborough\, 163-175 Lennox Street\, Maryborough\, QLD\, 4650\, Australia
CATEGORIES:All,Meal Specials
ATTACH;FMTTYPE=image/jpeg:https://maryboroughservicesclub.com.au/wp-content/uploads/2025/08/senior-s-meal-deal-web-feat-image-custom.jpeg
END:VEVENT
BEGIN:VEVENT
DTSTART;TZID=Australia/Brisbane:20250711T113000
DTEND;TZID=Australia/Brisbane:20250711T203000
DTSTAMP:20260421T173141
CREATED:20250709T053919Z
LAST-MODIFIED:20250710T004657Z
UID:10005826-1752233400-1752265800@maryboroughservicesclub.com.au
SUMMARY:July Meal Special
DESCRIPTION:Try our Monthly Meal Special at Maryborough Services Club! \nJoin us in July and try out our coconut beef massaman curry\, served with rice and Paratha flat bread for just $25! \nCall the Club on 4122 2321 to book your table or book online now!
URL:https://maryboroughservicesclub.com.au/event/july-meal-special-2/2025-07-11/
LOCATION:The Services Club Maryborough\, 163-175 Lennox Street\, Maryborough\, QLD\, 4650\, Australia
CATEGORIES:All,Meal Specials
END:VEVENT
BEGIN:VEVENT
DTSTART;TZID=Australia/Brisbane:20250711T170000
DTEND;TZID=Australia/Brisbane:20250711T180000
DTSTAMP:20260421T173141
CREATED:20250810T230030Z
LAST-MODIFIED:20250810T230500Z
UID:10012784-1752253200-1752256800@maryboroughservicesclub.com.au
SUMMARY:Senior's Roast
DESCRIPTION:Calling all the seniors! \nTreat yourself to a senior’s roast every weekday from 5pm – 6pm for just $12.50! \nCall the Club on 4122 2321 to book your table or book online now! \nTerms and conditions apply. Please present your seniors card to be eligible. Available Monday to Friday only. \n  \n 
URL:https://maryboroughservicesclub.com.au/event/seniors-roast/2025-07-11/
LOCATION:The Services Club Maryborough\, 163-175 Lennox Street\, Maryborough\, QLD\, 4650\, Australia
CATEGORIES:All,Meal Specials
ATTACH;FMTTYPE=image/jpeg:https://maryboroughservicesclub.com.au/wp-content/uploads/2025/08/senior-s-meal-deal-web-feat-image-custom.jpeg
END:VEVENT
BEGIN:VEVENT
DTSTART;TZID=Australia/Brisbane:20250712T113000
DTEND;TZID=Australia/Brisbane:20250712T203000
DTSTAMP:20260421T173141
CREATED:20250709T053919Z
LAST-MODIFIED:20250710T004657Z
UID:10005827-1752319800-1752352200@maryboroughservicesclub.com.au
SUMMARY:July Meal Special
DESCRIPTION:Try our Monthly Meal Special at Maryborough Services Club! \nJoin us in July and try out our coconut beef massaman curry\, served with rice and Paratha flat bread for just $25! \nCall the Club on 4122 2321 to book your table or book online now!
URL:https://maryboroughservicesclub.com.au/event/july-meal-special-2/2025-07-12/
LOCATION:The Services Club Maryborough\, 163-175 Lennox Street\, Maryborough\, QLD\, 4650\, Australia
CATEGORIES:All,Meal Specials
END:VEVENT
BEGIN:VEVENT
DTSTART;TZID=Australia/Brisbane:20250713T113000
DTEND;TZID=Australia/Brisbane:20250713T200000
DTSTAMP:20260421T173141
CREATED:20250709T053645Z
LAST-MODIFIED:20250710T004711Z
UID:10003739-1752406200-1752436800@maryboroughservicesclub.com.au
SUMMARY:July Meal Special
DESCRIPTION:Try our Monthly Meal Special at Maryborough Services Club! \nJoin us in July and try out our coconut beef massaman curry\, served with rice and Paratha flat bread for just $25! \nCall the Club on 4122 2321 to book your table or book online now!
URL:https://maryboroughservicesclub.com.au/event/july-meal-special/2025-07-13/
LOCATION:The Services Club Maryborough\, 163-175 Lennox Street\, Maryborough\, QLD\, 4650\, Australia
CATEGORIES:All,Meal Specials
END:VEVENT
BEGIN:VEVENT
DTSTART;TZID=Australia/Brisbane:20250714T113000
DTEND;TZID=Australia/Brisbane:20250714T200000
DTSTAMP:20260421T173141
CREATED:20250709T053645Z
LAST-MODIFIED:20250710T004711Z
UID:10003740-1752492600-1752523200@maryboroughservicesclub.com.au
SUMMARY:July Meal Special
DESCRIPTION:Try our Monthly Meal Special at Maryborough Services Club! \nJoin us in July and try out our coconut beef massaman curry\, served with rice and Paratha flat bread for just $25! \nCall the Club on 4122 2321 to book your table or book online now!
URL:https://maryboroughservicesclub.com.au/event/july-meal-special/2025-07-14/
LOCATION:The Services Club Maryborough\, 163-175 Lennox Street\, Maryborough\, QLD\, 4650\, Australia
CATEGORIES:All,Meal Specials
END:VEVENT
BEGIN:VEVENT
DTSTART;TZID=Australia/Brisbane:20250714T113000
DTEND;TZID=Australia/Brisbane:20250714T200000
DTSTAMP:20260421T173141
CREATED:20250710T001935Z
LAST-MODIFIED:20250710T001935Z
UID:10007394-1752492600-1752523200@maryboroughservicesclub.com.au
SUMMARY:Kids Eat Free
DESCRIPTION:Kids eat FREE every Monday at Maryborough Services Club! \nEnjoy a free meal for the small ones with any adult main meal purchase during either lunch or dinner on Mondays. \nBook your table now online or call 4122 2321 & let us sort the kids. \nTerms and conditions apply. Specials not included. Children under 12 only.
URL:https://maryboroughservicesclub.com.au/event/kids-eat-free/2025-07-14/
LOCATION:The Services Club Maryborough\, 163-175 Lennox Street\, Maryborough\, QLD\, 4650\, Australia
CATEGORIES:All,Meal Specials
ATTACH;FMTTYPE=image/jpeg:https://maryboroughservicesclub.com.au/wp-content/uploads/2025/07/kids-eat-free-feat-image-custom.jpeg
END:VEVENT
BEGIN:VEVENT
DTSTART;TZID=Australia/Brisbane:20250714T170000
DTEND;TZID=Australia/Brisbane:20250714T180000
DTSTAMP:20260421T173141
CREATED:20250810T230030Z
LAST-MODIFIED:20250810T230500Z
UID:10012787-1752512400-1752516000@maryboroughservicesclub.com.au
SUMMARY:Senior's Roast
DESCRIPTION:Calling all the seniors! \nTreat yourself to a senior’s roast every weekday from 5pm – 6pm for just $12.50! \nCall the Club on 4122 2321 to book your table or book online now! \nTerms and conditions apply. Please present your seniors card to be eligible. Available Monday to Friday only. \n  \n 
URL:https://maryboroughservicesclub.com.au/event/seniors-roast/2025-07-14/
LOCATION:The Services Club Maryborough\, 163-175 Lennox Street\, Maryborough\, QLD\, 4650\, Australia
CATEGORIES:All,Meal Specials
ATTACH;FMTTYPE=image/jpeg:https://maryboroughservicesclub.com.au/wp-content/uploads/2025/08/senior-s-meal-deal-web-feat-image-custom.jpeg
END:VEVENT
BEGIN:VEVENT
DTSTART;TZID=Australia/Brisbane:20250714T173000
DTEND;TZID=Australia/Brisbane:20250714T203000
DTSTAMP:20260421T173141
CREATED:20250710T003525Z
LAST-MODIFIED:20250903T005848Z
UID:10007916-1752514200-1752525000@maryboroughservicesclub.com.au
SUMMARY:Steak Night
DESCRIPTION:Monday Nights are Steak Night at Maryborough Services Club! \nTreat yourself with a 300g Sirloin steak cooked to your liking\, served with salad & chips or vegetables\, and your choice of sauce for just $25. \nTerms and conditions. Available for dinner only.
URL:https://maryboroughservicesclub.com.au/event/steak-night/2025-07-14/
LOCATION:The Services Club Maryborough\, 163-175 Lennox Street\, Maryborough\, QLD\, 4650\, Australia
CATEGORIES:All,Meal Specials
END:VEVENT
BEGIN:VEVENT
DTSTART;TZID=Australia/Brisbane:20250715T113000
DTEND;TZID=Australia/Brisbane:20250715T200000
DTSTAMP:20260421T173141
CREATED:20250709T053645Z
LAST-MODIFIED:20250710T004711Z
UID:10003741-1752579000-1752609600@maryboroughservicesclub.com.au
SUMMARY:July Meal Special
DESCRIPTION:Try our Monthly Meal Special at Maryborough Services Club! \nJoin us in July and try out our coconut beef massaman curry\, served with rice and Paratha flat bread for just $25! \nCall the Club on 4122 2321 to book your table or book online now!
URL:https://maryboroughservicesclub.com.au/event/july-meal-special/2025-07-15/
LOCATION:The Services Club Maryborough\, 163-175 Lennox Street\, Maryborough\, QLD\, 4650\, Australia
CATEGORIES:All,Meal Specials
END:VEVENT
BEGIN:VEVENT
DTSTART;TZID=Australia/Brisbane:20250715T170000
DTEND;TZID=Australia/Brisbane:20250715T180000
DTSTAMP:20260421T173141
CREATED:20250810T230030Z
LAST-MODIFIED:20250810T230500Z
UID:10012788-1752598800-1752602400@maryboroughservicesclub.com.au
SUMMARY:Senior's Roast
DESCRIPTION:Calling all the seniors! \nTreat yourself to a senior’s roast every weekday from 5pm – 6pm for just $12.50! \nCall the Club on 4122 2321 to book your table or book online now! \nTerms and conditions apply. Please present your seniors card to be eligible. Available Monday to Friday only. \n  \n 
URL:https://maryboroughservicesclub.com.au/event/seniors-roast/2025-07-15/
LOCATION:The Services Club Maryborough\, 163-175 Lennox Street\, Maryborough\, QLD\, 4650\, Australia
CATEGORIES:All,Meal Specials
ATTACH;FMTTYPE=image/jpeg:https://maryboroughservicesclub.com.au/wp-content/uploads/2025/08/senior-s-meal-deal-web-feat-image-custom.jpeg
END:VEVENT
BEGIN:VEVENT
DTSTART;TZID=Australia/Brisbane:20250716T113000
DTEND;TZID=Australia/Brisbane:20250716T200000
DTSTAMP:20260421T173141
CREATED:20250709T053645Z
LAST-MODIFIED:20250710T004711Z
UID:10003742-1752665400-1752696000@maryboroughservicesclub.com.au
SUMMARY:July Meal Special
DESCRIPTION:Try our Monthly Meal Special at Maryborough Services Club! \nJoin us in July and try out our coconut beef massaman curry\, served with rice and Paratha flat bread for just $25! \nCall the Club on 4122 2321 to book your table or book online now!
URL:https://maryboroughservicesclub.com.au/event/july-meal-special/2025-07-16/
LOCATION:The Services Club Maryborough\, 163-175 Lennox Street\, Maryborough\, QLD\, 4650\, Australia
CATEGORIES:All,Meal Specials
END:VEVENT
BEGIN:VEVENT
DTSTART;TZID=Australia/Brisbane:20250716T170000
DTEND;TZID=Australia/Brisbane:20250716T180000
DTSTAMP:20260421T173141
CREATED:20250810T230030Z
LAST-MODIFIED:20250810T230500Z
UID:10012789-1752685200-1752688800@maryboroughservicesclub.com.au
SUMMARY:Senior's Roast
DESCRIPTION:Calling all the seniors! \nTreat yourself to a senior’s roast every weekday from 5pm – 6pm for just $12.50! \nCall the Club on 4122 2321 to book your table or book online now! \nTerms and conditions apply. Please present your seniors card to be eligible. Available Monday to Friday only. \n  \n 
URL:https://maryboroughservicesclub.com.au/event/seniors-roast/2025-07-16/
LOCATION:The Services Club Maryborough\, 163-175 Lennox Street\, Maryborough\, QLD\, 4650\, Australia
CATEGORIES:All,Meal Specials
ATTACH;FMTTYPE=image/jpeg:https://maryboroughservicesclub.com.au/wp-content/uploads/2025/08/senior-s-meal-deal-web-feat-image-custom.jpeg
END:VEVENT
BEGIN:VEVENT
DTSTART;TZID=Australia/Brisbane:20250716T173000
DTEND;TZID=Australia/Brisbane:20250716T203000
DTSTAMP:20260421T173141
CREATED:20250710T002238Z
LAST-MODIFIED:20250903T005709Z
UID:10007655-1752687000-1752697800@maryboroughservicesclub.com.au
SUMMARY:Schnitzel Night
DESCRIPTION:Join us every Wednesday night for Schnitzel Night at Maryborough Services Club! \nEnjoy a Schnitzel served with salad & chips or vegetables\, from 5.30pm – 8.30pm for just $19 for members or $21 for non members. \nTerms and conditions apply.
URL:https://maryboroughservicesclub.com.au/event/schnitzel-night/2025-07-16/
LOCATION:The Services Club Maryborough\, 163-175 Lennox Street\, Maryborough\, QLD\, 4650\, Australia
CATEGORIES:All,Meal Specials
ATTACH;FMTTYPE=image/jpeg:https://maryboroughservicesclub.com.au/wp-content/uploads/2025/07/schnitty-feat-image.jpeg
END:VEVENT
BEGIN:VEVENT
DTSTART;TZID=Australia/Brisbane:20250717T170000
DTEND;TZID=Australia/Brisbane:20250717T180000
DTSTAMP:20260421T173141
CREATED:20250810T230030Z
LAST-MODIFIED:20250810T230500Z
UID:10012790-1752771600-1752775200@maryboroughservicesclub.com.au
SUMMARY:Senior's Roast
DESCRIPTION:Calling all the seniors! \nTreat yourself to a senior’s roast every weekday from 5pm – 6pm for just $12.50! \nCall the Club on 4122 2321 to book your table or book online now! \nTerms and conditions apply. Please present your seniors card to be eligible. Available Monday to Friday only. \n  \n 
URL:https://maryboroughservicesclub.com.au/event/seniors-roast/2025-07-17/
LOCATION:The Services Club Maryborough\, 163-175 Lennox Street\, Maryborough\, QLD\, 4650\, Australia
CATEGORIES:All,Meal Specials
ATTACH;FMTTYPE=image/jpeg:https://maryboroughservicesclub.com.au/wp-content/uploads/2025/08/senior-s-meal-deal-web-feat-image-custom.jpeg
END:VEVENT
BEGIN:VEVENT
DTSTART;TZID=Australia/Brisbane:20250718T113000
DTEND;TZID=Australia/Brisbane:20250718T203000
DTSTAMP:20260421T173141
CREATED:20250709T053919Z
LAST-MODIFIED:20250710T004657Z
UID:10005828-1752838200-1752870600@maryboroughservicesclub.com.au
SUMMARY:July Meal Special
DESCRIPTION:Try our Monthly Meal Special at Maryborough Services Club! \nJoin us in July and try out our coconut beef massaman curry\, served with rice and Paratha flat bread for just $25! \nCall the Club on 4122 2321 to book your table or book online now!
URL:https://maryboroughservicesclub.com.au/event/july-meal-special-2/2025-07-18/
LOCATION:The Services Club Maryborough\, 163-175 Lennox Street\, Maryborough\, QLD\, 4650\, Australia
CATEGORIES:All,Meal Specials
END:VEVENT
BEGIN:VEVENT
DTSTART;TZID=Australia/Brisbane:20250718T170000
DTEND;TZID=Australia/Brisbane:20250718T180000
DTSTAMP:20260421T173141
CREATED:20250810T230030Z
LAST-MODIFIED:20250810T230500Z
UID:10012791-1752858000-1752861600@maryboroughservicesclub.com.au
SUMMARY:Senior's Roast
DESCRIPTION:Calling all the seniors! \nTreat yourself to a senior’s roast every weekday from 5pm – 6pm for just $12.50! \nCall the Club on 4122 2321 to book your table or book online now! \nTerms and conditions apply. Please present your seniors card to be eligible. Available Monday to Friday only. \n  \n 
URL:https://maryboroughservicesclub.com.au/event/seniors-roast/2025-07-18/
LOCATION:The Services Club Maryborough\, 163-175 Lennox Street\, Maryborough\, QLD\, 4650\, Australia
CATEGORIES:All,Meal Specials
ATTACH;FMTTYPE=image/jpeg:https://maryboroughservicesclub.com.au/wp-content/uploads/2025/08/senior-s-meal-deal-web-feat-image-custom.jpeg
END:VEVENT
BEGIN:VEVENT
DTSTART;TZID=Australia/Brisbane:20250719T113000
DTEND;TZID=Australia/Brisbane:20250719T203000
DTSTAMP:20260421T173141
CREATED:20250709T053919Z
LAST-MODIFIED:20250710T004657Z
UID:10005829-1752924600-1752957000@maryboroughservicesclub.com.au
SUMMARY:July Meal Special
DESCRIPTION:Try our Monthly Meal Special at Maryborough Services Club! \nJoin us in July and try out our coconut beef massaman curry\, served with rice and Paratha flat bread for just $25! \nCall the Club on 4122 2321 to book your table or book online now!
URL:https://maryboroughservicesclub.com.au/event/july-meal-special-2/2025-07-19/
LOCATION:The Services Club Maryborough\, 163-175 Lennox Street\, Maryborough\, QLD\, 4650\, Australia
CATEGORIES:All,Meal Specials
END:VEVENT
BEGIN:VEVENT
DTSTART;TZID=Australia/Brisbane:20250720T113000
DTEND;TZID=Australia/Brisbane:20250720T200000
DTSTAMP:20260421T173141
CREATED:20250709T053645Z
LAST-MODIFIED:20250710T004711Z
UID:10003743-1753011000-1753041600@maryboroughservicesclub.com.au
SUMMARY:July Meal Special
DESCRIPTION:Try our Monthly Meal Special at Maryborough Services Club! \nJoin us in July and try out our coconut beef massaman curry\, served with rice and Paratha flat bread for just $25! \nCall the Club on 4122 2321 to book your table or book online now!
URL:https://maryboroughservicesclub.com.au/event/july-meal-special/2025-07-20/
LOCATION:The Services Club Maryborough\, 163-175 Lennox Street\, Maryborough\, QLD\, 4650\, Australia
CATEGORIES:All,Meal Specials
END:VEVENT
BEGIN:VEVENT
DTSTART;TZID=Australia/Brisbane:20250721T113000
DTEND;TZID=Australia/Brisbane:20250721T200000
DTSTAMP:20260421T173141
CREATED:20250709T053645Z
LAST-MODIFIED:20250710T004711Z
UID:10003744-1753097400-1753128000@maryboroughservicesclub.com.au
SUMMARY:July Meal Special
DESCRIPTION:Try our Monthly Meal Special at Maryborough Services Club! \nJoin us in July and try out our coconut beef massaman curry\, served with rice and Paratha flat bread for just $25! \nCall the Club on 4122 2321 to book your table or book online now!
URL:https://maryboroughservicesclub.com.au/event/july-meal-special/2025-07-21/
LOCATION:The Services Club Maryborough\, 163-175 Lennox Street\, Maryborough\, QLD\, 4650\, Australia
CATEGORIES:All,Meal Specials
END:VEVENT
BEGIN:VEVENT
DTSTART;TZID=Australia/Brisbane:20250721T113000
DTEND;TZID=Australia/Brisbane:20250721T200000
DTSTAMP:20260421T173141
CREATED:20250710T001935Z
LAST-MODIFIED:20250710T001935Z
UID:10007395-1753097400-1753128000@maryboroughservicesclub.com.au
SUMMARY:Kids Eat Free
DESCRIPTION:Kids eat FREE every Monday at Maryborough Services Club! \nEnjoy a free meal for the small ones with any adult main meal purchase during either lunch or dinner on Mondays. \nBook your table now online or call 4122 2321 & let us sort the kids. \nTerms and conditions apply. Specials not included. Children under 12 only.
URL:https://maryboroughservicesclub.com.au/event/kids-eat-free/2025-07-21/
LOCATION:The Services Club Maryborough\, 163-175 Lennox Street\, Maryborough\, QLD\, 4650\, Australia
CATEGORIES:All,Meal Specials
ATTACH;FMTTYPE=image/jpeg:https://maryboroughservicesclub.com.au/wp-content/uploads/2025/07/kids-eat-free-feat-image-custom.jpeg
END:VEVENT
BEGIN:VEVENT
DTSTART;TZID=Australia/Brisbane:20250721T170000
DTEND;TZID=Australia/Brisbane:20250721T180000
DTSTAMP:20260421T173141
CREATED:20250810T230030Z
LAST-MODIFIED:20250810T230500Z
UID:10012794-1753117200-1753120800@maryboroughservicesclub.com.au
SUMMARY:Senior's Roast
DESCRIPTION:Calling all the seniors! \nTreat yourself to a senior’s roast every weekday from 5pm – 6pm for just $12.50! \nCall the Club on 4122 2321 to book your table or book online now! \nTerms and conditions apply. Please present your seniors card to be eligible. Available Monday to Friday only. \n  \n 
URL:https://maryboroughservicesclub.com.au/event/seniors-roast/2025-07-21/
LOCATION:The Services Club Maryborough\, 163-175 Lennox Street\, Maryborough\, QLD\, 4650\, Australia
CATEGORIES:All,Meal Specials
ATTACH;FMTTYPE=image/jpeg:https://maryboroughservicesclub.com.au/wp-content/uploads/2025/08/senior-s-meal-deal-web-feat-image-custom.jpeg
END:VEVENT
END:VCALENDAR