BEGIN:VCALENDAR
VERSION:2.0
PRODID:-//Maryborough Services Club - ECPv6.15.17//NONSGML v1.0//EN
CALSCALE:GREGORIAN
METHOD:PUBLISH
X-WR-CALNAME:Maryborough Services Club
X-ORIGINAL-URL:https://maryboroughservicesclub.com.au
X-WR-CALDESC:Events for Maryborough Services Club
REFRESH-INTERVAL;VALUE=DURATION:PT1H
X-Robots-Tag:noindex
X-PUBLISHED-TTL:PT1H
BEGIN:VTIMEZONE
TZID:Australia/Brisbane
BEGIN:STANDARD
TZOFFSETFROM:+1000
TZOFFSETTO:+1000
TZNAME:AEST
DTSTART:20240101T000000
END:STANDARD
END:VTIMEZONE
BEGIN:VEVENT
DTSTART;TZID=Australia/Brisbane:20250801T113000
DTEND;TZID=Australia/Brisbane:20250801T203000
DTSTAMP:20260421T155133
CREATED:20250801T031410Z
LAST-MODIFIED:20250807T040214Z
UID:10005830-1754047800-1754080200@maryboroughservicesclub.com.au
SUMMARY:August Meal Special
DESCRIPTION:Try our Monthly Meal Special at Maryborough Services Club! \nJoin us in August and try out our lamb shank for just $30! \nCall the Club on 4122 2321 to book your table or book online now!
URL:https://maryboroughservicesclub.com.au/event/august-meal-special/2025-08-01/
LOCATION:The Services Club Maryborough\, 163-175 Lennox Street\, Maryborough\, QLD\, 4650\, Australia
CATEGORIES:All,Meal Specials
END:VEVENT
BEGIN:VEVENT
DTSTART;TZID=Australia/Brisbane:20250801T170000
DTEND;TZID=Australia/Brisbane:20250801T180000
DTSTAMP:20260421T155133
CREATED:20250810T230030Z
LAST-MODIFIED:20250810T230500Z
UID:10012805-1754067600-1754071200@maryboroughservicesclub.com.au
SUMMARY:Senior's Roast
DESCRIPTION:Calling all the seniors! \nTreat yourself to a senior’s roast every weekday from 5pm – 6pm for just $12.50! \nCall the Club on 4122 2321 to book your table or book online now! \nTerms and conditions apply. Please present your seniors card to be eligible. Available Monday to Friday only. \n  \n 
URL:https://maryboroughservicesclub.com.au/event/seniors-roast/2025-08-01/
LOCATION:The Services Club Maryborough\, 163-175 Lennox Street\, Maryborough\, QLD\, 4650\, Australia
CATEGORIES:All,Meal Specials
ATTACH;FMTTYPE=image/jpeg:https://maryboroughservicesclub.com.au/wp-content/uploads/2025/08/senior-s-meal-deal-web-feat-image-custom.jpeg
END:VEVENT
BEGIN:VEVENT
DTSTART;TZID=Australia/Brisbane:20250802T113000
DTEND;TZID=Australia/Brisbane:20250802T203000
DTSTAMP:20260421T155133
CREATED:20250801T031410Z
LAST-MODIFIED:20250807T040214Z
UID:10009233-1754134200-1754166600@maryboroughservicesclub.com.au
SUMMARY:August Meal Special
DESCRIPTION:Try our Monthly Meal Special at Maryborough Services Club! \nJoin us in August and try out our lamb shank for just $30! \nCall the Club on 4122 2321 to book your table or book online now!
URL:https://maryboroughservicesclub.com.au/event/august-meal-special/2025-08-02/
LOCATION:The Services Club Maryborough\, 163-175 Lennox Street\, Maryborough\, QLD\, 4650\, Australia
CATEGORIES:All,Meal Specials
END:VEVENT
BEGIN:VEVENT
DTSTART;TZID=Australia/Brisbane:20250803T113000
DTEND;TZID=Australia/Brisbane:20250803T203000
DTSTAMP:20260421T155133
CREATED:20250801T031410Z
LAST-MODIFIED:20250807T040214Z
UID:10009367-1754220600-1754253000@maryboroughservicesclub.com.au
SUMMARY:August Meal Special
DESCRIPTION:Try our Monthly Meal Special at Maryborough Services Club! \nJoin us in August and try out our lamb shank for just $30! \nCall the Club on 4122 2321 to book your table or book online now!
URL:https://maryboroughservicesclub.com.au/event/august-meal-special/2025-08-03/
LOCATION:The Services Club Maryborough\, 163-175 Lennox Street\, Maryborough\, QLD\, 4650\, Australia
CATEGORIES:All,Meal Specials
END:VEVENT
BEGIN:VEVENT
DTSTART;TZID=Australia/Brisbane:20250804T113000
DTEND;TZID=Australia/Brisbane:20250804T200000
DTSTAMP:20260421T155133
CREATED:20250710T001935Z
LAST-MODIFIED:20250710T001935Z
UID:10007397-1754307000-1754337600@maryboroughservicesclub.com.au
SUMMARY:Kids Eat Free
DESCRIPTION:Kids eat FREE every Monday at Maryborough Services Club! \nEnjoy a free meal for the small ones with any adult main meal purchase during either lunch or dinner on Mondays. \nBook your table now online or call 4122 2321 & let us sort the kids. \nTerms and conditions apply. Specials not included. Children under 12 only.
URL:https://maryboroughservicesclub.com.au/event/kids-eat-free/2025-08-04/
LOCATION:The Services Club Maryborough\, 163-175 Lennox Street\, Maryborough\, QLD\, 4650\, Australia
CATEGORIES:All,Meal Specials
ATTACH;FMTTYPE=image/jpeg:https://maryboroughservicesclub.com.au/wp-content/uploads/2025/07/kids-eat-free-feat-image-custom.jpeg
END:VEVENT
BEGIN:VEVENT
DTSTART;TZID=Australia/Brisbane:20250804T113000
DTEND;TZID=Australia/Brisbane:20250804T203000
DTSTAMP:20260421T155133
CREATED:20250801T031410Z
LAST-MODIFIED:20250807T040214Z
UID:10009368-1754307000-1754339400@maryboroughservicesclub.com.au
SUMMARY:August Meal Special
DESCRIPTION:Try our Monthly Meal Special at Maryborough Services Club! \nJoin us in August and try out our lamb shank for just $30! \nCall the Club on 4122 2321 to book your table or book online now!
URL:https://maryboroughservicesclub.com.au/event/august-meal-special/2025-08-04/
LOCATION:The Services Club Maryborough\, 163-175 Lennox Street\, Maryborough\, QLD\, 4650\, Australia
CATEGORIES:All,Meal Specials
END:VEVENT
BEGIN:VEVENT
DTSTART;TZID=Australia/Brisbane:20250804T170000
DTEND;TZID=Australia/Brisbane:20250804T180000
DTSTAMP:20260421T155133
CREATED:20250810T230030Z
LAST-MODIFIED:20250810T230500Z
UID:10012808-1754326800-1754330400@maryboroughservicesclub.com.au
SUMMARY:Senior's Roast
DESCRIPTION:Calling all the seniors! \nTreat yourself to a senior’s roast every weekday from 5pm – 6pm for just $12.50! \nCall the Club on 4122 2321 to book your table or book online now! \nTerms and conditions apply. Please present your seniors card to be eligible. Available Monday to Friday only. \n  \n 
URL:https://maryboroughservicesclub.com.au/event/seniors-roast/2025-08-04/
LOCATION:The Services Club Maryborough\, 163-175 Lennox Street\, Maryborough\, QLD\, 4650\, Australia
CATEGORIES:All,Meal Specials
ATTACH;FMTTYPE=image/jpeg:https://maryboroughservicesclub.com.au/wp-content/uploads/2025/08/senior-s-meal-deal-web-feat-image-custom.jpeg
END:VEVENT
BEGIN:VEVENT
DTSTART;TZID=Australia/Brisbane:20250804T173000
DTEND;TZID=Australia/Brisbane:20250804T203000
DTSTAMP:20260421T155133
CREATED:20250710T003525Z
LAST-MODIFIED:20250903T005848Z
UID:10007919-1754328600-1754339400@maryboroughservicesclub.com.au
SUMMARY:Steak Night
DESCRIPTION:Monday Nights are Steak Night at Maryborough Services Club! \nTreat yourself with a 300g Sirloin steak cooked to your liking\, served with salad & chips or vegetables\, and your choice of sauce for just $25. \nTerms and conditions. Available for dinner only.
URL:https://maryboroughservicesclub.com.au/event/steak-night/2025-08-04/
LOCATION:The Services Club Maryborough\, 163-175 Lennox Street\, Maryborough\, QLD\, 4650\, Australia
CATEGORIES:All,Meal Specials
END:VEVENT
BEGIN:VEVENT
DTSTART;TZID=Australia/Brisbane:20250805T113000
DTEND;TZID=Australia/Brisbane:20250805T203000
DTSTAMP:20260421T155133
CREATED:20250801T031410Z
LAST-MODIFIED:20250807T040214Z
UID:10009369-1754393400-1754425800@maryboroughservicesclub.com.au
SUMMARY:August Meal Special
DESCRIPTION:Try our Monthly Meal Special at Maryborough Services Club! \nJoin us in August and try out our lamb shank for just $30! \nCall the Club on 4122 2321 to book your table or book online now!
URL:https://maryboroughservicesclub.com.au/event/august-meal-special/2025-08-05/
LOCATION:The Services Club Maryborough\, 163-175 Lennox Street\, Maryborough\, QLD\, 4650\, Australia
CATEGORIES:All,Meal Specials
END:VEVENT
BEGIN:VEVENT
DTSTART;TZID=Australia/Brisbane:20250805T170000
DTEND;TZID=Australia/Brisbane:20250805T180000
DTSTAMP:20260421T155133
CREATED:20250810T230030Z
LAST-MODIFIED:20250810T230500Z
UID:10012809-1754413200-1754416800@maryboroughservicesclub.com.au
SUMMARY:Senior's Roast
DESCRIPTION:Calling all the seniors! \nTreat yourself to a senior’s roast every weekday from 5pm – 6pm for just $12.50! \nCall the Club on 4122 2321 to book your table or book online now! \nTerms and conditions apply. Please present your seniors card to be eligible. Available Monday to Friday only. \n  \n 
URL:https://maryboroughservicesclub.com.au/event/seniors-roast/2025-08-05/
LOCATION:The Services Club Maryborough\, 163-175 Lennox Street\, Maryborough\, QLD\, 4650\, Australia
CATEGORIES:All,Meal Specials
ATTACH;FMTTYPE=image/jpeg:https://maryboroughservicesclub.com.au/wp-content/uploads/2025/08/senior-s-meal-deal-web-feat-image-custom.jpeg
END:VEVENT
BEGIN:VEVENT
DTSTART;TZID=Australia/Brisbane:20250806T113000
DTEND;TZID=Australia/Brisbane:20250806T203000
DTSTAMP:20260421T155133
CREATED:20250801T031410Z
LAST-MODIFIED:20250807T040214Z
UID:10009370-1754479800-1754512200@maryboroughservicesclub.com.au
SUMMARY:August Meal Special
DESCRIPTION:Try our Monthly Meal Special at Maryborough Services Club! \nJoin us in August and try out our lamb shank for just $30! \nCall the Club on 4122 2321 to book your table or book online now!
URL:https://maryboroughservicesclub.com.au/event/august-meal-special/2025-08-06/
LOCATION:The Services Club Maryborough\, 163-175 Lennox Street\, Maryborough\, QLD\, 4650\, Australia
CATEGORIES:All,Meal Specials
END:VEVENT
BEGIN:VEVENT
DTSTART;TZID=Australia/Brisbane:20250806T170000
DTEND;TZID=Australia/Brisbane:20250806T180000
DTSTAMP:20260421T155133
CREATED:20250810T230030Z
LAST-MODIFIED:20250810T230500Z
UID:10012810-1754499600-1754503200@maryboroughservicesclub.com.au
SUMMARY:Senior's Roast
DESCRIPTION:Calling all the seniors! \nTreat yourself to a senior’s roast every weekday from 5pm – 6pm for just $12.50! \nCall the Club on 4122 2321 to book your table or book online now! \nTerms and conditions apply. Please present your seniors card to be eligible. Available Monday to Friday only. \n  \n 
URL:https://maryboroughservicesclub.com.au/event/seniors-roast/2025-08-06/
LOCATION:The Services Club Maryborough\, 163-175 Lennox Street\, Maryborough\, QLD\, 4650\, Australia
CATEGORIES:All,Meal Specials
ATTACH;FMTTYPE=image/jpeg:https://maryboroughservicesclub.com.au/wp-content/uploads/2025/08/senior-s-meal-deal-web-feat-image-custom.jpeg
END:VEVENT
BEGIN:VEVENT
DTSTART;TZID=Australia/Brisbane:20250806T173000
DTEND;TZID=Australia/Brisbane:20250806T203000
DTSTAMP:20260421T155133
CREATED:20250710T002238Z
LAST-MODIFIED:20250903T005709Z
UID:10007658-1754501400-1754512200@maryboroughservicesclub.com.au
SUMMARY:Schnitzel Night
DESCRIPTION:Join us every Wednesday night for Schnitzel Night at Maryborough Services Club! \nEnjoy a Schnitzel served with salad & chips or vegetables\, from 5.30pm – 8.30pm for just $19 for members or $21 for non members. \nTerms and conditions apply.
URL:https://maryboroughservicesclub.com.au/event/schnitzel-night/2025-08-06/
LOCATION:The Services Club Maryborough\, 163-175 Lennox Street\, Maryborough\, QLD\, 4650\, Australia
CATEGORIES:All,Meal Specials
ATTACH;FMTTYPE=image/jpeg:https://maryboroughservicesclub.com.au/wp-content/uploads/2025/07/schnitty-feat-image.jpeg
END:VEVENT
BEGIN:VEVENT
DTSTART;TZID=Australia/Brisbane:20250807T113000
DTEND;TZID=Australia/Brisbane:20250807T203000
DTSTAMP:20260421T155133
CREATED:20250801T031410Z
LAST-MODIFIED:20250807T040214Z
UID:10009371-1754566200-1754598600@maryboroughservicesclub.com.au
SUMMARY:August Meal Special
DESCRIPTION:Try our Monthly Meal Special at Maryborough Services Club! \nJoin us in August and try out our lamb shank for just $30! \nCall the Club on 4122 2321 to book your table or book online now!
URL:https://maryboroughservicesclub.com.au/event/august-meal-special/2025-08-07/
LOCATION:The Services Club Maryborough\, 163-175 Lennox Street\, Maryborough\, QLD\, 4650\, Australia
CATEGORIES:All,Meal Specials
END:VEVENT
BEGIN:VEVENT
DTSTART;TZID=Australia/Brisbane:20250807T170000
DTEND;TZID=Australia/Brisbane:20250807T180000
DTSTAMP:20260421T155133
CREATED:20250810T230030Z
LAST-MODIFIED:20250810T230500Z
UID:10012811-1754586000-1754589600@maryboroughservicesclub.com.au
SUMMARY:Senior's Roast
DESCRIPTION:Calling all the seniors! \nTreat yourself to a senior’s roast every weekday from 5pm – 6pm for just $12.50! \nCall the Club on 4122 2321 to book your table or book online now! \nTerms and conditions apply. Please present your seniors card to be eligible. Available Monday to Friday only. \n  \n 
URL:https://maryboroughservicesclub.com.au/event/seniors-roast/2025-08-07/
LOCATION:The Services Club Maryborough\, 163-175 Lennox Street\, Maryborough\, QLD\, 4650\, Australia
CATEGORIES:All,Meal Specials
ATTACH;FMTTYPE=image/jpeg:https://maryboroughservicesclub.com.au/wp-content/uploads/2025/08/senior-s-meal-deal-web-feat-image-custom.jpeg
END:VEVENT
BEGIN:VEVENT
DTSTART;TZID=Australia/Brisbane:20250808T113000
DTEND;TZID=Australia/Brisbane:20250808T203000
DTSTAMP:20260421T155133
CREATED:20250801T031410Z
LAST-MODIFIED:20250807T040214Z
UID:10009234-1754652600-1754685000@maryboroughservicesclub.com.au
SUMMARY:August Meal Special
DESCRIPTION:Try our Monthly Meal Special at Maryborough Services Club! \nJoin us in August and try out our lamb shank for just $30! \nCall the Club on 4122 2321 to book your table or book online now!
URL:https://maryboroughservicesclub.com.au/event/august-meal-special/2025-08-08/
LOCATION:The Services Club Maryborough\, 163-175 Lennox Street\, Maryborough\, QLD\, 4650\, Australia
CATEGORIES:All,Meal Specials
END:VEVENT
BEGIN:VEVENT
DTSTART;TZID=Australia/Brisbane:20250808T170000
DTEND;TZID=Australia/Brisbane:20250808T180000
DTSTAMP:20260421T155133
CREATED:20250810T230030Z
LAST-MODIFIED:20250810T230500Z
UID:10012812-1754672400-1754676000@maryboroughservicesclub.com.au
SUMMARY:Senior's Roast
DESCRIPTION:Calling all the seniors! \nTreat yourself to a senior’s roast every weekday from 5pm – 6pm for just $12.50! \nCall the Club on 4122 2321 to book your table or book online now! \nTerms and conditions apply. Please present your seniors card to be eligible. Available Monday to Friday only. \n  \n 
URL:https://maryboroughservicesclub.com.au/event/seniors-roast/2025-08-08/
LOCATION:The Services Club Maryborough\, 163-175 Lennox Street\, Maryborough\, QLD\, 4650\, Australia
CATEGORIES:All,Meal Specials
ATTACH;FMTTYPE=image/jpeg:https://maryboroughservicesclub.com.au/wp-content/uploads/2025/08/senior-s-meal-deal-web-feat-image-custom.jpeg
END:VEVENT
BEGIN:VEVENT
DTSTART;TZID=Australia/Brisbane:20250809T113000
DTEND;TZID=Australia/Brisbane:20250809T203000
DTSTAMP:20260421T155133
CREATED:20250801T031410Z
LAST-MODIFIED:20250807T040214Z
UID:10009235-1754739000-1754771400@maryboroughservicesclub.com.au
SUMMARY:August Meal Special
DESCRIPTION:Try our Monthly Meal Special at Maryborough Services Club! \nJoin us in August and try out our lamb shank for just $30! \nCall the Club on 4122 2321 to book your table or book online now!
URL:https://maryboroughservicesclub.com.au/event/august-meal-special/2025-08-09/
LOCATION:The Services Club Maryborough\, 163-175 Lennox Street\, Maryborough\, QLD\, 4650\, Australia
CATEGORIES:All,Meal Specials
END:VEVENT
BEGIN:VEVENT
DTSTART;TZID=Australia/Brisbane:20250810T113000
DTEND;TZID=Australia/Brisbane:20250810T203000
DTSTAMP:20260421T155133
CREATED:20250801T031410Z
LAST-MODIFIED:20250807T040214Z
UID:10009372-1754825400-1754857800@maryboroughservicesclub.com.au
SUMMARY:August Meal Special
DESCRIPTION:Try our Monthly Meal Special at Maryborough Services Club! \nJoin us in August and try out our lamb shank for just $30! \nCall the Club on 4122 2321 to book your table or book online now!
URL:https://maryboroughservicesclub.com.au/event/august-meal-special/2025-08-10/
LOCATION:The Services Club Maryborough\, 163-175 Lennox Street\, Maryborough\, QLD\, 4650\, Australia
CATEGORIES:All,Meal Specials
END:VEVENT
BEGIN:VEVENT
DTSTART;TZID=Australia/Brisbane:20250811T113000
DTEND;TZID=Australia/Brisbane:20250811T200000
DTSTAMP:20260421T155133
CREATED:20250710T001935Z
LAST-MODIFIED:20250710T001935Z
UID:10007398-1754911800-1754942400@maryboroughservicesclub.com.au
SUMMARY:Kids Eat Free
DESCRIPTION:Kids eat FREE every Monday at Maryborough Services Club! \nEnjoy a free meal for the small ones with any adult main meal purchase during either lunch or dinner on Mondays. \nBook your table now online or call 4122 2321 & let us sort the kids. \nTerms and conditions apply. Specials not included. Children under 12 only.
URL:https://maryboroughservicesclub.com.au/event/kids-eat-free/2025-08-11/
LOCATION:The Services Club Maryborough\, 163-175 Lennox Street\, Maryborough\, QLD\, 4650\, Australia
CATEGORIES:All,Meal Specials
ATTACH;FMTTYPE=image/jpeg:https://maryboroughservicesclub.com.au/wp-content/uploads/2025/07/kids-eat-free-feat-image-custom.jpeg
END:VEVENT
BEGIN:VEVENT
DTSTART;TZID=Australia/Brisbane:20250811T113000
DTEND;TZID=Australia/Brisbane:20250811T203000
DTSTAMP:20260421T155133
CREATED:20250801T031410Z
LAST-MODIFIED:20250807T040214Z
UID:10009373-1754911800-1754944200@maryboroughservicesclub.com.au
SUMMARY:August Meal Special
DESCRIPTION:Try our Monthly Meal Special at Maryborough Services Club! \nJoin us in August and try out our lamb shank for just $30! \nCall the Club on 4122 2321 to book your table or book online now!
URL:https://maryboroughservicesclub.com.au/event/august-meal-special/2025-08-11/
LOCATION:The Services Club Maryborough\, 163-175 Lennox Street\, Maryborough\, QLD\, 4650\, Australia
CATEGORIES:All,Meal Specials
END:VEVENT
BEGIN:VEVENT
DTSTART;TZID=Australia/Brisbane:20250811T170000
DTEND;TZID=Australia/Brisbane:20250811T180000
DTSTAMP:20260421T155133
CREATED:20250810T230030Z
LAST-MODIFIED:20250810T230500Z
UID:10009388-1754931600-1754935200@maryboroughservicesclub.com.au
SUMMARY:Senior's Roast
DESCRIPTION:Calling all the seniors! \nTreat yourself to a senior’s roast every weekday from 5pm – 6pm for just $12.50! \nCall the Club on 4122 2321 to book your table or book online now! \nTerms and conditions apply. Please present your seniors card to be eligible. Available Monday to Friday only. \n  \n 
URL:https://maryboroughservicesclub.com.au/event/seniors-roast/2025-08-11/
LOCATION:The Services Club Maryborough\, 163-175 Lennox Street\, Maryborough\, QLD\, 4650\, Australia
CATEGORIES:All,Meal Specials
ATTACH;FMTTYPE=image/jpeg:https://maryboroughservicesclub.com.au/wp-content/uploads/2025/08/senior-s-meal-deal-web-feat-image-custom.jpeg
END:VEVENT
BEGIN:VEVENT
DTSTART;TZID=Australia/Brisbane:20250811T173000
DTEND;TZID=Australia/Brisbane:20250811T203000
DTSTAMP:20260421T155133
CREATED:20250710T003525Z
LAST-MODIFIED:20250903T005848Z
UID:10007920-1754933400-1754944200@maryboroughservicesclub.com.au
SUMMARY:Steak Night
DESCRIPTION:Monday Nights are Steak Night at Maryborough Services Club! \nTreat yourself with a 300g Sirloin steak cooked to your liking\, served with salad & chips or vegetables\, and your choice of sauce for just $25. \nTerms and conditions. Available for dinner only.
URL:https://maryboroughservicesclub.com.au/event/steak-night/2025-08-11/
LOCATION:The Services Club Maryborough\, 163-175 Lennox Street\, Maryborough\, QLD\, 4650\, Australia
CATEGORIES:All,Meal Specials
END:VEVENT
BEGIN:VEVENT
DTSTART;TZID=Australia/Brisbane:20250812T113000
DTEND;TZID=Australia/Brisbane:20250812T203000
DTSTAMP:20260421T155133
CREATED:20250801T031410Z
LAST-MODIFIED:20250807T040214Z
UID:10009374-1754998200-1755030600@maryboroughservicesclub.com.au
SUMMARY:August Meal Special
DESCRIPTION:Try our Monthly Meal Special at Maryborough Services Club! \nJoin us in August and try out our lamb shank for just $30! \nCall the Club on 4122 2321 to book your table or book online now!
URL:https://maryboroughservicesclub.com.au/event/august-meal-special/2025-08-12/
LOCATION:The Services Club Maryborough\, 163-175 Lennox Street\, Maryborough\, QLD\, 4650\, Australia
CATEGORIES:All,Meal Specials
END:VEVENT
BEGIN:VEVENT
DTSTART;TZID=Australia/Brisbane:20250812T170000
DTEND;TZID=Australia/Brisbane:20250812T180000
DTSTAMP:20260421T155133
CREATED:20250810T230030Z
LAST-MODIFIED:20250810T230500Z
UID:10009389-1755018000-1755021600@maryboroughservicesclub.com.au
SUMMARY:Senior's Roast
DESCRIPTION:Calling all the seniors! \nTreat yourself to a senior’s roast every weekday from 5pm – 6pm for just $12.50! \nCall the Club on 4122 2321 to book your table or book online now! \nTerms and conditions apply. Please present your seniors card to be eligible. Available Monday to Friday only. \n  \n 
URL:https://maryboroughservicesclub.com.au/event/seniors-roast/2025-08-12/
LOCATION:The Services Club Maryborough\, 163-175 Lennox Street\, Maryborough\, QLD\, 4650\, Australia
CATEGORIES:All,Meal Specials
ATTACH;FMTTYPE=image/jpeg:https://maryboroughservicesclub.com.au/wp-content/uploads/2025/08/senior-s-meal-deal-web-feat-image-custom.jpeg
END:VEVENT
BEGIN:VEVENT
DTSTART;TZID=Australia/Brisbane:20250813T113000
DTEND;TZID=Australia/Brisbane:20250813T203000
DTSTAMP:20260421T155133
CREATED:20250801T031410Z
LAST-MODIFIED:20250807T040214Z
UID:10009375-1755084600-1755117000@maryboroughservicesclub.com.au
SUMMARY:August Meal Special
DESCRIPTION:Try our Monthly Meal Special at Maryborough Services Club! \nJoin us in August and try out our lamb shank for just $30! \nCall the Club on 4122 2321 to book your table or book online now!
URL:https://maryboroughservicesclub.com.au/event/august-meal-special/2025-08-13/
LOCATION:The Services Club Maryborough\, 163-175 Lennox Street\, Maryborough\, QLD\, 4650\, Australia
CATEGORIES:All,Meal Specials
END:VEVENT
BEGIN:VEVENT
DTSTART;TZID=Australia/Brisbane:20250813T170000
DTEND;TZID=Australia/Brisbane:20250813T180000
DTSTAMP:20260421T155133
CREATED:20250810T230030Z
LAST-MODIFIED:20250810T230500Z
UID:10009390-1755104400-1755108000@maryboroughservicesclub.com.au
SUMMARY:Senior's Roast
DESCRIPTION:Calling all the seniors! \nTreat yourself to a senior’s roast every weekday from 5pm – 6pm for just $12.50! \nCall the Club on 4122 2321 to book your table or book online now! \nTerms and conditions apply. Please present your seniors card to be eligible. Available Monday to Friday only. \n  \n 
URL:https://maryboroughservicesclub.com.au/event/seniors-roast/2025-08-13/
LOCATION:The Services Club Maryborough\, 163-175 Lennox Street\, Maryborough\, QLD\, 4650\, Australia
CATEGORIES:All,Meal Specials
ATTACH;FMTTYPE=image/jpeg:https://maryboroughservicesclub.com.au/wp-content/uploads/2025/08/senior-s-meal-deal-web-feat-image-custom.jpeg
END:VEVENT
BEGIN:VEVENT
DTSTART;TZID=Australia/Brisbane:20250813T173000
DTEND;TZID=Australia/Brisbane:20250813T203000
DTSTAMP:20260421T155133
CREATED:20250710T002238Z
LAST-MODIFIED:20250903T005709Z
UID:10007659-1755106200-1755117000@maryboroughservicesclub.com.au
SUMMARY:Schnitzel Night
DESCRIPTION:Join us every Wednesday night for Schnitzel Night at Maryborough Services Club! \nEnjoy a Schnitzel served with salad & chips or vegetables\, from 5.30pm – 8.30pm for just $19 for members or $21 for non members. \nTerms and conditions apply.
URL:https://maryboroughservicesclub.com.au/event/schnitzel-night/2025-08-13/
LOCATION:The Services Club Maryborough\, 163-175 Lennox Street\, Maryborough\, QLD\, 4650\, Australia
CATEGORIES:All,Meal Specials
ATTACH;FMTTYPE=image/jpeg:https://maryboroughservicesclub.com.au/wp-content/uploads/2025/07/schnitty-feat-image.jpeg
END:VEVENT
BEGIN:VEVENT
DTSTART;TZID=Australia/Brisbane:20250814T113000
DTEND;TZID=Australia/Brisbane:20250814T203000
DTSTAMP:20260421T155133
CREATED:20250801T031410Z
LAST-MODIFIED:20250807T040214Z
UID:10009376-1755171000-1755203400@maryboroughservicesclub.com.au
SUMMARY:August Meal Special
DESCRIPTION:Try our Monthly Meal Special at Maryborough Services Club! \nJoin us in August and try out our lamb shank for just $30! \nCall the Club on 4122 2321 to book your table or book online now!
URL:https://maryboroughservicesclub.com.au/event/august-meal-special/2025-08-14/
LOCATION:The Services Club Maryborough\, 163-175 Lennox Street\, Maryborough\, QLD\, 4650\, Australia
CATEGORIES:All,Meal Specials
END:VEVENT
BEGIN:VEVENT
DTSTART;TZID=Australia/Brisbane:20250814T170000
DTEND;TZID=Australia/Brisbane:20250814T180000
DTSTAMP:20260421T155133
CREATED:20250810T230030Z
LAST-MODIFIED:20250810T230500Z
UID:10009391-1755190800-1755194400@maryboroughservicesclub.com.au
SUMMARY:Senior's Roast
DESCRIPTION:Calling all the seniors! \nTreat yourself to a senior’s roast every weekday from 5pm – 6pm for just $12.50! \nCall the Club on 4122 2321 to book your table or book online now! \nTerms and conditions apply. Please present your seniors card to be eligible. Available Monday to Friday only. \n  \n 
URL:https://maryboroughservicesclub.com.au/event/seniors-roast/2025-08-14/
LOCATION:The Services Club Maryborough\, 163-175 Lennox Street\, Maryborough\, QLD\, 4650\, Australia
CATEGORIES:All,Meal Specials
ATTACH;FMTTYPE=image/jpeg:https://maryboroughservicesclub.com.au/wp-content/uploads/2025/08/senior-s-meal-deal-web-feat-image-custom.jpeg
END:VEVENT
END:VCALENDAR