BEGIN:VCALENDAR
VERSION:2.0
PRODID:-//Maryborough Services Club - ECPv6.15.17//NONSGML v1.0//EN
CALSCALE:GREGORIAN
METHOD:PUBLISH
X-ORIGINAL-URL:https://maryboroughservicesclub.com.au
X-WR-CALDESC:Events for Maryborough Services Club
REFRESH-INTERVAL;VALUE=DURATION:PT1H
X-Robots-Tag:noindex
X-PUBLISHED-TTL:PT1H
BEGIN:VTIMEZONE
TZID:Australia/Brisbane
BEGIN:STANDARD
TZOFFSETFROM:+1000
TZOFFSETTO:+1000
TZNAME:AEST
DTSTART:20240101T000000
END:STANDARD
END:VTIMEZONE
BEGIN:VEVENT
DTSTART;TZID=Australia/Brisbane:20251001T170000
DTEND;TZID=Australia/Brisbane:20251001T180000
DTSTAMP:20260421T110956
CREATED:20250810T230030Z
LAST-MODIFIED:20250810T230500Z
UID:10009439-1759338000-1759341600@maryboroughservicesclub.com.au
SUMMARY:Senior's Roast
DESCRIPTION:Calling all the seniors! \nTreat yourself to a senior’s roast every weekday from 5pm – 6pm for just $12.50! \nCall the Club on 4122 2321 to book your table or book online now! \nTerms and conditions apply. Please present your seniors card to be eligible. Available Monday to Friday only. \n  \n 
URL:https://maryboroughservicesclub.com.au/event/seniors-roast/2025-10-01/
LOCATION:The Services Club Maryborough\, 163-175 Lennox Street\, Maryborough\, QLD\, 4650\, Australia
CATEGORIES:All,Meal Specials
ATTACH;FMTTYPE=image/jpeg:https://maryboroughservicesclub.com.au/wp-content/uploads/2025/08/senior-s-meal-deal-web-feat-image-custom.jpeg
END:VEVENT
BEGIN:VEVENT
DTSTART;TZID=Australia/Brisbane:20251001T173000
DTEND;TZID=Australia/Brisbane:20251001T203000
DTSTAMP:20260421T110956
CREATED:20250710T002238Z
LAST-MODIFIED:20250903T005709Z
UID:10007666-1759339800-1759350600@maryboroughservicesclub.com.au
SUMMARY:Schnitzel Night
DESCRIPTION:Join us every Wednesday night for Schnitzel Night at Maryborough Services Club! \nEnjoy a Schnitzel served with salad & chips or vegetables\, from 5.30pm – 8.30pm for just $19 for members or $21 for non members. \nTerms and conditions apply.
URL:https://maryboroughservicesclub.com.au/event/schnitzel-night/2025-10-01/
LOCATION:The Services Club Maryborough\, 163-175 Lennox Street\, Maryborough\, QLD\, 4650\, Australia
CATEGORIES:All,Meal Specials
ATTACH;FMTTYPE=image/jpeg:https://maryboroughservicesclub.com.au/wp-content/uploads/2025/07/schnitty-feat-image.jpeg
END:VEVENT
BEGIN:VEVENT
DTSTART;TZID=Australia/Brisbane:20251002T170000
DTEND;TZID=Australia/Brisbane:20251002T180000
DTSTAMP:20260421T110956
CREATED:20250810T230030Z
LAST-MODIFIED:20250810T230500Z
UID:10009440-1759424400-1759428000@maryboroughservicesclub.com.au
SUMMARY:Senior's Roast
DESCRIPTION:Calling all the seniors! \nTreat yourself to a senior’s roast every weekday from 5pm – 6pm for just $12.50! \nCall the Club on 4122 2321 to book your table or book online now! \nTerms and conditions apply. Please present your seniors card to be eligible. Available Monday to Friday only. \n  \n 
URL:https://maryboroughservicesclub.com.au/event/seniors-roast/2025-10-02/
LOCATION:The Services Club Maryborough\, 163-175 Lennox Street\, Maryborough\, QLD\, 4650\, Australia
CATEGORIES:All,Meal Specials
ATTACH;FMTTYPE=image/jpeg:https://maryboroughservicesclub.com.au/wp-content/uploads/2025/08/senior-s-meal-deal-web-feat-image-custom.jpeg
END:VEVENT
BEGIN:VEVENT
DTSTART;TZID=Australia/Brisbane:20251003T170000
DTEND;TZID=Australia/Brisbane:20251003T180000
DTSTAMP:20260421T110956
CREATED:20250810T230030Z
LAST-MODIFIED:20250810T230500Z
UID:10009441-1759510800-1759514400@maryboroughservicesclub.com.au
SUMMARY:Senior's Roast
DESCRIPTION:Calling all the seniors! \nTreat yourself to a senior’s roast every weekday from 5pm – 6pm for just $12.50! \nCall the Club on 4122 2321 to book your table or book online now! \nTerms and conditions apply. Please present your seniors card to be eligible. Available Monday to Friday only. \n  \n 
URL:https://maryboroughservicesclub.com.au/event/seniors-roast/2025-10-03/
LOCATION:The Services Club Maryborough\, 163-175 Lennox Street\, Maryborough\, QLD\, 4650\, Australia
CATEGORIES:All,Meal Specials
ATTACH;FMTTYPE=image/jpeg:https://maryboroughservicesclub.com.au/wp-content/uploads/2025/08/senior-s-meal-deal-web-feat-image-custom.jpeg
END:VEVENT
BEGIN:VEVENT
DTSTART;TZID=Australia/Brisbane:20251004T160000
DTEND;TZID=Australia/Brisbane:20251004T203000
DTSTAMP:20260421T110956
CREATED:20250827T013251Z
LAST-MODIFIED:20250919T004706Z
UID:10013086-1759593600-1759609800@maryboroughservicesclub.com.au
SUMMARY:Oktoberfest
DESCRIPTION:Join us for the Oktoberfest at The Services Club on Saturday 4th & Sunday 5th October! \nJoin us for a festive weekend as we bring a taste of Germany to the Bistro! We will have traditional German meals on special – think schnitzels\, bratwurst\, sauerkraut & more. \nBut that’s not all! We will also have some family-friendly German band live from 4pm Saturday in the bistro – get ready to dance\, sing and celebrate! \nBring your friends\, bring the family – it’s going to be a wunderbar time! \nClick here to book your table now.
URL:https://maryboroughservicesclub.com.au/event/oktoberfest/2025-10-04/
LOCATION:The Services Club Maryborough\, 163-175 Lennox Street\, Maryborough\, QLD\, 4650\, Australia
CATEGORIES:All,Meal Specials
END:VEVENT
BEGIN:VEVENT
DTSTART;TZID=Australia/Brisbane:20251005T160000
DTEND;TZID=Australia/Brisbane:20251005T203000
DTSTAMP:20260421T110956
CREATED:20250827T013251Z
LAST-MODIFIED:20250919T004706Z
UID:10013087-1759680000-1759696200@maryboroughservicesclub.com.au
SUMMARY:Oktoberfest
DESCRIPTION:Join us for the Oktoberfest at The Services Club on Saturday 4th & Sunday 5th October! \nJoin us for a festive weekend as we bring a taste of Germany to the Bistro! We will have traditional German meals on special – think schnitzels\, bratwurst\, sauerkraut & more. \nBut that’s not all! We will also have some family-friendly German band live from 4pm Saturday in the bistro – get ready to dance\, sing and celebrate! \nBring your friends\, bring the family – it’s going to be a wunderbar time! \nClick here to book your table now.
URL:https://maryboroughservicesclub.com.au/event/oktoberfest/2025-10-05/
LOCATION:The Services Club Maryborough\, 163-175 Lennox Street\, Maryborough\, QLD\, 4650\, Australia
CATEGORIES:All,Meal Specials
END:VEVENT
BEGIN:VEVENT
DTSTART;TZID=Australia/Brisbane:20251005T183000
DTEND;TZID=Australia/Brisbane:20251005T210000
DTSTAMP:20260421T110956
CREATED:20250930T024621Z
LAST-MODIFIED:20250930T024621Z
UID:10013947-1759689000-1759698000@maryboroughservicesclub.com.au
SUMMARY:NRL Grand Final
DESCRIPTION:Catch all the action live and loud of the NRL Grand Final on Sunday 5th October from 6.30pm in Maryborough Services Club! \nPlus\, we’ll have giveaways throughout the game\, and our $39 pizza + jug deal will be available during game time. \nSee you there! \nTerms and conditions apply. Available in the sports bar only.
URL:https://maryboroughservicesclub.com.au/event/nrl-grand-final/
LOCATION:The Services Club Maryborough\, 163-175 Lennox Street\, Maryborough\, QLD\, 4650\, Australia
CATEGORIES:All,Entertainment,Meal Specials,Special Events
END:VEVENT
BEGIN:VEVENT
DTSTART;TZID=Australia/Brisbane:20251006T113000
DTEND;TZID=Australia/Brisbane:20251006T200000
DTSTAMP:20260421T110956
CREATED:20250710T001935Z
LAST-MODIFIED:20250710T001935Z
UID:10007406-1759750200-1759780800@maryboroughservicesclub.com.au
SUMMARY:Kids Eat Free
DESCRIPTION:Kids eat FREE every Monday at Maryborough Services Club! \nEnjoy a free meal for the small ones with any adult main meal purchase during either lunch or dinner on Mondays. \nBook your table now online or call 4122 2321 & let us sort the kids. \nTerms and conditions apply. Specials not included. Children under 12 only.
URL:https://maryboroughservicesclub.com.au/event/kids-eat-free/2025-10-06/
LOCATION:The Services Club Maryborough\, 163-175 Lennox Street\, Maryborough\, QLD\, 4650\, Australia
CATEGORIES:All,Meal Specials
ATTACH;FMTTYPE=image/jpeg:https://maryboroughservicesclub.com.au/wp-content/uploads/2025/07/kids-eat-free-feat-image-custom.jpeg
END:VEVENT
BEGIN:VEVENT
DTSTART;TZID=Australia/Brisbane:20251006T170000
DTEND;TZID=Australia/Brisbane:20251006T180000
DTSTAMP:20260421T110956
CREATED:20250810T230030Z
LAST-MODIFIED:20250810T230500Z
UID:10009444-1759770000-1759773600@maryboroughservicesclub.com.au
SUMMARY:Senior's Roast
DESCRIPTION:Calling all the seniors! \nTreat yourself to a senior’s roast every weekday from 5pm – 6pm for just $12.50! \nCall the Club on 4122 2321 to book your table or book online now! \nTerms and conditions apply. Please present your seniors card to be eligible. Available Monday to Friday only. \n  \n 
URL:https://maryboroughservicesclub.com.au/event/seniors-roast/2025-10-06/
LOCATION:The Services Club Maryborough\, 163-175 Lennox Street\, Maryborough\, QLD\, 4650\, Australia
CATEGORIES:All,Meal Specials
ATTACH;FMTTYPE=image/jpeg:https://maryboroughservicesclub.com.au/wp-content/uploads/2025/08/senior-s-meal-deal-web-feat-image-custom.jpeg
END:VEVENT
BEGIN:VEVENT
DTSTART;TZID=Australia/Brisbane:20251006T173000
DTEND;TZID=Australia/Brisbane:20251006T203000
DTSTAMP:20260421T110956
CREATED:20250710T003525Z
LAST-MODIFIED:20250903T005848Z
UID:10007928-1759771800-1759782600@maryboroughservicesclub.com.au
SUMMARY:Steak Night
DESCRIPTION:Monday Nights are Steak Night at Maryborough Services Club! \nTreat yourself with a 300g Sirloin steak cooked to your liking\, served with salad & chips or vegetables\, and your choice of sauce for just $25. \nTerms and conditions. Available for dinner only.
URL:https://maryboroughservicesclub.com.au/event/steak-night/2025-10-06/
LOCATION:The Services Club Maryborough\, 163-175 Lennox Street\, Maryborough\, QLD\, 4650\, Australia
CATEGORIES:All,Meal Specials
END:VEVENT
BEGIN:VEVENT
DTSTART;TZID=Australia/Brisbane:20251007T170000
DTEND;TZID=Australia/Brisbane:20251007T180000
DTSTAMP:20260421T110956
CREATED:20250810T230030Z
LAST-MODIFIED:20250810T230500Z
UID:10009445-1759856400-1759860000@maryboroughservicesclub.com.au
SUMMARY:Senior's Roast
DESCRIPTION:Calling all the seniors! \nTreat yourself to a senior’s roast every weekday from 5pm – 6pm for just $12.50! \nCall the Club on 4122 2321 to book your table or book online now! \nTerms and conditions apply. Please present your seniors card to be eligible. Available Monday to Friday only. \n  \n 
URL:https://maryboroughservicesclub.com.au/event/seniors-roast/2025-10-07/
LOCATION:The Services Club Maryborough\, 163-175 Lennox Street\, Maryborough\, QLD\, 4650\, Australia
CATEGORIES:All,Meal Specials
ATTACH;FMTTYPE=image/jpeg:https://maryboroughservicesclub.com.au/wp-content/uploads/2025/08/senior-s-meal-deal-web-feat-image-custom.jpeg
END:VEVENT
BEGIN:VEVENT
DTSTART;TZID=Australia/Brisbane:20251008T170000
DTEND;TZID=Australia/Brisbane:20251008T180000
DTSTAMP:20260421T110956
CREATED:20250810T230030Z
LAST-MODIFIED:20250810T230500Z
UID:10009446-1759942800-1759946400@maryboroughservicesclub.com.au
SUMMARY:Senior's Roast
DESCRIPTION:Calling all the seniors! \nTreat yourself to a senior’s roast every weekday from 5pm – 6pm for just $12.50! \nCall the Club on 4122 2321 to book your table or book online now! \nTerms and conditions apply. Please present your seniors card to be eligible. Available Monday to Friday only. \n  \n 
URL:https://maryboroughservicesclub.com.au/event/seniors-roast/2025-10-08/
LOCATION:The Services Club Maryborough\, 163-175 Lennox Street\, Maryborough\, QLD\, 4650\, Australia
CATEGORIES:All,Meal Specials
ATTACH;FMTTYPE=image/jpeg:https://maryboroughservicesclub.com.au/wp-content/uploads/2025/08/senior-s-meal-deal-web-feat-image-custom.jpeg
END:VEVENT
BEGIN:VEVENT
DTSTART;TZID=Australia/Brisbane:20251008T173000
DTEND;TZID=Australia/Brisbane:20251008T203000
DTSTAMP:20260421T110956
CREATED:20250710T002238Z
LAST-MODIFIED:20250903T005709Z
UID:10007667-1759944600-1759955400@maryboroughservicesclub.com.au
SUMMARY:Schnitzel Night
DESCRIPTION:Join us every Wednesday night for Schnitzel Night at Maryborough Services Club! \nEnjoy a Schnitzel served with salad & chips or vegetables\, from 5.30pm – 8.30pm for just $19 for members or $21 for non members. \nTerms and conditions apply.
URL:https://maryboroughservicesclub.com.au/event/schnitzel-night/2025-10-08/
LOCATION:The Services Club Maryborough\, 163-175 Lennox Street\, Maryborough\, QLD\, 4650\, Australia
CATEGORIES:All,Meal Specials
ATTACH;FMTTYPE=image/jpeg:https://maryboroughservicesclub.com.au/wp-content/uploads/2025/07/schnitty-feat-image.jpeg
END:VEVENT
BEGIN:VEVENT
DTSTART;TZID=Australia/Brisbane:20251009T170000
DTEND;TZID=Australia/Brisbane:20251009T180000
DTSTAMP:20260421T110956
CREATED:20250810T230030Z
LAST-MODIFIED:20250810T230500Z
UID:10009447-1760029200-1760032800@maryboroughservicesclub.com.au
SUMMARY:Senior's Roast
DESCRIPTION:Calling all the seniors! \nTreat yourself to a senior’s roast every weekday from 5pm – 6pm for just $12.50! \nCall the Club on 4122 2321 to book your table or book online now! \nTerms and conditions apply. Please present your seniors card to be eligible. Available Monday to Friday only. \n  \n 
URL:https://maryboroughservicesclub.com.au/event/seniors-roast/2025-10-09/
LOCATION:The Services Club Maryborough\, 163-175 Lennox Street\, Maryborough\, QLD\, 4650\, Australia
CATEGORIES:All,Meal Specials
ATTACH;FMTTYPE=image/jpeg:https://maryboroughservicesclub.com.au/wp-content/uploads/2025/08/senior-s-meal-deal-web-feat-image-custom.jpeg
END:VEVENT
BEGIN:VEVENT
DTSTART;TZID=Australia/Brisbane:20251010T170000
DTEND;TZID=Australia/Brisbane:20251010T180000
DTSTAMP:20260421T110956
CREATED:20250810T230030Z
LAST-MODIFIED:20250810T230500Z
UID:10009448-1760115600-1760119200@maryboroughservicesclub.com.au
SUMMARY:Senior's Roast
DESCRIPTION:Calling all the seniors! \nTreat yourself to a senior’s roast every weekday from 5pm – 6pm for just $12.50! \nCall the Club on 4122 2321 to book your table or book online now! \nTerms and conditions apply. Please present your seniors card to be eligible. Available Monday to Friday only. \n  \n 
URL:https://maryboroughservicesclub.com.au/event/seniors-roast/2025-10-10/
LOCATION:The Services Club Maryborough\, 163-175 Lennox Street\, Maryborough\, QLD\, 4650\, Australia
CATEGORIES:All,Meal Specials
ATTACH;FMTTYPE=image/jpeg:https://maryboroughservicesclub.com.au/wp-content/uploads/2025/08/senior-s-meal-deal-web-feat-image-custom.jpeg
END:VEVENT
BEGIN:VEVENT
DTSTART;TZID=Australia/Brisbane:20251013T113000
DTEND;TZID=Australia/Brisbane:20251013T200000
DTSTAMP:20260421T110956
CREATED:20250710T001935Z
LAST-MODIFIED:20250710T001935Z
UID:10007407-1760355000-1760385600@maryboroughservicesclub.com.au
SUMMARY:Kids Eat Free
DESCRIPTION:Kids eat FREE every Monday at Maryborough Services Club! \nEnjoy a free meal for the small ones with any adult main meal purchase during either lunch or dinner on Mondays. \nBook your table now online or call 4122 2321 & let us sort the kids. \nTerms and conditions apply. Specials not included. Children under 12 only.
URL:https://maryboroughservicesclub.com.au/event/kids-eat-free/2025-10-13/
LOCATION:The Services Club Maryborough\, 163-175 Lennox Street\, Maryborough\, QLD\, 4650\, Australia
CATEGORIES:All,Meal Specials
ATTACH;FMTTYPE=image/jpeg:https://maryboroughservicesclub.com.au/wp-content/uploads/2025/07/kids-eat-free-feat-image-custom.jpeg
END:VEVENT
BEGIN:VEVENT
DTSTART;TZID=Australia/Brisbane:20251013T170000
DTEND;TZID=Australia/Brisbane:20251013T180000
DTSTAMP:20260421T110956
CREATED:20250810T230030Z
LAST-MODIFIED:20250810T230500Z
UID:10009451-1760374800-1760378400@maryboroughservicesclub.com.au
SUMMARY:Senior's Roast
DESCRIPTION:Calling all the seniors! \nTreat yourself to a senior’s roast every weekday from 5pm – 6pm for just $12.50! \nCall the Club on 4122 2321 to book your table or book online now! \nTerms and conditions apply. Please present your seniors card to be eligible. Available Monday to Friday only. \n  \n 
URL:https://maryboroughservicesclub.com.au/event/seniors-roast/2025-10-13/
LOCATION:The Services Club Maryborough\, 163-175 Lennox Street\, Maryborough\, QLD\, 4650\, Australia
CATEGORIES:All,Meal Specials
ATTACH;FMTTYPE=image/jpeg:https://maryboroughservicesclub.com.au/wp-content/uploads/2025/08/senior-s-meal-deal-web-feat-image-custom.jpeg
END:VEVENT
BEGIN:VEVENT
DTSTART;TZID=Australia/Brisbane:20251013T173000
DTEND;TZID=Australia/Brisbane:20251013T203000
DTSTAMP:20260421T110956
CREATED:20250710T003525Z
LAST-MODIFIED:20250903T005848Z
UID:10007929-1760376600-1760387400@maryboroughservicesclub.com.au
SUMMARY:Steak Night
DESCRIPTION:Monday Nights are Steak Night at Maryborough Services Club! \nTreat yourself with a 300g Sirloin steak cooked to your liking\, served with salad & chips or vegetables\, and your choice of sauce for just $25. \nTerms and conditions. Available for dinner only.
URL:https://maryboroughservicesclub.com.au/event/steak-night/2025-10-13/
LOCATION:The Services Club Maryborough\, 163-175 Lennox Street\, Maryborough\, QLD\, 4650\, Australia
CATEGORIES:All,Meal Specials
END:VEVENT
BEGIN:VEVENT
DTSTART;TZID=Australia/Brisbane:20251014T170000
DTEND;TZID=Australia/Brisbane:20251014T180000
DTSTAMP:20260421T110956
CREATED:20250810T230030Z
LAST-MODIFIED:20250810T230500Z
UID:10009452-1760461200-1760464800@maryboroughservicesclub.com.au
SUMMARY:Senior's Roast
DESCRIPTION:Calling all the seniors! \nTreat yourself to a senior’s roast every weekday from 5pm – 6pm for just $12.50! \nCall the Club on 4122 2321 to book your table or book online now! \nTerms and conditions apply. Please present your seniors card to be eligible. Available Monday to Friday only. \n  \n 
URL:https://maryboroughservicesclub.com.au/event/seniors-roast/2025-10-14/
LOCATION:The Services Club Maryborough\, 163-175 Lennox Street\, Maryborough\, QLD\, 4650\, Australia
CATEGORIES:All,Meal Specials
ATTACH;FMTTYPE=image/jpeg:https://maryboroughservicesclub.com.au/wp-content/uploads/2025/08/senior-s-meal-deal-web-feat-image-custom.jpeg
END:VEVENT
BEGIN:VEVENT
DTSTART;TZID=Australia/Brisbane:20251015T170000
DTEND;TZID=Australia/Brisbane:20251015T180000
DTSTAMP:20260421T110956
CREATED:20250810T230030Z
LAST-MODIFIED:20250810T230500Z
UID:10009453-1760547600-1760551200@maryboroughservicesclub.com.au
SUMMARY:Senior's Roast
DESCRIPTION:Calling all the seniors! \nTreat yourself to a senior’s roast every weekday from 5pm – 6pm for just $12.50! \nCall the Club on 4122 2321 to book your table or book online now! \nTerms and conditions apply. Please present your seniors card to be eligible. Available Monday to Friday only. \n  \n 
URL:https://maryboroughservicesclub.com.au/event/seniors-roast/2025-10-15/
LOCATION:The Services Club Maryborough\, 163-175 Lennox Street\, Maryborough\, QLD\, 4650\, Australia
CATEGORIES:All,Meal Specials
ATTACH;FMTTYPE=image/jpeg:https://maryboroughservicesclub.com.au/wp-content/uploads/2025/08/senior-s-meal-deal-web-feat-image-custom.jpeg
END:VEVENT
BEGIN:VEVENT
DTSTART;TZID=Australia/Brisbane:20251015T173000
DTEND;TZID=Australia/Brisbane:20251015T203000
DTSTAMP:20260421T110956
CREATED:20250710T002238Z
LAST-MODIFIED:20250903T005709Z
UID:10007668-1760549400-1760560200@maryboroughservicesclub.com.au
SUMMARY:Schnitzel Night
DESCRIPTION:Join us every Wednesday night for Schnitzel Night at Maryborough Services Club! \nEnjoy a Schnitzel served with salad & chips or vegetables\, from 5.30pm – 8.30pm for just $19 for members or $21 for non members. \nTerms and conditions apply.
URL:https://maryboroughservicesclub.com.au/event/schnitzel-night/2025-10-15/
LOCATION:The Services Club Maryborough\, 163-175 Lennox Street\, Maryborough\, QLD\, 4650\, Australia
CATEGORIES:All,Meal Specials
ATTACH;FMTTYPE=image/jpeg:https://maryboroughservicesclub.com.au/wp-content/uploads/2025/07/schnitty-feat-image.jpeg
END:VEVENT
BEGIN:VEVENT
DTSTART;TZID=Australia/Brisbane:20251016T170000
DTEND;TZID=Australia/Brisbane:20251016T180000
DTSTAMP:20260421T110956
CREATED:20250810T230030Z
LAST-MODIFIED:20250810T230500Z
UID:10009454-1760634000-1760637600@maryboroughservicesclub.com.au
SUMMARY:Senior's Roast
DESCRIPTION:Calling all the seniors! \nTreat yourself to a senior’s roast every weekday from 5pm – 6pm for just $12.50! \nCall the Club on 4122 2321 to book your table or book online now! \nTerms and conditions apply. Please present your seniors card to be eligible. Available Monday to Friday only. \n  \n 
URL:https://maryboroughservicesclub.com.au/event/seniors-roast/2025-10-16/
LOCATION:The Services Club Maryborough\, 163-175 Lennox Street\, Maryborough\, QLD\, 4650\, Australia
CATEGORIES:All,Meal Specials
ATTACH;FMTTYPE=image/jpeg:https://maryboroughservicesclub.com.au/wp-content/uploads/2025/08/senior-s-meal-deal-web-feat-image-custom.jpeg
END:VEVENT
BEGIN:VEVENT
DTSTART;TZID=Australia/Brisbane:20251017T170000
DTEND;TZID=Australia/Brisbane:20251017T180000
DTSTAMP:20260421T110956
CREATED:20250810T230030Z
LAST-MODIFIED:20250810T230500Z
UID:10009455-1760720400-1760724000@maryboroughservicesclub.com.au
SUMMARY:Senior's Roast
DESCRIPTION:Calling all the seniors! \nTreat yourself to a senior’s roast every weekday from 5pm – 6pm for just $12.50! \nCall the Club on 4122 2321 to book your table or book online now! \nTerms and conditions apply. Please present your seniors card to be eligible. Available Monday to Friday only. \n  \n 
URL:https://maryboroughservicesclub.com.au/event/seniors-roast/2025-10-17/
LOCATION:The Services Club Maryborough\, 163-175 Lennox Street\, Maryborough\, QLD\, 4650\, Australia
CATEGORIES:All,Meal Specials
ATTACH;FMTTYPE=image/jpeg:https://maryboroughservicesclub.com.au/wp-content/uploads/2025/08/senior-s-meal-deal-web-feat-image-custom.jpeg
END:VEVENT
BEGIN:VEVENT
DTSTART;TZID=Australia/Brisbane:20251020T113000
DTEND;TZID=Australia/Brisbane:20251020T200000
DTSTAMP:20260421T110956
CREATED:20250710T001935Z
LAST-MODIFIED:20250710T001935Z
UID:10007408-1760959800-1760990400@maryboroughservicesclub.com.au
SUMMARY:Kids Eat Free
DESCRIPTION:Kids eat FREE every Monday at Maryborough Services Club! \nEnjoy a free meal for the small ones with any adult main meal purchase during either lunch or dinner on Mondays. \nBook your table now online or call 4122 2321 & let us sort the kids. \nTerms and conditions apply. Specials not included. Children under 12 only.
URL:https://maryboroughservicesclub.com.au/event/kids-eat-free/2025-10-20/
LOCATION:The Services Club Maryborough\, 163-175 Lennox Street\, Maryborough\, QLD\, 4650\, Australia
CATEGORIES:All,Meal Specials
ATTACH;FMTTYPE=image/jpeg:https://maryboroughservicesclub.com.au/wp-content/uploads/2025/07/kids-eat-free-feat-image-custom.jpeg
END:VEVENT
BEGIN:VEVENT
DTSTART;TZID=Australia/Brisbane:20251020T170000
DTEND;TZID=Australia/Brisbane:20251020T180000
DTSTAMP:20260421T110956
CREATED:20250810T230030Z
LAST-MODIFIED:20250810T230500Z
UID:10009458-1760979600-1760983200@maryboroughservicesclub.com.au
SUMMARY:Senior's Roast
DESCRIPTION:Calling all the seniors! \nTreat yourself to a senior’s roast every weekday from 5pm – 6pm for just $12.50! \nCall the Club on 4122 2321 to book your table or book online now! \nTerms and conditions apply. Please present your seniors card to be eligible. Available Monday to Friday only. \n  \n 
URL:https://maryboroughservicesclub.com.au/event/seniors-roast/2025-10-20/
LOCATION:The Services Club Maryborough\, 163-175 Lennox Street\, Maryborough\, QLD\, 4650\, Australia
CATEGORIES:All,Meal Specials
ATTACH;FMTTYPE=image/jpeg:https://maryboroughservicesclub.com.au/wp-content/uploads/2025/08/senior-s-meal-deal-web-feat-image-custom.jpeg
END:VEVENT
BEGIN:VEVENT
DTSTART;TZID=Australia/Brisbane:20251020T173000
DTEND;TZID=Australia/Brisbane:20251020T203000
DTSTAMP:20260421T110956
CREATED:20250710T003525Z
LAST-MODIFIED:20250903T005848Z
UID:10007930-1760981400-1760992200@maryboroughservicesclub.com.au
SUMMARY:Steak Night
DESCRIPTION:Monday Nights are Steak Night at Maryborough Services Club! \nTreat yourself with a 300g Sirloin steak cooked to your liking\, served with salad & chips or vegetables\, and your choice of sauce for just $25. \nTerms and conditions. Available for dinner only.
URL:https://maryboroughservicesclub.com.au/event/steak-night/2025-10-20/
LOCATION:The Services Club Maryborough\, 163-175 Lennox Street\, Maryborough\, QLD\, 4650\, Australia
CATEGORIES:All,Meal Specials
END:VEVENT
BEGIN:VEVENT
DTSTART;TZID=Australia/Brisbane:20251021T170000
DTEND;TZID=Australia/Brisbane:20251021T180000
DTSTAMP:20260421T110956
CREATED:20250810T230030Z
LAST-MODIFIED:20250810T230500Z
UID:10009459-1761066000-1761069600@maryboroughservicesclub.com.au
SUMMARY:Senior's Roast
DESCRIPTION:Calling all the seniors! \nTreat yourself to a senior’s roast every weekday from 5pm – 6pm for just $12.50! \nCall the Club on 4122 2321 to book your table or book online now! \nTerms and conditions apply. Please present your seniors card to be eligible. Available Monday to Friday only. \n  \n 
URL:https://maryboroughservicesclub.com.au/event/seniors-roast/2025-10-21/
LOCATION:The Services Club Maryborough\, 163-175 Lennox Street\, Maryborough\, QLD\, 4650\, Australia
CATEGORIES:All,Meal Specials
ATTACH;FMTTYPE=image/jpeg:https://maryboroughservicesclub.com.au/wp-content/uploads/2025/08/senior-s-meal-deal-web-feat-image-custom.jpeg
END:VEVENT
BEGIN:VEVENT
DTSTART;TZID=Australia/Brisbane:20251022T170000
DTEND;TZID=Australia/Brisbane:20251022T180000
DTSTAMP:20260421T110956
CREATED:20250810T230030Z
LAST-MODIFIED:20250810T230500Z
UID:10009460-1761152400-1761156000@maryboroughservicesclub.com.au
SUMMARY:Senior's Roast
DESCRIPTION:Calling all the seniors! \nTreat yourself to a senior’s roast every weekday from 5pm – 6pm for just $12.50! \nCall the Club on 4122 2321 to book your table or book online now! \nTerms and conditions apply. Please present your seniors card to be eligible. Available Monday to Friday only. \n  \n 
URL:https://maryboroughservicesclub.com.au/event/seniors-roast/2025-10-22/
LOCATION:The Services Club Maryborough\, 163-175 Lennox Street\, Maryborough\, QLD\, 4650\, Australia
CATEGORIES:All,Meal Specials
ATTACH;FMTTYPE=image/jpeg:https://maryboroughservicesclub.com.au/wp-content/uploads/2025/08/senior-s-meal-deal-web-feat-image-custom.jpeg
END:VEVENT
BEGIN:VEVENT
DTSTART;TZID=Australia/Brisbane:20251022T173000
DTEND;TZID=Australia/Brisbane:20251022T203000
DTSTAMP:20260421T110956
CREATED:20250710T002238Z
LAST-MODIFIED:20250903T005709Z
UID:10007669-1761154200-1761165000@maryboroughservicesclub.com.au
SUMMARY:Schnitzel Night
DESCRIPTION:Join us every Wednesday night for Schnitzel Night at Maryborough Services Club! \nEnjoy a Schnitzel served with salad & chips or vegetables\, from 5.30pm – 8.30pm for just $19 for members or $21 for non members. \nTerms and conditions apply.
URL:https://maryboroughservicesclub.com.au/event/schnitzel-night/2025-10-22/
LOCATION:The Services Club Maryborough\, 163-175 Lennox Street\, Maryborough\, QLD\, 4650\, Australia
CATEGORIES:All,Meal Specials
ATTACH;FMTTYPE=image/jpeg:https://maryboroughservicesclub.com.au/wp-content/uploads/2025/07/schnitty-feat-image.jpeg
END:VEVENT
BEGIN:VEVENT
DTSTART;TZID=Australia/Brisbane:20251023T170000
DTEND;TZID=Australia/Brisbane:20251023T180000
DTSTAMP:20260421T110956
CREATED:20250810T230030Z
LAST-MODIFIED:20250810T230500Z
UID:10009461-1761238800-1761242400@maryboroughservicesclub.com.au
SUMMARY:Senior's Roast
DESCRIPTION:Calling all the seniors! \nTreat yourself to a senior’s roast every weekday from 5pm – 6pm for just $12.50! \nCall the Club on 4122 2321 to book your table or book online now! \nTerms and conditions apply. Please present your seniors card to be eligible. Available Monday to Friday only. \n  \n 
URL:https://maryboroughservicesclub.com.au/event/seniors-roast/2025-10-23/
LOCATION:The Services Club Maryborough\, 163-175 Lennox Street\, Maryborough\, QLD\, 4650\, Australia
CATEGORIES:All,Meal Specials
ATTACH;FMTTYPE=image/jpeg:https://maryboroughservicesclub.com.au/wp-content/uploads/2025/08/senior-s-meal-deal-web-feat-image-custom.jpeg
END:VEVENT
END:VCALENDAR