BEGIN:VCALENDAR
VERSION:2.0
PRODID:-//Maryborough Services Club - ECPv6.15.17//NONSGML v1.0//EN
CALSCALE:GREGORIAN
METHOD:PUBLISH
X-ORIGINAL-URL:https://maryboroughservicesclub.com.au
X-WR-CALDESC:Events for Maryborough Services Club
REFRESH-INTERVAL;VALUE=DURATION:PT1H
X-Robots-Tag:noindex
X-PUBLISHED-TTL:PT1H
BEGIN:VTIMEZONE
TZID:Australia/Brisbane
BEGIN:STANDARD
TZOFFSETFROM:+1000
TZOFFSETTO:+1000
TZNAME:AEST
DTSTART:20240101T000000
END:STANDARD
END:VTIMEZONE
BEGIN:VEVENT
DTSTART;TZID=Australia/Brisbane:20251103T113000
DTEND;TZID=Australia/Brisbane:20251103T200000
DTSTAMP:20260421T081717
CREATED:20250710T001935Z
LAST-MODIFIED:20250710T001935Z
UID:10007410-1762169400-1762200000@maryboroughservicesclub.com.au
SUMMARY:Kids Eat Free
DESCRIPTION:Kids eat FREE every Monday at Maryborough Services Club! \nEnjoy a free meal for the small ones with any adult main meal purchase during either lunch or dinner on Mondays. \nBook your table now online or call 4122 2321 & let us sort the kids. \nTerms and conditions apply. Specials not included. Children under 12 only.
URL:https://maryboroughservicesclub.com.au/event/kids-eat-free/2025-11-03/
LOCATION:The Services Club Maryborough\, 163-175 Lennox Street\, Maryborough\, QLD\, 4650\, Australia
CATEGORIES:All,Meal Specials
ATTACH;FMTTYPE=image/jpeg:https://maryboroughservicesclub.com.au/wp-content/uploads/2025/07/kids-eat-free-feat-image-custom.jpeg
END:VEVENT
BEGIN:VEVENT
DTSTART;TZID=Australia/Brisbane:20251103T170000
DTEND;TZID=Australia/Brisbane:20251103T180000
DTSTAMP:20260421T081717
CREATED:20250810T230030Z
LAST-MODIFIED:20250810T230500Z
UID:10009472-1762189200-1762192800@maryboroughservicesclub.com.au
SUMMARY:Senior's Roast
DESCRIPTION:Calling all the seniors! \nTreat yourself to a senior’s roast every weekday from 5pm – 6pm for just $12.50! \nCall the Club on 4122 2321 to book your table or book online now! \nTerms and conditions apply. Please present your seniors card to be eligible. Available Monday to Friday only. \n  \n 
URL:https://maryboroughservicesclub.com.au/event/seniors-roast/2025-11-03/
LOCATION:The Services Club Maryborough\, 163-175 Lennox Street\, Maryborough\, QLD\, 4650\, Australia
CATEGORIES:All,Meal Specials
ATTACH;FMTTYPE=image/jpeg:https://maryboroughservicesclub.com.au/wp-content/uploads/2025/08/senior-s-meal-deal-web-feat-image-custom.jpeg
END:VEVENT
BEGIN:VEVENT
DTSTART;TZID=Australia/Brisbane:20251103T173000
DTEND;TZID=Australia/Brisbane:20251103T203000
DTSTAMP:20260421T081717
CREATED:20250710T003525Z
LAST-MODIFIED:20250903T005848Z
UID:10007932-1762191000-1762201800@maryboroughservicesclub.com.au
SUMMARY:Steak Night
DESCRIPTION:Monday Nights are Steak Night at Maryborough Services Club! \nTreat yourself with a 300g Sirloin steak cooked to your liking\, served with salad & chips or vegetables\, and your choice of sauce for just $25. \nTerms and conditions. Available for dinner only.
URL:https://maryboroughservicesclub.com.au/event/steak-night/2025-11-03/
LOCATION:The Services Club Maryborough\, 163-175 Lennox Street\, Maryborough\, QLD\, 4650\, Australia
CATEGORIES:All,Meal Specials
END:VEVENT
BEGIN:VEVENT
DTSTART;TZID=Australia/Brisbane:20251104T110000
DTEND;TZID=Australia/Brisbane:20251104T170000
DTSTAMP:20260421T081717
CREATED:20250915T040032Z
LAST-MODIFIED:20250929T001804Z
UID:10013796-1762254000-1762275600@maryboroughservicesclub.com.au
SUMMARY:Melbourne Cup Luncheon
DESCRIPTION:Join us at Maryborough Services Club for our Melbourne Cup Luncheon on Tuesday 4th November from 11am! \nJoin us for a stylish afternoon to celebrate the race that stops the nation. Enjoy an unforgettable Melbourne Cup Luncheon featuring incredible food\, live entertainment\, and all the excitement of the big race. \nWhat’s included: \n\nChef-curated alternate drop plated lunch\nIndulgent grazing dessert table\nLive music by Girl Friday\, bringing the vibes all afternoon\nThe big race live on the big screen\nTAB facilities available on-site\nPrizes for Best Dressed – dress to impress\nSweepstakes\, fun and a fabulous atmosphere\n\nGrab your fascinators\, florals\, and finest race day fashion – this is one event you don’t want to miss. \n$69 per person – limited spots available.
URL:https://maryboroughservicesclub.com.au/event/melbourne-cup-luncheon/
LOCATION:The Services Club Maryborough\, 163-175 Lennox Street\, Maryborough\, QLD\, 4650\, Australia
CATEGORIES:All,Entertainment,Meal Specials,Special Events
END:VEVENT
BEGIN:VEVENT
DTSTART;TZID=Australia/Brisbane:20251104T170000
DTEND;TZID=Australia/Brisbane:20251104T180000
DTSTAMP:20260421T081717
CREATED:20250810T230030Z
LAST-MODIFIED:20250810T230500Z
UID:10009473-1762275600-1762279200@maryboroughservicesclub.com.au
SUMMARY:Senior's Roast
DESCRIPTION:Calling all the seniors! \nTreat yourself to a senior’s roast every weekday from 5pm – 6pm for just $12.50! \nCall the Club on 4122 2321 to book your table or book online now! \nTerms and conditions apply. Please present your seniors card to be eligible. Available Monday to Friday only. \n  \n 
URL:https://maryboroughservicesclub.com.au/event/seniors-roast/2025-11-04/
LOCATION:The Services Club Maryborough\, 163-175 Lennox Street\, Maryborough\, QLD\, 4650\, Australia
CATEGORIES:All,Meal Specials
ATTACH;FMTTYPE=image/jpeg:https://maryboroughservicesclub.com.au/wp-content/uploads/2025/08/senior-s-meal-deal-web-feat-image-custom.jpeg
END:VEVENT
BEGIN:VEVENT
DTSTART;TZID=Australia/Brisbane:20251105T170000
DTEND;TZID=Australia/Brisbane:20251105T180000
DTSTAMP:20260421T081717
CREATED:20250810T230030Z
LAST-MODIFIED:20250810T230500Z
UID:10009474-1762362000-1762365600@maryboroughservicesclub.com.au
SUMMARY:Senior's Roast
DESCRIPTION:Calling all the seniors! \nTreat yourself to a senior’s roast every weekday from 5pm – 6pm for just $12.50! \nCall the Club on 4122 2321 to book your table or book online now! \nTerms and conditions apply. Please present your seniors card to be eligible. Available Monday to Friday only. \n  \n 
URL:https://maryboroughservicesclub.com.au/event/seniors-roast/2025-11-05/
LOCATION:The Services Club Maryborough\, 163-175 Lennox Street\, Maryborough\, QLD\, 4650\, Australia
CATEGORIES:All,Meal Specials
ATTACH;FMTTYPE=image/jpeg:https://maryboroughservicesclub.com.au/wp-content/uploads/2025/08/senior-s-meal-deal-web-feat-image-custom.jpeg
END:VEVENT
BEGIN:VEVENT
DTSTART;TZID=Australia/Brisbane:20251105T173000
DTEND;TZID=Australia/Brisbane:20251105T203000
DTSTAMP:20260421T081717
CREATED:20250710T002238Z
LAST-MODIFIED:20250903T005709Z
UID:10007671-1762363800-1762374600@maryboroughservicesclub.com.au
SUMMARY:Schnitzel Night
DESCRIPTION:Join us every Wednesday night for Schnitzel Night at Maryborough Services Club! \nEnjoy a Schnitzel served with salad & chips or vegetables\, from 5.30pm – 8.30pm for just $19 for members or $21 for non members. \nTerms and conditions apply.
URL:https://maryboroughservicesclub.com.au/event/schnitzel-night/2025-11-05/
LOCATION:The Services Club Maryborough\, 163-175 Lennox Street\, Maryborough\, QLD\, 4650\, Australia
CATEGORIES:All,Meal Specials
ATTACH;FMTTYPE=image/jpeg:https://maryboroughservicesclub.com.au/wp-content/uploads/2025/07/schnitty-feat-image.jpeg
END:VEVENT
BEGIN:VEVENT
DTSTART;TZID=Australia/Brisbane:20251106T170000
DTEND;TZID=Australia/Brisbane:20251106T180000
DTSTAMP:20260421T081717
CREATED:20250810T230030Z
LAST-MODIFIED:20250810T230500Z
UID:10009475-1762448400-1762452000@maryboroughservicesclub.com.au
SUMMARY:Senior's Roast
DESCRIPTION:Calling all the seniors! \nTreat yourself to a senior’s roast every weekday from 5pm – 6pm for just $12.50! \nCall the Club on 4122 2321 to book your table or book online now! \nTerms and conditions apply. Please present your seniors card to be eligible. Available Monday to Friday only. \n  \n 
URL:https://maryboroughservicesclub.com.au/event/seniors-roast/2025-11-06/
LOCATION:The Services Club Maryborough\, 163-175 Lennox Street\, Maryborough\, QLD\, 4650\, Australia
CATEGORIES:All,Meal Specials
ATTACH;FMTTYPE=image/jpeg:https://maryboroughservicesclub.com.au/wp-content/uploads/2025/08/senior-s-meal-deal-web-feat-image-custom.jpeg
END:VEVENT
BEGIN:VEVENT
DTSTART;TZID=Australia/Brisbane:20251107T170000
DTEND;TZID=Australia/Brisbane:20251107T180000
DTSTAMP:20260421T081717
CREATED:20250810T230030Z
LAST-MODIFIED:20250810T230500Z
UID:10009476-1762534800-1762538400@maryboroughservicesclub.com.au
SUMMARY:Senior's Roast
DESCRIPTION:Calling all the seniors! \nTreat yourself to a senior’s roast every weekday from 5pm – 6pm for just $12.50! \nCall the Club on 4122 2321 to book your table or book online now! \nTerms and conditions apply. Please present your seniors card to be eligible. Available Monday to Friday only. \n  \n 
URL:https://maryboroughservicesclub.com.au/event/seniors-roast/2025-11-07/
LOCATION:The Services Club Maryborough\, 163-175 Lennox Street\, Maryborough\, QLD\, 4650\, Australia
CATEGORIES:All,Meal Specials
ATTACH;FMTTYPE=image/jpeg:https://maryboroughservicesclub.com.au/wp-content/uploads/2025/08/senior-s-meal-deal-web-feat-image-custom.jpeg
END:VEVENT
BEGIN:VEVENT
DTSTART;TZID=Australia/Brisbane:20251110T113000
DTEND;TZID=Australia/Brisbane:20251110T200000
DTSTAMP:20260421T081717
CREATED:20250710T001935Z
LAST-MODIFIED:20250710T001935Z
UID:10007411-1762774200-1762804800@maryboroughservicesclub.com.au
SUMMARY:Kids Eat Free
DESCRIPTION:Kids eat FREE every Monday at Maryborough Services Club! \nEnjoy a free meal for the small ones with any adult main meal purchase during either lunch or dinner on Mondays. \nBook your table now online or call 4122 2321 & let us sort the kids. \nTerms and conditions apply. Specials not included. Children under 12 only.
URL:https://maryboroughservicesclub.com.au/event/kids-eat-free/2025-11-10/
LOCATION:The Services Club Maryborough\, 163-175 Lennox Street\, Maryborough\, QLD\, 4650\, Australia
CATEGORIES:All,Meal Specials
ATTACH;FMTTYPE=image/jpeg:https://maryboroughservicesclub.com.au/wp-content/uploads/2025/07/kids-eat-free-feat-image-custom.jpeg
END:VEVENT
BEGIN:VEVENT
DTSTART;TZID=Australia/Brisbane:20251110T170000
DTEND;TZID=Australia/Brisbane:20251110T180000
DTSTAMP:20260421T081717
CREATED:20250810T230030Z
LAST-MODIFIED:20250810T230500Z
UID:10009479-1762794000-1762797600@maryboroughservicesclub.com.au
SUMMARY:Senior's Roast
DESCRIPTION:Calling all the seniors! \nTreat yourself to a senior’s roast every weekday from 5pm – 6pm for just $12.50! \nCall the Club on 4122 2321 to book your table or book online now! \nTerms and conditions apply. Please present your seniors card to be eligible. Available Monday to Friday only. \n  \n 
URL:https://maryboroughservicesclub.com.au/event/seniors-roast/2025-11-10/
LOCATION:The Services Club Maryborough\, 163-175 Lennox Street\, Maryborough\, QLD\, 4650\, Australia
CATEGORIES:All,Meal Specials
ATTACH;FMTTYPE=image/jpeg:https://maryboroughservicesclub.com.au/wp-content/uploads/2025/08/senior-s-meal-deal-web-feat-image-custom.jpeg
END:VEVENT
BEGIN:VEVENT
DTSTART;TZID=Australia/Brisbane:20251110T173000
DTEND;TZID=Australia/Brisbane:20251110T203000
DTSTAMP:20260421T081717
CREATED:20250710T003525Z
LAST-MODIFIED:20250903T005848Z
UID:10007933-1762795800-1762806600@maryboroughservicesclub.com.au
SUMMARY:Steak Night
DESCRIPTION:Monday Nights are Steak Night at Maryborough Services Club! \nTreat yourself with a 300g Sirloin steak cooked to your liking\, served with salad & chips or vegetables\, and your choice of sauce for just $25. \nTerms and conditions. Available for dinner only.
URL:https://maryboroughservicesclub.com.au/event/steak-night/2025-11-10/
LOCATION:The Services Club Maryborough\, 163-175 Lennox Street\, Maryborough\, QLD\, 4650\, Australia
CATEGORIES:All,Meal Specials
END:VEVENT
BEGIN:VEVENT
DTSTART;TZID=Australia/Brisbane:20251111T170000
DTEND;TZID=Australia/Brisbane:20251111T180000
DTSTAMP:20260421T081717
CREATED:20250810T230030Z
LAST-MODIFIED:20250810T230500Z
UID:10009480-1762880400-1762884000@maryboroughservicesclub.com.au
SUMMARY:Senior's Roast
DESCRIPTION:Calling all the seniors! \nTreat yourself to a senior’s roast every weekday from 5pm – 6pm for just $12.50! \nCall the Club on 4122 2321 to book your table or book online now! \nTerms and conditions apply. Please present your seniors card to be eligible. Available Monday to Friday only. \n  \n 
URL:https://maryboroughservicesclub.com.au/event/seniors-roast/2025-11-11/
LOCATION:The Services Club Maryborough\, 163-175 Lennox Street\, Maryborough\, QLD\, 4650\, Australia
CATEGORIES:All,Meal Specials
ATTACH;FMTTYPE=image/jpeg:https://maryboroughservicesclub.com.au/wp-content/uploads/2025/08/senior-s-meal-deal-web-feat-image-custom.jpeg
END:VEVENT
BEGIN:VEVENT
DTSTART;TZID=Australia/Brisbane:20251112T170000
DTEND;TZID=Australia/Brisbane:20251112T180000
DTSTAMP:20260421T081717
CREATED:20250810T230030Z
LAST-MODIFIED:20250810T230500Z
UID:10009481-1762966800-1762970400@maryboroughservicesclub.com.au
SUMMARY:Senior's Roast
DESCRIPTION:Calling all the seniors! \nTreat yourself to a senior’s roast every weekday from 5pm – 6pm for just $12.50! \nCall the Club on 4122 2321 to book your table or book online now! \nTerms and conditions apply. Please present your seniors card to be eligible. Available Monday to Friday only. \n  \n 
URL:https://maryboroughservicesclub.com.au/event/seniors-roast/2025-11-12/
LOCATION:The Services Club Maryborough\, 163-175 Lennox Street\, Maryborough\, QLD\, 4650\, Australia
CATEGORIES:All,Meal Specials
ATTACH;FMTTYPE=image/jpeg:https://maryboroughservicesclub.com.au/wp-content/uploads/2025/08/senior-s-meal-deal-web-feat-image-custom.jpeg
END:VEVENT
BEGIN:VEVENT
DTSTART;TZID=Australia/Brisbane:20251112T173000
DTEND;TZID=Australia/Brisbane:20251112T203000
DTSTAMP:20260421T081717
CREATED:20250710T002238Z
LAST-MODIFIED:20250903T005709Z
UID:10007672-1762968600-1762979400@maryboroughservicesclub.com.au
SUMMARY:Schnitzel Night
DESCRIPTION:Join us every Wednesday night for Schnitzel Night at Maryborough Services Club! \nEnjoy a Schnitzel served with salad & chips or vegetables\, from 5.30pm – 8.30pm for just $19 for members or $21 for non members. \nTerms and conditions apply.
URL:https://maryboroughservicesclub.com.au/event/schnitzel-night/2025-11-12/
LOCATION:The Services Club Maryborough\, 163-175 Lennox Street\, Maryborough\, QLD\, 4650\, Australia
CATEGORIES:All,Meal Specials
ATTACH;FMTTYPE=image/jpeg:https://maryboroughservicesclub.com.au/wp-content/uploads/2025/07/schnitty-feat-image.jpeg
END:VEVENT
BEGIN:VEVENT
DTSTART;TZID=Australia/Brisbane:20251113T170000
DTEND;TZID=Australia/Brisbane:20251113T180000
DTSTAMP:20260421T081717
CREATED:20250810T230030Z
LAST-MODIFIED:20250810T230500Z
UID:10009482-1763053200-1763056800@maryboroughservicesclub.com.au
SUMMARY:Senior's Roast
DESCRIPTION:Calling all the seniors! \nTreat yourself to a senior’s roast every weekday from 5pm – 6pm for just $12.50! \nCall the Club on 4122 2321 to book your table or book online now! \nTerms and conditions apply. Please present your seniors card to be eligible. Available Monday to Friday only. \n  \n 
URL:https://maryboroughservicesclub.com.au/event/seniors-roast/2025-11-13/
LOCATION:The Services Club Maryborough\, 163-175 Lennox Street\, Maryborough\, QLD\, 4650\, Australia
CATEGORIES:All,Meal Specials
ATTACH;FMTTYPE=image/jpeg:https://maryboroughservicesclub.com.au/wp-content/uploads/2025/08/senior-s-meal-deal-web-feat-image-custom.jpeg
END:VEVENT
BEGIN:VEVENT
DTSTART;TZID=Australia/Brisbane:20251114T170000
DTEND;TZID=Australia/Brisbane:20251114T180000
DTSTAMP:20260421T081717
CREATED:20250810T230030Z
LAST-MODIFIED:20250810T230500Z
UID:10009483-1763139600-1763143200@maryboroughservicesclub.com.au
SUMMARY:Senior's Roast
DESCRIPTION:Calling all the seniors! \nTreat yourself to a senior’s roast every weekday from 5pm – 6pm for just $12.50! \nCall the Club on 4122 2321 to book your table or book online now! \nTerms and conditions apply. Please present your seniors card to be eligible. Available Monday to Friday only. \n  \n 
URL:https://maryboroughservicesclub.com.au/event/seniors-roast/2025-11-14/
LOCATION:The Services Club Maryborough\, 163-175 Lennox Street\, Maryborough\, QLD\, 4650\, Australia
CATEGORIES:All,Meal Specials
ATTACH;FMTTYPE=image/jpeg:https://maryboroughservicesclub.com.au/wp-content/uploads/2025/08/senior-s-meal-deal-web-feat-image-custom.jpeg
END:VEVENT
BEGIN:VEVENT
DTSTART;TZID=Australia/Brisbane:20251117T113000
DTEND;TZID=Australia/Brisbane:20251117T200000
DTSTAMP:20260421T081717
CREATED:20250710T001935Z
LAST-MODIFIED:20250710T001935Z
UID:10007412-1763379000-1763409600@maryboroughservicesclub.com.au
SUMMARY:Kids Eat Free
DESCRIPTION:Kids eat FREE every Monday at Maryborough Services Club! \nEnjoy a free meal for the small ones with any adult main meal purchase during either lunch or dinner on Mondays. \nBook your table now online or call 4122 2321 & let us sort the kids. \nTerms and conditions apply. Specials not included. Children under 12 only.
URL:https://maryboroughservicesclub.com.au/event/kids-eat-free/2025-11-17/
LOCATION:The Services Club Maryborough\, 163-175 Lennox Street\, Maryborough\, QLD\, 4650\, Australia
CATEGORIES:All,Meal Specials
ATTACH;FMTTYPE=image/jpeg:https://maryboroughservicesclub.com.au/wp-content/uploads/2025/07/kids-eat-free-feat-image-custom.jpeg
END:VEVENT
BEGIN:VEVENT
DTSTART;TZID=Australia/Brisbane:20251117T170000
DTEND;TZID=Australia/Brisbane:20251117T180000
DTSTAMP:20260421T081717
CREATED:20250810T230030Z
LAST-MODIFIED:20250810T230500Z
UID:10009486-1763398800-1763402400@maryboroughservicesclub.com.au
SUMMARY:Senior's Roast
DESCRIPTION:Calling all the seniors! \nTreat yourself to a senior’s roast every weekday from 5pm – 6pm for just $12.50! \nCall the Club on 4122 2321 to book your table or book online now! \nTerms and conditions apply. Please present your seniors card to be eligible. Available Monday to Friday only. \n  \n 
URL:https://maryboroughservicesclub.com.au/event/seniors-roast/2025-11-17/
LOCATION:The Services Club Maryborough\, 163-175 Lennox Street\, Maryborough\, QLD\, 4650\, Australia
CATEGORIES:All,Meal Specials
ATTACH;FMTTYPE=image/jpeg:https://maryboroughservicesclub.com.au/wp-content/uploads/2025/08/senior-s-meal-deal-web-feat-image-custom.jpeg
END:VEVENT
BEGIN:VEVENT
DTSTART;TZID=Australia/Brisbane:20251118T170000
DTEND;TZID=Australia/Brisbane:20251118T180000
DTSTAMP:20260421T081717
CREATED:20250810T230030Z
LAST-MODIFIED:20250810T230500Z
UID:10009487-1763485200-1763488800@maryboroughservicesclub.com.au
SUMMARY:Senior's Roast
DESCRIPTION:Calling all the seniors! \nTreat yourself to a senior’s roast every weekday from 5pm – 6pm for just $12.50! \nCall the Club on 4122 2321 to book your table or book online now! \nTerms and conditions apply. Please present your seniors card to be eligible. Available Monday to Friday only. \n  \n 
URL:https://maryboroughservicesclub.com.au/event/seniors-roast/2025-11-18/
LOCATION:The Services Club Maryborough\, 163-175 Lennox Street\, Maryborough\, QLD\, 4650\, Australia
CATEGORIES:All,Meal Specials
ATTACH;FMTTYPE=image/jpeg:https://maryboroughservicesclub.com.au/wp-content/uploads/2025/08/senior-s-meal-deal-web-feat-image-custom.jpeg
END:VEVENT
BEGIN:VEVENT
DTSTART;TZID=Australia/Brisbane:20251119T170000
DTEND;TZID=Australia/Brisbane:20251119T180000
DTSTAMP:20260421T081717
CREATED:20250810T230030Z
LAST-MODIFIED:20250810T230500Z
UID:10009488-1763571600-1763575200@maryboroughservicesclub.com.au
SUMMARY:Senior's Roast
DESCRIPTION:Calling all the seniors! \nTreat yourself to a senior’s roast every weekday from 5pm – 6pm for just $12.50! \nCall the Club on 4122 2321 to book your table or book online now! \nTerms and conditions apply. Please present your seniors card to be eligible. Available Monday to Friday only. \n  \n 
URL:https://maryboroughservicesclub.com.au/event/seniors-roast/2025-11-19/
LOCATION:The Services Club Maryborough\, 163-175 Lennox Street\, Maryborough\, QLD\, 4650\, Australia
CATEGORIES:All,Meal Specials
ATTACH;FMTTYPE=image/jpeg:https://maryboroughservicesclub.com.au/wp-content/uploads/2025/08/senior-s-meal-deal-web-feat-image-custom.jpeg
END:VEVENT
BEGIN:VEVENT
DTSTART;TZID=Australia/Brisbane:20251119T173000
DTEND;TZID=Australia/Brisbane:20251119T203000
DTSTAMP:20260421T081717
CREATED:20250710T002238Z
LAST-MODIFIED:20250903T005709Z
UID:10007673-1763573400-1763584200@maryboroughservicesclub.com.au
SUMMARY:Schnitzel Night
DESCRIPTION:Join us every Wednesday night for Schnitzel Night at Maryborough Services Club! \nEnjoy a Schnitzel served with salad & chips or vegetables\, from 5.30pm – 8.30pm for just $19 for members or $21 for non members. \nTerms and conditions apply.
URL:https://maryboroughservicesclub.com.au/event/schnitzel-night/2025-11-19/
LOCATION:The Services Club Maryborough\, 163-175 Lennox Street\, Maryborough\, QLD\, 4650\, Australia
CATEGORIES:All,Meal Specials
ATTACH;FMTTYPE=image/jpeg:https://maryboroughservicesclub.com.au/wp-content/uploads/2025/07/schnitty-feat-image.jpeg
END:VEVENT
BEGIN:VEVENT
DTSTART;TZID=Australia/Brisbane:20251120T170000
DTEND;TZID=Australia/Brisbane:20251120T180000
DTSTAMP:20260421T081717
CREATED:20250810T230030Z
LAST-MODIFIED:20250810T230500Z
UID:10009489-1763658000-1763661600@maryboroughservicesclub.com.au
SUMMARY:Senior's Roast
DESCRIPTION:Calling all the seniors! \nTreat yourself to a senior’s roast every weekday from 5pm – 6pm for just $12.50! \nCall the Club on 4122 2321 to book your table or book online now! \nTerms and conditions apply. Please present your seniors card to be eligible. Available Monday to Friday only. \n  \n 
URL:https://maryboroughservicesclub.com.au/event/seniors-roast/2025-11-20/
LOCATION:The Services Club Maryborough\, 163-175 Lennox Street\, Maryborough\, QLD\, 4650\, Australia
CATEGORIES:All,Meal Specials
ATTACH;FMTTYPE=image/jpeg:https://maryboroughservicesclub.com.au/wp-content/uploads/2025/08/senior-s-meal-deal-web-feat-image-custom.jpeg
END:VEVENT
BEGIN:VEVENT
DTSTART;TZID=Australia/Brisbane:20251120T170000
DTEND;TZID=Australia/Brisbane:20251120T203000
DTSTAMP:20260421T081717
CREATED:20251111T031656Z
LAST-MODIFIED:20251126T034548Z
UID:10007934-1763658000-1763670600@maryboroughservicesclub.com.au
SUMMARY:Steak Night
DESCRIPTION:Thursday Nights are Steak Night at Maryborough Services Club! \nTreat yourself with a 300g Sirloin steak cooked to your liking\, served with salad & chips or vegetables\, and your choice of sauce for just $25 for members. \nTerms and conditions. Available for dinner only.
URL:https://maryboroughservicesclub.com.au/event/steak-night-2/2025-11-20/
LOCATION:The Services Club Maryborough\, 163-175 Lennox Street\, Maryborough\, QLD\, 4650\, Australia
CATEGORIES:All,Meal Specials
ATTACH;FMTTYPE=image/jpeg:https://maryboroughservicesclub.com.au/wp-content/uploads/2025/11/STEAK-NIGHT-web-feat-img-960-x-400-px.jpg
END:VEVENT
BEGIN:VEVENT
DTSTART;TZID=Australia/Brisbane:20251121T170000
DTEND;TZID=Australia/Brisbane:20251121T180000
DTSTAMP:20260421T081717
CREATED:20250810T230030Z
LAST-MODIFIED:20250810T230500Z
UID:10009490-1763744400-1763748000@maryboroughservicesclub.com.au
SUMMARY:Senior's Roast
DESCRIPTION:Calling all the seniors! \nTreat yourself to a senior’s roast every weekday from 5pm – 6pm for just $12.50! \nCall the Club on 4122 2321 to book your table or book online now! \nTerms and conditions apply. Please present your seniors card to be eligible. Available Monday to Friday only. \n  \n 
URL:https://maryboroughservicesclub.com.au/event/seniors-roast/2025-11-21/
LOCATION:The Services Club Maryborough\, 163-175 Lennox Street\, Maryborough\, QLD\, 4650\, Australia
CATEGORIES:All,Meal Specials
ATTACH;FMTTYPE=image/jpeg:https://maryboroughservicesclub.com.au/wp-content/uploads/2025/08/senior-s-meal-deal-web-feat-image-custom.jpeg
END:VEVENT
BEGIN:VEVENT
DTSTART;TZID=Australia/Brisbane:20251124T113000
DTEND;TZID=Australia/Brisbane:20251124T200000
DTSTAMP:20260421T081717
CREATED:20250710T001935Z
LAST-MODIFIED:20250710T001935Z
UID:10007413-1763983800-1764014400@maryboroughservicesclub.com.au
SUMMARY:Kids Eat Free
DESCRIPTION:Kids eat FREE every Monday at Maryborough Services Club! \nEnjoy a free meal for the small ones with any adult main meal purchase during either lunch or dinner on Mondays. \nBook your table now online or call 4122 2321 & let us sort the kids. \nTerms and conditions apply. Specials not included. Children under 12 only.
URL:https://maryboroughservicesclub.com.au/event/kids-eat-free/2025-11-24/
LOCATION:The Services Club Maryborough\, 163-175 Lennox Street\, Maryborough\, QLD\, 4650\, Australia
CATEGORIES:All,Meal Specials
ATTACH;FMTTYPE=image/jpeg:https://maryboroughservicesclub.com.au/wp-content/uploads/2025/07/kids-eat-free-feat-image-custom.jpeg
END:VEVENT
BEGIN:VEVENT
DTSTART;TZID=Australia/Brisbane:20251124T170000
DTEND;TZID=Australia/Brisbane:20251124T180000
DTSTAMP:20260421T081717
CREATED:20250810T230030Z
LAST-MODIFIED:20250810T230500Z
UID:10009493-1764003600-1764007200@maryboroughservicesclub.com.au
SUMMARY:Senior's Roast
DESCRIPTION:Calling all the seniors! \nTreat yourself to a senior’s roast every weekday from 5pm – 6pm for just $12.50! \nCall the Club on 4122 2321 to book your table or book online now! \nTerms and conditions apply. Please present your seniors card to be eligible. Available Monday to Friday only. \n  \n 
URL:https://maryboroughservicesclub.com.au/event/seniors-roast/2025-11-24/
LOCATION:The Services Club Maryborough\, 163-175 Lennox Street\, Maryborough\, QLD\, 4650\, Australia
CATEGORIES:All,Meal Specials
ATTACH;FMTTYPE=image/jpeg:https://maryboroughservicesclub.com.au/wp-content/uploads/2025/08/senior-s-meal-deal-web-feat-image-custom.jpeg
END:VEVENT
BEGIN:VEVENT
DTSTART;TZID=Australia/Brisbane:20251125T170000
DTEND;TZID=Australia/Brisbane:20251125T180000
DTSTAMP:20260421T081717
CREATED:20250810T230030Z
LAST-MODIFIED:20250810T230500Z
UID:10009494-1764090000-1764093600@maryboroughservicesclub.com.au
SUMMARY:Senior's Roast
DESCRIPTION:Calling all the seniors! \nTreat yourself to a senior’s roast every weekday from 5pm – 6pm for just $12.50! \nCall the Club on 4122 2321 to book your table or book online now! \nTerms and conditions apply. Please present your seniors card to be eligible. Available Monday to Friday only. \n  \n 
URL:https://maryboroughservicesclub.com.au/event/seniors-roast/2025-11-25/
LOCATION:The Services Club Maryborough\, 163-175 Lennox Street\, Maryborough\, QLD\, 4650\, Australia
CATEGORIES:All,Meal Specials
ATTACH;FMTTYPE=image/jpeg:https://maryboroughservicesclub.com.au/wp-content/uploads/2025/08/senior-s-meal-deal-web-feat-image-custom.jpeg
END:VEVENT
BEGIN:VEVENT
DTSTART;TZID=Australia/Brisbane:20251126T170000
DTEND;TZID=Australia/Brisbane:20251126T180000
DTSTAMP:20260421T081717
CREATED:20250810T230030Z
LAST-MODIFIED:20250810T230500Z
UID:10009495-1764176400-1764180000@maryboroughservicesclub.com.au
SUMMARY:Senior's Roast
DESCRIPTION:Calling all the seniors! \nTreat yourself to a senior’s roast every weekday from 5pm – 6pm for just $12.50! \nCall the Club on 4122 2321 to book your table or book online now! \nTerms and conditions apply. Please present your seniors card to be eligible. Available Monday to Friday only. \n  \n 
URL:https://maryboroughservicesclub.com.au/event/seniors-roast/2025-11-26/
LOCATION:The Services Club Maryborough\, 163-175 Lennox Street\, Maryborough\, QLD\, 4650\, Australia
CATEGORIES:All,Meal Specials
ATTACH;FMTTYPE=image/jpeg:https://maryboroughservicesclub.com.au/wp-content/uploads/2025/08/senior-s-meal-deal-web-feat-image-custom.jpeg
END:VEVENT
BEGIN:VEVENT
DTSTART;TZID=Australia/Brisbane:20251126T173000
DTEND;TZID=Australia/Brisbane:20251126T203000
DTSTAMP:20260421T081717
CREATED:20250710T002238Z
LAST-MODIFIED:20250903T005709Z
UID:10007674-1764178200-1764189000@maryboroughservicesclub.com.au
SUMMARY:Schnitzel Night
DESCRIPTION:Join us every Wednesday night for Schnitzel Night at Maryborough Services Club! \nEnjoy a Schnitzel served with salad & chips or vegetables\, from 5.30pm – 8.30pm for just $19 for members or $21 for non members. \nTerms and conditions apply.
URL:https://maryboroughservicesclub.com.au/event/schnitzel-night/2025-11-26/
LOCATION:The Services Club Maryborough\, 163-175 Lennox Street\, Maryborough\, QLD\, 4650\, Australia
CATEGORIES:All,Meal Specials
ATTACH;FMTTYPE=image/jpeg:https://maryboroughservicesclub.com.au/wp-content/uploads/2025/07/schnitty-feat-image.jpeg
END:VEVENT
END:VCALENDAR