BEGIN:VCALENDAR
VERSION:2.0
PRODID:-//Maryborough Services Club - ECPv6.15.17//NONSGML v1.0//EN
CALSCALE:GREGORIAN
METHOD:PUBLISH
X-ORIGINAL-URL:https://maryboroughservicesclub.com.au
X-WR-CALDESC:Events for Maryborough Services Club
REFRESH-INTERVAL;VALUE=DURATION:PT1H
X-Robots-Tag:noindex
X-PUBLISHED-TTL:PT1H
BEGIN:VTIMEZONE
TZID:Australia/Brisbane
BEGIN:STANDARD
TZOFFSETFROM:+1000
TZOFFSETTO:+1000
TZNAME:AEST
DTSTART:20260101T000000
END:STANDARD
END:VTIMEZONE
BEGIN:VEVENT
DTSTART;TZID=Australia/Brisbane:20270301T113000
DTEND;TZID=Australia/Brisbane:20270301T200000
DTSTAMP:20260422T010221
CREATED:20250710T001935Z
LAST-MODIFIED:20250710T001935Z
UID:10007479-1803900600-1803931200@maryboroughservicesclub.com.au
SUMMARY:Kids Eat Free
DESCRIPTION:Kids eat FREE every Monday at Maryborough Services Club! \nEnjoy a free meal for the small ones with any adult main meal purchase during either lunch or dinner on Mondays. \nBook your table now online or call 4122 2321 & let us sort the kids. \nTerms and conditions apply. Specials not included. Children under 12 only.
URL:https://maryboroughservicesclub.com.au/event/kids-eat-free/2027-03-01/
LOCATION:The Services Club Maryborough\, 163-175 Lennox Street\, Maryborough\, QLD\, 4650\, Australia
CATEGORIES:All,Meal Specials
ATTACH;FMTTYPE=image/jpeg:https://maryboroughservicesclub.com.au/wp-content/uploads/2025/07/kids-eat-free-feat-image-custom.jpeg
END:VEVENT
BEGIN:VEVENT
DTSTART;TZID=Australia/Brisbane:20270301T170000
DTEND;TZID=Australia/Brisbane:20270301T180000
DTSTAMP:20260422T010221
CREATED:20250810T230030Z
LAST-MODIFIED:20250810T230500Z
UID:10009955-1803920400-1803924000@maryboroughservicesclub.com.au
SUMMARY:Senior's Roast
DESCRIPTION:Calling all the seniors! \nTreat yourself to a senior’s roast every weekday from 5pm – 6pm for just $12.50! \nCall the Club on 4122 2321 to book your table or book online now! \nTerms and conditions apply. Please present your seniors card to be eligible. Available Monday to Friday only. \n  \n 
URL:https://maryboroughservicesclub.com.au/event/seniors-roast/2027-03-01/
LOCATION:The Services Club Maryborough\, 163-175 Lennox Street\, Maryborough\, QLD\, 4650\, Australia
CATEGORIES:All,Meal Specials
ATTACH;FMTTYPE=image/jpeg:https://maryboroughservicesclub.com.au/wp-content/uploads/2025/08/senior-s-meal-deal-web-feat-image-custom.jpeg
END:VEVENT
BEGIN:VEVENT
DTSTART;TZID=Australia/Brisbane:20270301T170000
DTEND;TZID=Australia/Brisbane:20270301T203000
DTSTAMP:20260422T010221
CREATED:20251126T034056Z
LAST-MODIFIED:20251126T034056Z
UID:10014924-1803920400-1803933000@maryboroughservicesclub.com.au
SUMMARY:Barramonday
DESCRIPTION:Monday Nights are Barramundi Night at Maryborough Services Club! \nTreat yourself to crumbed\, grilled or battered barramundi \, served with salad & chips or vegetables\, and tartare sauce for just $20 for members. \nTerms and conditions. Available for dinner only.
URL:https://maryboroughservicesclub.com.au/event/barramonday/2027-03-01/
LOCATION:The Services Club Maryborough\, 163-175 Lennox Street\, Maryborough\, QLD\, 4650\, Australia
CATEGORIES:All,Meal Specials
ATTACH;FMTTYPE=image/png:https://maryboroughservicesclub.com.au/wp-content/uploads/2025/11/Bistro-Special-Bara-Web-Feat-image-.png
END:VEVENT
BEGIN:VEVENT
DTSTART;TZID=Australia/Brisbane:20270302T170000
DTEND;TZID=Australia/Brisbane:20270302T180000
DTSTAMP:20260422T010221
CREATED:20250810T230030Z
LAST-MODIFIED:20250810T230500Z
UID:10009956-1804006800-1804010400@maryboroughservicesclub.com.au
SUMMARY:Senior's Roast
DESCRIPTION:Calling all the seniors! \nTreat yourself to a senior’s roast every weekday from 5pm – 6pm for just $12.50! \nCall the Club on 4122 2321 to book your table or book online now! \nTerms and conditions apply. Please present your seniors card to be eligible. Available Monday to Friday only. \n  \n 
URL:https://maryboroughservicesclub.com.au/event/seniors-roast/2027-03-02/
LOCATION:The Services Club Maryborough\, 163-175 Lennox Street\, Maryborough\, QLD\, 4650\, Australia
CATEGORIES:All,Meal Specials
ATTACH;FMTTYPE=image/jpeg:https://maryboroughservicesclub.com.au/wp-content/uploads/2025/08/senior-s-meal-deal-web-feat-image-custom.jpeg
END:VEVENT
BEGIN:VEVENT
DTSTART;TZID=Australia/Brisbane:20270303T170000
DTEND;TZID=Australia/Brisbane:20270303T180000
DTSTAMP:20260422T010221
CREATED:20250810T230030Z
LAST-MODIFIED:20250810T230500Z
UID:10009957-1804093200-1804096800@maryboroughservicesclub.com.au
SUMMARY:Senior's Roast
DESCRIPTION:Calling all the seniors! \nTreat yourself to a senior’s roast every weekday from 5pm – 6pm for just $12.50! \nCall the Club on 4122 2321 to book your table or book online now! \nTerms and conditions apply. Please present your seniors card to be eligible. Available Monday to Friday only. \n  \n 
URL:https://maryboroughservicesclub.com.au/event/seniors-roast/2027-03-03/
LOCATION:The Services Club Maryborough\, 163-175 Lennox Street\, Maryborough\, QLD\, 4650\, Australia
CATEGORIES:All,Meal Specials
ATTACH;FMTTYPE=image/jpeg:https://maryboroughservicesclub.com.au/wp-content/uploads/2025/08/senior-s-meal-deal-web-feat-image-custom.jpeg
END:VEVENT
BEGIN:VEVENT
DTSTART;TZID=Australia/Brisbane:20270303T173000
DTEND;TZID=Australia/Brisbane:20270303T203000
DTSTAMP:20260422T010221
CREATED:20250710T002238Z
LAST-MODIFIED:20250903T005709Z
UID:10007740-1804095000-1804105800@maryboroughservicesclub.com.au
SUMMARY:Schnitzel Night
DESCRIPTION:Join us every Wednesday night for Schnitzel Night at Maryborough Services Club! \nEnjoy a Schnitzel served with salad & chips or vegetables\, from 5.30pm – 8.30pm for just $19 for members or $21 for non members. \nTerms and conditions apply.
URL:https://maryboroughservicesclub.com.au/event/schnitzel-night/2027-03-03/
LOCATION:The Services Club Maryborough\, 163-175 Lennox Street\, Maryborough\, QLD\, 4650\, Australia
CATEGORIES:All,Meal Specials
ATTACH;FMTTYPE=image/jpeg:https://maryboroughservicesclub.com.au/wp-content/uploads/2025/07/schnitty-feat-image.jpeg
END:VEVENT
BEGIN:VEVENT
DTSTART;TZID=Australia/Brisbane:20270304T170000
DTEND;TZID=Australia/Brisbane:20270304T180000
DTSTAMP:20260422T010221
CREATED:20250810T230030Z
LAST-MODIFIED:20250810T230500Z
UID:10009958-1804179600-1804183200@maryboroughservicesclub.com.au
SUMMARY:Senior's Roast
DESCRIPTION:Calling all the seniors! \nTreat yourself to a senior’s roast every weekday from 5pm – 6pm for just $12.50! \nCall the Club on 4122 2321 to book your table or book online now! \nTerms and conditions apply. Please present your seniors card to be eligible. Available Monday to Friday only. \n  \n 
URL:https://maryboroughservicesclub.com.au/event/seniors-roast/2027-03-04/
LOCATION:The Services Club Maryborough\, 163-175 Lennox Street\, Maryborough\, QLD\, 4650\, Australia
CATEGORIES:All,Meal Specials
ATTACH;FMTTYPE=image/jpeg:https://maryboroughservicesclub.com.au/wp-content/uploads/2025/08/senior-s-meal-deal-web-feat-image-custom.jpeg
END:VEVENT
BEGIN:VEVENT
DTSTART;TZID=Australia/Brisbane:20270304T170000
DTEND;TZID=Australia/Brisbane:20270304T203000
DTSTAMP:20260422T010221
CREATED:20251111T031656Z
LAST-MODIFIED:20251126T034548Z
UID:10014574-1804179600-1804192200@maryboroughservicesclub.com.au
SUMMARY:Steak Night
DESCRIPTION:Thursday Nights are Steak Night at Maryborough Services Club! \nTreat yourself with a 300g Sirloin steak cooked to your liking\, served with salad & chips or vegetables\, and your choice of sauce for just $25 for members. \nTerms and conditions. Available for dinner only.
URL:https://maryboroughservicesclub.com.au/event/steak-night-2/2027-03-04/
LOCATION:The Services Club Maryborough\, 163-175 Lennox Street\, Maryborough\, QLD\, 4650\, Australia
CATEGORIES:All,Meal Specials
ATTACH;FMTTYPE=image/jpeg:https://maryboroughservicesclub.com.au/wp-content/uploads/2025/11/STEAK-NIGHT-web-feat-img-960-x-400-px.jpg
END:VEVENT
BEGIN:VEVENT
DTSTART;TZID=Australia/Brisbane:20270305T170000
DTEND;TZID=Australia/Brisbane:20270305T180000
DTSTAMP:20260422T010221
CREATED:20250810T230030Z
LAST-MODIFIED:20250810T230500Z
UID:10009959-1804266000-1804269600@maryboroughservicesclub.com.au
SUMMARY:Senior's Roast
DESCRIPTION:Calling all the seniors! \nTreat yourself to a senior’s roast every weekday from 5pm – 6pm for just $12.50! \nCall the Club on 4122 2321 to book your table or book online now! \nTerms and conditions apply. Please present your seniors card to be eligible. Available Monday to Friday only. \n  \n 
URL:https://maryboroughservicesclub.com.au/event/seniors-roast/2027-03-05/
LOCATION:The Services Club Maryborough\, 163-175 Lennox Street\, Maryborough\, QLD\, 4650\, Australia
CATEGORIES:All,Meal Specials
ATTACH;FMTTYPE=image/jpeg:https://maryboroughservicesclub.com.au/wp-content/uploads/2025/08/senior-s-meal-deal-web-feat-image-custom.jpeg
END:VEVENT
BEGIN:VEVENT
DTSTART;TZID=Australia/Brisbane:20270308T113000
DTEND;TZID=Australia/Brisbane:20270308T200000
DTSTAMP:20260422T010221
CREATED:20250710T001935Z
LAST-MODIFIED:20250710T001935Z
UID:10007480-1804505400-1804536000@maryboroughservicesclub.com.au
SUMMARY:Kids Eat Free
DESCRIPTION:Kids eat FREE every Monday at Maryborough Services Club! \nEnjoy a free meal for the small ones with any adult main meal purchase during either lunch or dinner on Mondays. \nBook your table now online or call 4122 2321 & let us sort the kids. \nTerms and conditions apply. Specials not included. Children under 12 only.
URL:https://maryboroughservicesclub.com.au/event/kids-eat-free/2027-03-08/
LOCATION:The Services Club Maryborough\, 163-175 Lennox Street\, Maryborough\, QLD\, 4650\, Australia
CATEGORIES:All,Meal Specials
ATTACH;FMTTYPE=image/jpeg:https://maryboroughservicesclub.com.au/wp-content/uploads/2025/07/kids-eat-free-feat-image-custom.jpeg
END:VEVENT
BEGIN:VEVENT
DTSTART;TZID=Australia/Brisbane:20270308T170000
DTEND;TZID=Australia/Brisbane:20270308T180000
DTSTAMP:20260422T010221
CREATED:20250810T230030Z
LAST-MODIFIED:20250810T230500Z
UID:10009962-1804525200-1804528800@maryboroughservicesclub.com.au
SUMMARY:Senior's Roast
DESCRIPTION:Calling all the seniors! \nTreat yourself to a senior’s roast every weekday from 5pm – 6pm for just $12.50! \nCall the Club on 4122 2321 to book your table or book online now! \nTerms and conditions apply. Please present your seniors card to be eligible. Available Monday to Friday only. \n  \n 
URL:https://maryboroughservicesclub.com.au/event/seniors-roast/2027-03-08/
LOCATION:The Services Club Maryborough\, 163-175 Lennox Street\, Maryborough\, QLD\, 4650\, Australia
CATEGORIES:All,Meal Specials
ATTACH;FMTTYPE=image/jpeg:https://maryboroughservicesclub.com.au/wp-content/uploads/2025/08/senior-s-meal-deal-web-feat-image-custom.jpeg
END:VEVENT
BEGIN:VEVENT
DTSTART;TZID=Australia/Brisbane:20270308T170000
DTEND;TZID=Australia/Brisbane:20270308T203000
DTSTAMP:20260422T010221
CREATED:20251126T034056Z
LAST-MODIFIED:20251126T034056Z
UID:10014925-1804525200-1804537800@maryboroughservicesclub.com.au
SUMMARY:Barramonday
DESCRIPTION:Monday Nights are Barramundi Night at Maryborough Services Club! \nTreat yourself to crumbed\, grilled or battered barramundi \, served with salad & chips or vegetables\, and tartare sauce for just $20 for members. \nTerms and conditions. Available for dinner only.
URL:https://maryboroughservicesclub.com.au/event/barramonday/2027-03-08/
LOCATION:The Services Club Maryborough\, 163-175 Lennox Street\, Maryborough\, QLD\, 4650\, Australia
CATEGORIES:All,Meal Specials
ATTACH;FMTTYPE=image/png:https://maryboroughservicesclub.com.au/wp-content/uploads/2025/11/Bistro-Special-Bara-Web-Feat-image-.png
END:VEVENT
BEGIN:VEVENT
DTSTART;TZID=Australia/Brisbane:20270309T170000
DTEND;TZID=Australia/Brisbane:20270309T180000
DTSTAMP:20260422T010221
CREATED:20250810T230030Z
LAST-MODIFIED:20250810T230500Z
UID:10009963-1804611600-1804615200@maryboroughservicesclub.com.au
SUMMARY:Senior's Roast
DESCRIPTION:Calling all the seniors! \nTreat yourself to a senior’s roast every weekday from 5pm – 6pm for just $12.50! \nCall the Club on 4122 2321 to book your table or book online now! \nTerms and conditions apply. Please present your seniors card to be eligible. Available Monday to Friday only. \n  \n 
URL:https://maryboroughservicesclub.com.au/event/seniors-roast/2027-03-09/
LOCATION:The Services Club Maryborough\, 163-175 Lennox Street\, Maryborough\, QLD\, 4650\, Australia
CATEGORIES:All,Meal Specials
ATTACH;FMTTYPE=image/jpeg:https://maryboroughservicesclub.com.au/wp-content/uploads/2025/08/senior-s-meal-deal-web-feat-image-custom.jpeg
END:VEVENT
BEGIN:VEVENT
DTSTART;TZID=Australia/Brisbane:20270310T170000
DTEND;TZID=Australia/Brisbane:20270310T180000
DTSTAMP:20260422T010221
CREATED:20250810T230030Z
LAST-MODIFIED:20250810T230500Z
UID:10009964-1804698000-1804701600@maryboroughservicesclub.com.au
SUMMARY:Senior's Roast
DESCRIPTION:Calling all the seniors! \nTreat yourself to a senior’s roast every weekday from 5pm – 6pm for just $12.50! \nCall the Club on 4122 2321 to book your table or book online now! \nTerms and conditions apply. Please present your seniors card to be eligible. Available Monday to Friday only. \n  \n 
URL:https://maryboroughservicesclub.com.au/event/seniors-roast/2027-03-10/
LOCATION:The Services Club Maryborough\, 163-175 Lennox Street\, Maryborough\, QLD\, 4650\, Australia
CATEGORIES:All,Meal Specials
ATTACH;FMTTYPE=image/jpeg:https://maryboroughservicesclub.com.au/wp-content/uploads/2025/08/senior-s-meal-deal-web-feat-image-custom.jpeg
END:VEVENT
BEGIN:VEVENT
DTSTART;TZID=Australia/Brisbane:20270310T173000
DTEND;TZID=Australia/Brisbane:20270310T203000
DTSTAMP:20260422T010221
CREATED:20250710T002238Z
LAST-MODIFIED:20250903T005709Z
UID:10007741-1804699800-1804710600@maryboroughservicesclub.com.au
SUMMARY:Schnitzel Night
DESCRIPTION:Join us every Wednesday night for Schnitzel Night at Maryborough Services Club! \nEnjoy a Schnitzel served with salad & chips or vegetables\, from 5.30pm – 8.30pm for just $19 for members or $21 for non members. \nTerms and conditions apply.
URL:https://maryboroughservicesclub.com.au/event/schnitzel-night/2027-03-10/
LOCATION:The Services Club Maryborough\, 163-175 Lennox Street\, Maryborough\, QLD\, 4650\, Australia
CATEGORIES:All,Meal Specials
ATTACH;FMTTYPE=image/jpeg:https://maryboroughservicesclub.com.au/wp-content/uploads/2025/07/schnitty-feat-image.jpeg
END:VEVENT
BEGIN:VEVENT
DTSTART;TZID=Australia/Brisbane:20270311T170000
DTEND;TZID=Australia/Brisbane:20270311T180000
DTSTAMP:20260422T010221
CREATED:20250810T230030Z
LAST-MODIFIED:20250810T230500Z
UID:10009965-1804784400-1804788000@maryboroughservicesclub.com.au
SUMMARY:Senior's Roast
DESCRIPTION:Calling all the seniors! \nTreat yourself to a senior’s roast every weekday from 5pm – 6pm for just $12.50! \nCall the Club on 4122 2321 to book your table or book online now! \nTerms and conditions apply. Please present your seniors card to be eligible. Available Monday to Friday only. \n  \n 
URL:https://maryboroughservicesclub.com.au/event/seniors-roast/2027-03-11/
LOCATION:The Services Club Maryborough\, 163-175 Lennox Street\, Maryborough\, QLD\, 4650\, Australia
CATEGORIES:All,Meal Specials
ATTACH;FMTTYPE=image/jpeg:https://maryboroughservicesclub.com.au/wp-content/uploads/2025/08/senior-s-meal-deal-web-feat-image-custom.jpeg
END:VEVENT
BEGIN:VEVENT
DTSTART;TZID=Australia/Brisbane:20270311T170000
DTEND;TZID=Australia/Brisbane:20270311T203000
DTSTAMP:20260422T010221
CREATED:20251111T031656Z
LAST-MODIFIED:20251126T034548Z
UID:10014575-1804784400-1804797000@maryboroughservicesclub.com.au
SUMMARY:Steak Night
DESCRIPTION:Thursday Nights are Steak Night at Maryborough Services Club! \nTreat yourself with a 300g Sirloin steak cooked to your liking\, served with salad & chips or vegetables\, and your choice of sauce for just $25 for members. \nTerms and conditions. Available for dinner only.
URL:https://maryboroughservicesclub.com.au/event/steak-night-2/2027-03-11/
LOCATION:The Services Club Maryborough\, 163-175 Lennox Street\, Maryborough\, QLD\, 4650\, Australia
CATEGORIES:All,Meal Specials
ATTACH;FMTTYPE=image/jpeg:https://maryboroughservicesclub.com.au/wp-content/uploads/2025/11/STEAK-NIGHT-web-feat-img-960-x-400-px.jpg
END:VEVENT
BEGIN:VEVENT
DTSTART;TZID=Australia/Brisbane:20270312T170000
DTEND;TZID=Australia/Brisbane:20270312T180000
DTSTAMP:20260422T010221
CREATED:20250810T230030Z
LAST-MODIFIED:20250810T230500Z
UID:10009966-1804870800-1804874400@maryboroughservicesclub.com.au
SUMMARY:Senior's Roast
DESCRIPTION:Calling all the seniors! \nTreat yourself to a senior’s roast every weekday from 5pm – 6pm for just $12.50! \nCall the Club on 4122 2321 to book your table or book online now! \nTerms and conditions apply. Please present your seniors card to be eligible. Available Monday to Friday only. \n  \n 
URL:https://maryboroughservicesclub.com.au/event/seniors-roast/2027-03-12/
LOCATION:The Services Club Maryborough\, 163-175 Lennox Street\, Maryborough\, QLD\, 4650\, Australia
CATEGORIES:All,Meal Specials
ATTACH;FMTTYPE=image/jpeg:https://maryboroughservicesclub.com.au/wp-content/uploads/2025/08/senior-s-meal-deal-web-feat-image-custom.jpeg
END:VEVENT
BEGIN:VEVENT
DTSTART;TZID=Australia/Brisbane:20270315T113000
DTEND;TZID=Australia/Brisbane:20270315T200000
DTSTAMP:20260422T010221
CREATED:20250710T001935Z
LAST-MODIFIED:20250710T001935Z
UID:10007481-1805110200-1805140800@maryboroughservicesclub.com.au
SUMMARY:Kids Eat Free
DESCRIPTION:Kids eat FREE every Monday at Maryborough Services Club! \nEnjoy a free meal for the small ones with any adult main meal purchase during either lunch or dinner on Mondays. \nBook your table now online or call 4122 2321 & let us sort the kids. \nTerms and conditions apply. Specials not included. Children under 12 only.
URL:https://maryboroughservicesclub.com.au/event/kids-eat-free/2027-03-15/
LOCATION:The Services Club Maryborough\, 163-175 Lennox Street\, Maryborough\, QLD\, 4650\, Australia
CATEGORIES:All,Meal Specials
ATTACH;FMTTYPE=image/jpeg:https://maryboroughservicesclub.com.au/wp-content/uploads/2025/07/kids-eat-free-feat-image-custom.jpeg
END:VEVENT
BEGIN:VEVENT
DTSTART;TZID=Australia/Brisbane:20270315T170000
DTEND;TZID=Australia/Brisbane:20270315T180000
DTSTAMP:20260422T010221
CREATED:20250810T230030Z
LAST-MODIFIED:20250810T230500Z
UID:10009969-1805130000-1805133600@maryboroughservicesclub.com.au
SUMMARY:Senior's Roast
DESCRIPTION:Calling all the seniors! \nTreat yourself to a senior’s roast every weekday from 5pm – 6pm for just $12.50! \nCall the Club on 4122 2321 to book your table or book online now! \nTerms and conditions apply. Please present your seniors card to be eligible. Available Monday to Friday only. \n  \n 
URL:https://maryboroughservicesclub.com.au/event/seniors-roast/2027-03-15/
LOCATION:The Services Club Maryborough\, 163-175 Lennox Street\, Maryborough\, QLD\, 4650\, Australia
CATEGORIES:All,Meal Specials
ATTACH;FMTTYPE=image/jpeg:https://maryboroughservicesclub.com.au/wp-content/uploads/2025/08/senior-s-meal-deal-web-feat-image-custom.jpeg
END:VEVENT
BEGIN:VEVENT
DTSTART;TZID=Australia/Brisbane:20270315T170000
DTEND;TZID=Australia/Brisbane:20270315T203000
DTSTAMP:20260422T010221
CREATED:20251126T034056Z
LAST-MODIFIED:20251126T034056Z
UID:10014926-1805130000-1805142600@maryboroughservicesclub.com.au
SUMMARY:Barramonday
DESCRIPTION:Monday Nights are Barramundi Night at Maryborough Services Club! \nTreat yourself to crumbed\, grilled or battered barramundi \, served with salad & chips or vegetables\, and tartare sauce for just $20 for members. \nTerms and conditions. Available for dinner only.
URL:https://maryboroughservicesclub.com.au/event/barramonday/2027-03-15/
LOCATION:The Services Club Maryborough\, 163-175 Lennox Street\, Maryborough\, QLD\, 4650\, Australia
CATEGORIES:All,Meal Specials
ATTACH;FMTTYPE=image/png:https://maryboroughservicesclub.com.au/wp-content/uploads/2025/11/Bistro-Special-Bara-Web-Feat-image-.png
END:VEVENT
BEGIN:VEVENT
DTSTART;TZID=Australia/Brisbane:20270316T170000
DTEND;TZID=Australia/Brisbane:20270316T180000
DTSTAMP:20260422T010221
CREATED:20250810T230030Z
LAST-MODIFIED:20250810T230500Z
UID:10009970-1805216400-1805220000@maryboroughservicesclub.com.au
SUMMARY:Senior's Roast
DESCRIPTION:Calling all the seniors! \nTreat yourself to a senior’s roast every weekday from 5pm – 6pm for just $12.50! \nCall the Club on 4122 2321 to book your table or book online now! \nTerms and conditions apply. Please present your seniors card to be eligible. Available Monday to Friday only. \n  \n 
URL:https://maryboroughservicesclub.com.au/event/seniors-roast/2027-03-16/
LOCATION:The Services Club Maryborough\, 163-175 Lennox Street\, Maryborough\, QLD\, 4650\, Australia
CATEGORIES:All,Meal Specials
ATTACH;FMTTYPE=image/jpeg:https://maryboroughservicesclub.com.au/wp-content/uploads/2025/08/senior-s-meal-deal-web-feat-image-custom.jpeg
END:VEVENT
BEGIN:VEVENT
DTSTART;TZID=Australia/Brisbane:20270317T170000
DTEND;TZID=Australia/Brisbane:20270317T180000
DTSTAMP:20260422T010221
CREATED:20250810T230030Z
LAST-MODIFIED:20250810T230500Z
UID:10009971-1805302800-1805306400@maryboroughservicesclub.com.au
SUMMARY:Senior's Roast
DESCRIPTION:Calling all the seniors! \nTreat yourself to a senior’s roast every weekday from 5pm – 6pm for just $12.50! \nCall the Club on 4122 2321 to book your table or book online now! \nTerms and conditions apply. Please present your seniors card to be eligible. Available Monday to Friday only. \n  \n 
URL:https://maryboroughservicesclub.com.au/event/seniors-roast/2027-03-17/
LOCATION:The Services Club Maryborough\, 163-175 Lennox Street\, Maryborough\, QLD\, 4650\, Australia
CATEGORIES:All,Meal Specials
ATTACH;FMTTYPE=image/jpeg:https://maryboroughservicesclub.com.au/wp-content/uploads/2025/08/senior-s-meal-deal-web-feat-image-custom.jpeg
END:VEVENT
BEGIN:VEVENT
DTSTART;TZID=Australia/Brisbane:20270317T173000
DTEND;TZID=Australia/Brisbane:20270317T203000
DTSTAMP:20260422T010221
CREATED:20250710T002238Z
LAST-MODIFIED:20250903T005709Z
UID:10007742-1805304600-1805315400@maryboroughservicesclub.com.au
SUMMARY:Schnitzel Night
DESCRIPTION:Join us every Wednesday night for Schnitzel Night at Maryborough Services Club! \nEnjoy a Schnitzel served with salad & chips or vegetables\, from 5.30pm – 8.30pm for just $19 for members or $21 for non members. \nTerms and conditions apply.
URL:https://maryboroughservicesclub.com.au/event/schnitzel-night/2027-03-17/
LOCATION:The Services Club Maryborough\, 163-175 Lennox Street\, Maryborough\, QLD\, 4650\, Australia
CATEGORIES:All,Meal Specials
ATTACH;FMTTYPE=image/jpeg:https://maryboroughservicesclub.com.au/wp-content/uploads/2025/07/schnitty-feat-image.jpeg
END:VEVENT
BEGIN:VEVENT
DTSTART;TZID=Australia/Brisbane:20270318T170000
DTEND;TZID=Australia/Brisbane:20270318T180000
DTSTAMP:20260422T010221
CREATED:20250810T230030Z
LAST-MODIFIED:20250810T230500Z
UID:10009972-1805389200-1805392800@maryboroughservicesclub.com.au
SUMMARY:Senior's Roast
DESCRIPTION:Calling all the seniors! \nTreat yourself to a senior’s roast every weekday from 5pm – 6pm for just $12.50! \nCall the Club on 4122 2321 to book your table or book online now! \nTerms and conditions apply. Please present your seniors card to be eligible. Available Monday to Friday only. \n  \n 
URL:https://maryboroughservicesclub.com.au/event/seniors-roast/2027-03-18/
LOCATION:The Services Club Maryborough\, 163-175 Lennox Street\, Maryborough\, QLD\, 4650\, Australia
CATEGORIES:All,Meal Specials
ATTACH;FMTTYPE=image/jpeg:https://maryboroughservicesclub.com.au/wp-content/uploads/2025/08/senior-s-meal-deal-web-feat-image-custom.jpeg
END:VEVENT
BEGIN:VEVENT
DTSTART;TZID=Australia/Brisbane:20270318T170000
DTEND;TZID=Australia/Brisbane:20270318T203000
DTSTAMP:20260422T010221
CREATED:20251111T031656Z
LAST-MODIFIED:20251126T034548Z
UID:10014576-1805389200-1805401800@maryboroughservicesclub.com.au
SUMMARY:Steak Night
DESCRIPTION:Thursday Nights are Steak Night at Maryborough Services Club! \nTreat yourself with a 300g Sirloin steak cooked to your liking\, served with salad & chips or vegetables\, and your choice of sauce for just $25 for members. \nTerms and conditions. Available for dinner only.
URL:https://maryboroughservicesclub.com.au/event/steak-night-2/2027-03-18/
LOCATION:The Services Club Maryborough\, 163-175 Lennox Street\, Maryborough\, QLD\, 4650\, Australia
CATEGORIES:All,Meal Specials
ATTACH;FMTTYPE=image/jpeg:https://maryboroughservicesclub.com.au/wp-content/uploads/2025/11/STEAK-NIGHT-web-feat-img-960-x-400-px.jpg
END:VEVENT
BEGIN:VEVENT
DTSTART;TZID=Australia/Brisbane:20270319T170000
DTEND;TZID=Australia/Brisbane:20270319T180000
DTSTAMP:20260422T010221
CREATED:20250810T230030Z
LAST-MODIFIED:20250810T230500Z
UID:10009973-1805475600-1805479200@maryboroughservicesclub.com.au
SUMMARY:Senior's Roast
DESCRIPTION:Calling all the seniors! \nTreat yourself to a senior’s roast every weekday from 5pm – 6pm for just $12.50! \nCall the Club on 4122 2321 to book your table or book online now! \nTerms and conditions apply. Please present your seniors card to be eligible. Available Monday to Friday only. \n  \n 
URL:https://maryboroughservicesclub.com.au/event/seniors-roast/2027-03-19/
LOCATION:The Services Club Maryborough\, 163-175 Lennox Street\, Maryborough\, QLD\, 4650\, Australia
CATEGORIES:All,Meal Specials
ATTACH;FMTTYPE=image/jpeg:https://maryboroughservicesclub.com.au/wp-content/uploads/2025/08/senior-s-meal-deal-web-feat-image-custom.jpeg
END:VEVENT
BEGIN:VEVENT
DTSTART;TZID=Australia/Brisbane:20270322T113000
DTEND;TZID=Australia/Brisbane:20270322T200000
DTSTAMP:20260422T010221
CREATED:20250710T001935Z
LAST-MODIFIED:20250710T001935Z
UID:10007482-1805715000-1805745600@maryboroughservicesclub.com.au
SUMMARY:Kids Eat Free
DESCRIPTION:Kids eat FREE every Monday at Maryborough Services Club! \nEnjoy a free meal for the small ones with any adult main meal purchase during either lunch or dinner on Mondays. \nBook your table now online or call 4122 2321 & let us sort the kids. \nTerms and conditions apply. Specials not included. Children under 12 only.
URL:https://maryboroughservicesclub.com.au/event/kids-eat-free/2027-03-22/
LOCATION:The Services Club Maryborough\, 163-175 Lennox Street\, Maryborough\, QLD\, 4650\, Australia
CATEGORIES:All,Meal Specials
ATTACH;FMTTYPE=image/jpeg:https://maryboroughservicesclub.com.au/wp-content/uploads/2025/07/kids-eat-free-feat-image-custom.jpeg
END:VEVENT
BEGIN:VEVENT
DTSTART;TZID=Australia/Brisbane:20270322T170000
DTEND;TZID=Australia/Brisbane:20270322T180000
DTSTAMP:20260422T010221
CREATED:20250810T230030Z
LAST-MODIFIED:20250810T230500Z
UID:10009976-1805734800-1805738400@maryboroughservicesclub.com.au
SUMMARY:Senior's Roast
DESCRIPTION:Calling all the seniors! \nTreat yourself to a senior’s roast every weekday from 5pm – 6pm for just $12.50! \nCall the Club on 4122 2321 to book your table or book online now! \nTerms and conditions apply. Please present your seniors card to be eligible. Available Monday to Friday only. \n  \n 
URL:https://maryboroughservicesclub.com.au/event/seniors-roast/2027-03-22/
LOCATION:The Services Club Maryborough\, 163-175 Lennox Street\, Maryborough\, QLD\, 4650\, Australia
CATEGORIES:All,Meal Specials
ATTACH;FMTTYPE=image/jpeg:https://maryboroughservicesclub.com.au/wp-content/uploads/2025/08/senior-s-meal-deal-web-feat-image-custom.jpeg
END:VEVENT
BEGIN:VEVENT
DTSTART;TZID=Australia/Brisbane:20270322T170000
DTEND;TZID=Australia/Brisbane:20270322T203000
DTSTAMP:20260422T010221
CREATED:20251126T034056Z
LAST-MODIFIED:20251126T034056Z
UID:10014927-1805734800-1805747400@maryboroughservicesclub.com.au
SUMMARY:Barramonday
DESCRIPTION:Monday Nights are Barramundi Night at Maryborough Services Club! \nTreat yourself to crumbed\, grilled or battered barramundi \, served with salad & chips or vegetables\, and tartare sauce for just $20 for members. \nTerms and conditions. Available for dinner only.
URL:https://maryboroughservicesclub.com.au/event/barramonday/2027-03-22/
LOCATION:The Services Club Maryborough\, 163-175 Lennox Street\, Maryborough\, QLD\, 4650\, Australia
CATEGORIES:All,Meal Specials
ATTACH;FMTTYPE=image/png:https://maryboroughservicesclub.com.au/wp-content/uploads/2025/11/Bistro-Special-Bara-Web-Feat-image-.png
END:VEVENT
END:VCALENDAR