BEGIN:VCALENDAR
VERSION:2.0
PRODID:-//Maryborough Services Club - ECPv6.15.17//NONSGML v1.0//EN
CALSCALE:GREGORIAN
METHOD:PUBLISH
X-ORIGINAL-URL:https://maryboroughservicesclub.com.au
X-WR-CALDESC:Events for Maryborough Services Club
REFRESH-INTERVAL;VALUE=DURATION:PT1H
X-Robots-Tag:noindex
X-PUBLISHED-TTL:PT1H
BEGIN:VTIMEZONE
TZID:Australia/Brisbane
BEGIN:STANDARD
TZOFFSETFROM:+1000
TZOFFSETTO:+1000
TZNAME:AEST
DTSTART:20240101T000000
END:STANDARD
END:VTIMEZONE
BEGIN:VEVENT
DTSTART;TZID=Australia/Brisbane:20250901T160000
DTEND;TZID=Australia/Brisbane:20250901T200000
DTSTAMP:20260422T145553
CREATED:20250704T043011Z
LAST-MODIFIED:20250916T005747Z
UID:10003478-1756742400-1756756800@maryboroughservicesclub.com.au
SUMMARY:Jag the Joker
DESCRIPTION:Play our Jag the Joker every Monday from 4pm – 8pm! \nPick the joker from the deck to win CASH! \nReceive an entry with every $5 spend on food & beverage in the club. \nTerms and conditions apply. \n 
URL:https://maryboroughservicesclub.com.au/event/jag-the-joker/2025-09-01/
LOCATION:The Services Club Maryborough\, 163-175 Lennox Street\, Maryborough\, QLD\, 4650\, Australia
CATEGORIES:All,Weekly Activities
ATTACH;FMTTYPE=image/jpeg:https://maryboroughservicesclub.com.au/wp-content/uploads/2025/07/jag-the-joker-featured-image-custom.jpeg
END:VEVENT
BEGIN:VEVENT
DTSTART;TZID=Australia/Brisbane:20250903T183000
DTEND;TZID=Australia/Brisbane:20250903T200000
DTSTAMP:20260422T145553
CREATED:20250704T032225Z
LAST-MODIFIED:20250916T005221Z
UID:10001657-1756924200-1756929600@maryboroughservicesclub.com.au
SUMMARY:Trivia Night
DESCRIPTION:Looking for a fun team activity to do? Wednesdays &  Thursdays are Trivia Nights at Maryborough Services Club! \nGather your team of 1 – 10 people for your chance to win great prizes! \nRegistration opens at 6pm for a 6.30pm start. \nTrivia cost is $5 per person. \nSee you there!
URL:https://maryboroughservicesclub.com.au/event/trivia-night/2025-09-03/
LOCATION:The Services Club Maryborough\, 163-175 Lennox Street\, Maryborough\, QLD\, 4650\, Australia
CATEGORIES:All,Trivia,Weekly Activities
ATTACH;FMTTYPE=image/jpeg:https://maryboroughservicesclub.com.au/wp-content/uploads/2025/07/trivia-night-feat-image-custom.jpeg
END:VEVENT
BEGIN:VEVENT
DTSTART;TZID=Australia/Brisbane:20250904T100000
DTEND;TZID=Australia/Brisbane:20250904T120000
DTSTAMP:20260422T145553
CREATED:20250704T033305Z
LAST-MODIFIED:20250916T005255Z
UID:10002171-1756980000-1756987200@maryboroughservicesclub.com.au
SUMMARY:Market Morning Raffles
DESCRIPTION:Join us every Thursday morning for our Market Morning Raffles at Maryborough Services Club! \nWe’ve got over $850 of great prizes up for grabs including grocery items\, meat vouchers\, club vouchers\, lucky buckets\, AND MORE! \nTicket are on sale in the club from 10am on Thursday. \nSee you there! \nTerms and conditions apply.
URL:https://maryboroughservicesclub.com.au/event/market-morning-raffles/2025-09-04/
LOCATION:The Services Club Maryborough\, 163-175 Lennox Street\, Maryborough\, QLD\, 4650\, Australia
CATEGORIES:All,Raffles,Weekly Activities
ATTACH;FMTTYPE=image/jpeg:https://maryboroughservicesclub.com.au/wp-content/uploads/2025/07/market-morning-feat-image-custom.jpeg
END:VEVENT
BEGIN:VEVENT
DTSTART;TZID=Australia/Brisbane:20250904T183000
DTEND;TZID=Australia/Brisbane:20250904T200000
DTSTAMP:20260422T145553
CREATED:20250704T032225Z
LAST-MODIFIED:20250916T005221Z
UID:10001658-1757010600-1757016000@maryboroughservicesclub.com.au
SUMMARY:Trivia Night
DESCRIPTION:Looking for a fun team activity to do? Wednesdays &  Thursdays are Trivia Nights at Maryborough Services Club! \nGather your team of 1 – 10 people for your chance to win great prizes! \nRegistration opens at 6pm for a 6.30pm start. \nTrivia cost is $5 per person. \nSee you there!
URL:https://maryboroughservicesclub.com.au/event/trivia-night/2025-09-04/
LOCATION:The Services Club Maryborough\, 163-175 Lennox Street\, Maryborough\, QLD\, 4650\, Australia
CATEGORIES:All,Trivia,Weekly Activities
ATTACH;FMTTYPE=image/jpeg:https://maryboroughservicesclub.com.au/wp-content/uploads/2025/07/trivia-night-feat-image-custom.jpeg
END:VEVENT
BEGIN:VEVENT
DTSTART;TZID=Australia/Brisbane:20250905T180000
DTEND;TZID=Australia/Brisbane:20250905T200000
DTSTAMP:20260422T145553
CREATED:20250704T033823Z
LAST-MODIFIED:20250916T005343Z
UID:10002433-1757095200-1757102400@maryboroughservicesclub.com.au
SUMMARY:Friday Night Raffles
DESCRIPTION:Join us every Friday for our Friday Night Raffles at Maryborough Services Club! \nWe’ve got $600 worth of meat trays to be won! \nTicket are on sale in the club from 6pm on Friday for just $1 for 5 numbers. \nMake it a night and enjoy a delicious bistro meal while you’re here! \nTerms and conditions apply. Images for illustrative purposes only.
URL:https://maryboroughservicesclub.com.au/event/friday-night-raffles/2025-09-05/
LOCATION:The Services Club Maryborough\, 163-175 Lennox Street\, Maryborough\, QLD\, 4650\, Australia
CATEGORIES:All,Raffles,Weekly Activities
ATTACH;FMTTYPE=image/jpeg:https://maryboroughservicesclub.com.au/wp-content/uploads/2025/07/Fri-Raffles-Web-Events.jpg
END:VEVENT
BEGIN:VEVENT
DTSTART;TZID=Australia/Brisbane:20250906T200000
DTEND;TZID=Australia/Brisbane:20250906T220000
DTSTAMP:20260422T145553
CREATED:20250704T034348Z
LAST-MODIFIED:20250916T005616Z
UID:10002955-1757188800-1757196000@maryboroughservicesclub.com.au
SUMMARY:Saturday Night Raffles
DESCRIPTION:Join us every Saturday for our Saturday Night Raffles at Maryborough Services Club! \nWe’ve got fuel cards & meat trays to be won! \nTicket are on sale in the club from 6pm on Saturday for just $1 for 5 numbers. \nDraws are on 8pm. \nMake it a night and enjoy a delicious bistro meal while you’re here! \nTerms and conditions apply. Images for illustrative purposes only.
URL:https://maryboroughservicesclub.com.au/event/saturday-night-raffles/2025-09-06/
LOCATION:The Services Club Maryborough\, 163-175 Lennox Street\, Maryborough\, QLD\, 4650\, Australia
CATEGORIES:All,Raffles,Weekly Activities
ATTACH;FMTTYPE=image/jpeg:https://maryboroughservicesclub.com.au/wp-content/uploads/2025/07/Sat-Raffles-Web-Events.jpg
END:VEVENT
BEGIN:VEVENT
DTSTART;TZID=Australia/Brisbane:20250907T140000
DTEND;TZID=Australia/Brisbane:20250907T160000
DTSTAMP:20260422T145553
CREATED:20250903T053829Z
LAST-MODIFIED:20250903T053855Z
UID:10013787-1757253600-1757260800@maryboroughservicesclub.com.au
SUMMARY:Father's Day Raffle
DESCRIPTION:We have over $800 in prizes to be won on Sunday 7th September for our Father’s Day Raffle! \nYou’ll automatically go into the draw with your Father’s Day Breakfast ticket + any purchase from the Father’s Day specials from the Thursday 4th until Sunday 7th September. \nThe raffle draw will start from 2pm – see you there! \nTerms and condition apply. \n 
URL:https://maryboroughservicesclub.com.au/event/fathers-day-raffle/
LOCATION:The Services Club Maryborough\, 163-175 Lennox Street\, Maryborough\, QLD\, 4650\, Australia
CATEGORIES:All,Raffles,Weekly Activities
END:VEVENT
BEGIN:VEVENT
DTSTART;TZID=Australia/Brisbane:20250908T160000
DTEND;TZID=Australia/Brisbane:20250908T200000
DTSTAMP:20260422T145553
CREATED:20250704T043011Z
LAST-MODIFIED:20250916T005747Z
UID:10003479-1757347200-1757361600@maryboroughservicesclub.com.au
SUMMARY:Jag the Joker
DESCRIPTION:Play our Jag the Joker every Monday from 4pm – 8pm! \nPick the joker from the deck to win CASH! \nReceive an entry with every $5 spend on food & beverage in the club. \nTerms and conditions apply. \n 
URL:https://maryboroughservicesclub.com.au/event/jag-the-joker/2025-09-08/
LOCATION:The Services Club Maryborough\, 163-175 Lennox Street\, Maryborough\, QLD\, 4650\, Australia
CATEGORIES:All,Weekly Activities
ATTACH;FMTTYPE=image/jpeg:https://maryboroughservicesclub.com.au/wp-content/uploads/2025/07/jag-the-joker-featured-image-custom.jpeg
END:VEVENT
BEGIN:VEVENT
DTSTART;TZID=Australia/Brisbane:20250910T183000
DTEND;TZID=Australia/Brisbane:20250910T200000
DTSTAMP:20260422T145553
CREATED:20250704T032225Z
LAST-MODIFIED:20250916T005221Z
UID:10001659-1757529000-1757534400@maryboroughservicesclub.com.au
SUMMARY:Trivia Night
DESCRIPTION:Looking for a fun team activity to do? Wednesdays &  Thursdays are Trivia Nights at Maryborough Services Club! \nGather your team of 1 – 10 people for your chance to win great prizes! \nRegistration opens at 6pm for a 6.30pm start. \nTrivia cost is $5 per person. \nSee you there!
URL:https://maryboroughservicesclub.com.au/event/trivia-night/2025-09-10/
LOCATION:The Services Club Maryborough\, 163-175 Lennox Street\, Maryborough\, QLD\, 4650\, Australia
CATEGORIES:All,Trivia,Weekly Activities
ATTACH;FMTTYPE=image/jpeg:https://maryboroughservicesclub.com.au/wp-content/uploads/2025/07/trivia-night-feat-image-custom.jpeg
END:VEVENT
BEGIN:VEVENT
DTSTART;TZID=Australia/Brisbane:20250911T100000
DTEND;TZID=Australia/Brisbane:20250911T120000
DTSTAMP:20260422T145553
CREATED:20250704T033305Z
LAST-MODIFIED:20250916T005255Z
UID:10002172-1757584800-1757592000@maryboroughservicesclub.com.au
SUMMARY:Market Morning Raffles
DESCRIPTION:Join us every Thursday morning for our Market Morning Raffles at Maryborough Services Club! \nWe’ve got over $850 of great prizes up for grabs including grocery items\, meat vouchers\, club vouchers\, lucky buckets\, AND MORE! \nTicket are on sale in the club from 10am on Thursday. \nSee you there! \nTerms and conditions apply.
URL:https://maryboroughservicesclub.com.au/event/market-morning-raffles/2025-09-11/
LOCATION:The Services Club Maryborough\, 163-175 Lennox Street\, Maryborough\, QLD\, 4650\, Australia
CATEGORIES:All,Raffles,Weekly Activities
ATTACH;FMTTYPE=image/jpeg:https://maryboroughservicesclub.com.au/wp-content/uploads/2025/07/market-morning-feat-image-custom.jpeg
END:VEVENT
BEGIN:VEVENT
DTSTART;TZID=Australia/Brisbane:20250911T183000
DTEND;TZID=Australia/Brisbane:20250911T200000
DTSTAMP:20260422T145553
CREATED:20250704T032225Z
LAST-MODIFIED:20250916T005221Z
UID:10001660-1757615400-1757620800@maryboroughservicesclub.com.au
SUMMARY:Trivia Night
DESCRIPTION:Looking for a fun team activity to do? Wednesdays &  Thursdays are Trivia Nights at Maryborough Services Club! \nGather your team of 1 – 10 people for your chance to win great prizes! \nRegistration opens at 6pm for a 6.30pm start. \nTrivia cost is $5 per person. \nSee you there!
URL:https://maryboroughservicesclub.com.au/event/trivia-night/2025-09-11/
LOCATION:The Services Club Maryborough\, 163-175 Lennox Street\, Maryborough\, QLD\, 4650\, Australia
CATEGORIES:All,Trivia,Weekly Activities
ATTACH;FMTTYPE=image/jpeg:https://maryboroughservicesclub.com.au/wp-content/uploads/2025/07/trivia-night-feat-image-custom.jpeg
END:VEVENT
BEGIN:VEVENT
DTSTART;TZID=Australia/Brisbane:20250912T180000
DTEND;TZID=Australia/Brisbane:20250912T200000
DTSTAMP:20260422T145553
CREATED:20250704T033823Z
LAST-MODIFIED:20250916T005343Z
UID:10002434-1757700000-1757707200@maryboroughservicesclub.com.au
SUMMARY:Friday Night Raffles
DESCRIPTION:Join us every Friday for our Friday Night Raffles at Maryborough Services Club! \nWe’ve got $600 worth of meat trays to be won! \nTicket are on sale in the club from 6pm on Friday for just $1 for 5 numbers. \nMake it a night and enjoy a delicious bistro meal while you’re here! \nTerms and conditions apply. Images for illustrative purposes only.
URL:https://maryboroughservicesclub.com.au/event/friday-night-raffles/2025-09-12/
LOCATION:The Services Club Maryborough\, 163-175 Lennox Street\, Maryborough\, QLD\, 4650\, Australia
CATEGORIES:All,Raffles,Weekly Activities
ATTACH;FMTTYPE=image/jpeg:https://maryboroughservicesclub.com.au/wp-content/uploads/2025/07/Fri-Raffles-Web-Events.jpg
END:VEVENT
BEGIN:VEVENT
DTSTART;TZID=Australia/Brisbane:20250913T183000
DTEND;TZID=Australia/Brisbane:20250913T210000
DTSTAMP:20260422T145553
CREATED:20250827T014557Z
LAST-MODIFIED:20250827T015035Z
UID:10013089-1757788200-1757797200@maryboroughservicesclub.com.au
SUMMARY:Bogan Fundraiser Trivia
DESCRIPTION:Join us on Saturday 13th September from 6.30pm in support of the Maryborough Animal refuge in their inaugural charity event to raise much needed funds to help run the Refuge. \nThis will be fun filled night with a ton of Prizes and cash to win. \nDress in your best Bogan Cobber and pull out the mullets for a chance to win some great prizes. \nClick here to get your tickets now!
URL:https://maryboroughservicesclub.com.au/event/bogan-fundraiser-trivia/
LOCATION:The Services Club Maryborough\, 163-175 Lennox Street\, Maryborough\, QLD\, 4650\, Australia
CATEGORIES:All,Special Events,Trivia,Weekly Activities
END:VEVENT
BEGIN:VEVENT
DTSTART;TZID=Australia/Brisbane:20250913T200000
DTEND;TZID=Australia/Brisbane:20250913T220000
DTSTAMP:20260422T145553
CREATED:20250704T034348Z
LAST-MODIFIED:20250916T005616Z
UID:10002956-1757793600-1757800800@maryboroughservicesclub.com.au
SUMMARY:Saturday Night Raffles
DESCRIPTION:Join us every Saturday for our Saturday Night Raffles at Maryborough Services Club! \nWe’ve got fuel cards & meat trays to be won! \nTicket are on sale in the club from 6pm on Saturday for just $1 for 5 numbers. \nDraws are on 8pm. \nMake it a night and enjoy a delicious bistro meal while you’re here! \nTerms and conditions apply. Images for illustrative purposes only.
URL:https://maryboroughservicesclub.com.au/event/saturday-night-raffles/2025-09-13/
LOCATION:The Services Club Maryborough\, 163-175 Lennox Street\, Maryborough\, QLD\, 4650\, Australia
CATEGORIES:All,Raffles,Weekly Activities
ATTACH;FMTTYPE=image/jpeg:https://maryboroughservicesclub.com.au/wp-content/uploads/2025/07/Sat-Raffles-Web-Events.jpg
END:VEVENT
BEGIN:VEVENT
DTSTART;TZID=Australia/Brisbane:20250915T160000
DTEND;TZID=Australia/Brisbane:20250915T200000
DTSTAMP:20260422T145553
CREATED:20250704T043011Z
LAST-MODIFIED:20250916T005747Z
UID:10003480-1757952000-1757966400@maryboroughservicesclub.com.au
SUMMARY:Jag the Joker
DESCRIPTION:Play our Jag the Joker every Monday from 4pm – 8pm! \nPick the joker from the deck to win CASH! \nReceive an entry with every $5 spend on food & beverage in the club. \nTerms and conditions apply. \n 
URL:https://maryboroughservicesclub.com.au/event/jag-the-joker/2025-09-15/
LOCATION:The Services Club Maryborough\, 163-175 Lennox Street\, Maryborough\, QLD\, 4650\, Australia
CATEGORIES:All,Weekly Activities
ATTACH;FMTTYPE=image/jpeg:https://maryboroughservicesclub.com.au/wp-content/uploads/2025/07/jag-the-joker-featured-image-custom.jpeg
END:VEVENT
BEGIN:VEVENT
DTSTART;TZID=Australia/Brisbane:20250917T183000
DTEND;TZID=Australia/Brisbane:20250917T200000
DTSTAMP:20260422T145553
CREATED:20250704T032225Z
LAST-MODIFIED:20250916T005221Z
UID:10001661-1758133800-1758139200@maryboroughservicesclub.com.au
SUMMARY:Trivia Night
DESCRIPTION:Looking for a fun team activity to do? Wednesdays &  Thursdays are Trivia Nights at Maryborough Services Club! \nGather your team of 1 – 10 people for your chance to win great prizes! \nRegistration opens at 6pm for a 6.30pm start. \nTrivia cost is $5 per person. \nSee you there!
URL:https://maryboroughservicesclub.com.au/event/trivia-night/2025-09-17/
LOCATION:The Services Club Maryborough\, 163-175 Lennox Street\, Maryborough\, QLD\, 4650\, Australia
CATEGORIES:All,Trivia,Weekly Activities
ATTACH;FMTTYPE=image/jpeg:https://maryboroughservicesclub.com.au/wp-content/uploads/2025/07/trivia-night-feat-image-custom.jpeg
END:VEVENT
BEGIN:VEVENT
DTSTART;TZID=Australia/Brisbane:20250918T100000
DTEND;TZID=Australia/Brisbane:20250918T120000
DTSTAMP:20260422T145553
CREATED:20250704T033305Z
LAST-MODIFIED:20250916T005255Z
UID:10002173-1758189600-1758196800@maryboroughservicesclub.com.au
SUMMARY:Market Morning Raffles
DESCRIPTION:Join us every Thursday morning for our Market Morning Raffles at Maryborough Services Club! \nWe’ve got over $850 of great prizes up for grabs including grocery items\, meat vouchers\, club vouchers\, lucky buckets\, AND MORE! \nTicket are on sale in the club from 10am on Thursday. \nSee you there! \nTerms and conditions apply.
URL:https://maryboroughservicesclub.com.au/event/market-morning-raffles/2025-09-18/
LOCATION:The Services Club Maryborough\, 163-175 Lennox Street\, Maryborough\, QLD\, 4650\, Australia
CATEGORIES:All,Raffles,Weekly Activities
ATTACH;FMTTYPE=image/jpeg:https://maryboroughservicesclub.com.au/wp-content/uploads/2025/07/market-morning-feat-image-custom.jpeg
END:VEVENT
BEGIN:VEVENT
DTSTART;TZID=Australia/Brisbane:20250918T183000
DTEND;TZID=Australia/Brisbane:20250918T200000
DTSTAMP:20260422T145553
CREATED:20250704T032225Z
LAST-MODIFIED:20250916T005221Z
UID:10001662-1758220200-1758225600@maryboroughservicesclub.com.au
SUMMARY:Trivia Night
DESCRIPTION:Looking for a fun team activity to do? Wednesdays &  Thursdays are Trivia Nights at Maryborough Services Club! \nGather your team of 1 – 10 people for your chance to win great prizes! \nRegistration opens at 6pm for a 6.30pm start. \nTrivia cost is $5 per person. \nSee you there!
URL:https://maryboroughservicesclub.com.au/event/trivia-night/2025-09-18/
LOCATION:The Services Club Maryborough\, 163-175 Lennox Street\, Maryborough\, QLD\, 4650\, Australia
CATEGORIES:All,Trivia,Weekly Activities
ATTACH;FMTTYPE=image/jpeg:https://maryboroughservicesclub.com.au/wp-content/uploads/2025/07/trivia-night-feat-image-custom.jpeg
END:VEVENT
BEGIN:VEVENT
DTSTART;TZID=Australia/Brisbane:20250919T180000
DTEND;TZID=Australia/Brisbane:20250919T200000
DTSTAMP:20260422T145553
CREATED:20250704T033823Z
LAST-MODIFIED:20250916T005343Z
UID:10002435-1758304800-1758312000@maryboroughservicesclub.com.au
SUMMARY:Friday Night Raffles
DESCRIPTION:Join us every Friday for our Friday Night Raffles at Maryborough Services Club! \nWe’ve got $600 worth of meat trays to be won! \nTicket are on sale in the club from 6pm on Friday for just $1 for 5 numbers. \nMake it a night and enjoy a delicious bistro meal while you’re here! \nTerms and conditions apply. Images for illustrative purposes only.
URL:https://maryboroughservicesclub.com.au/event/friday-night-raffles/2025-09-19/
LOCATION:The Services Club Maryborough\, 163-175 Lennox Street\, Maryborough\, QLD\, 4650\, Australia
CATEGORIES:All,Raffles,Weekly Activities
ATTACH;FMTTYPE=image/jpeg:https://maryboroughservicesclub.com.au/wp-content/uploads/2025/07/Fri-Raffles-Web-Events.jpg
END:VEVENT
BEGIN:VEVENT
DTSTART;TZID=Australia/Brisbane:20250920T200000
DTEND;TZID=Australia/Brisbane:20250920T220000
DTSTAMP:20260422T145553
CREATED:20250704T034348Z
LAST-MODIFIED:20250916T005616Z
UID:10002957-1758398400-1758405600@maryboroughservicesclub.com.au
SUMMARY:Saturday Night Raffles
DESCRIPTION:Join us every Saturday for our Saturday Night Raffles at Maryborough Services Club! \nWe’ve got fuel cards & meat trays to be won! \nTicket are on sale in the club from 6pm on Saturday for just $1 for 5 numbers. \nDraws are on 8pm. \nMake it a night and enjoy a delicious bistro meal while you’re here! \nTerms and conditions apply. Images for illustrative purposes only.
URL:https://maryboroughservicesclub.com.au/event/saturday-night-raffles/2025-09-20/
LOCATION:The Services Club Maryborough\, 163-175 Lennox Street\, Maryborough\, QLD\, 4650\, Australia
CATEGORIES:All,Raffles,Weekly Activities
ATTACH;FMTTYPE=image/jpeg:https://maryboroughservicesclub.com.au/wp-content/uploads/2025/07/Sat-Raffles-Web-Events.jpg
END:VEVENT
BEGIN:VEVENT
DTSTART;TZID=Australia/Brisbane:20250921T170000
DTEND;TZID=Australia/Brisbane:20250921T190000
DTSTAMP:20260422T145553
CREATED:20250901T000916Z
LAST-MODIFIED:20250924T040133Z
UID:10013765-1758474000-1758481200@maryboroughservicesclub.com.au
SUMMARY:Kids School Holiday Events
DESCRIPTION:Join us for a fun-filled schedule of activities that your little ones will love these September/October School Holidays! \nWe’ve got something for everyone\, from hands-on cooking classes to family bingo and even dancing! \n\nSunday 21st September – Family Bingo from 5pm\nFriday 26th September – Mini Chef’s cooking class with cupcakes at 10am and sausage rolls at 12pm for $25pp\nTuesday 30th September – Family Bingo from 1pm\nFriday 3rd October – Mini Chef’s cooking class with cupcakes at 10am and pizzas at 12pm for $25pp\n\nSpots are limited\, call the club to secure your kid’s spot now!
URL:https://maryboroughservicesclub.com.au/event/kids-school-holiday-events/2025-09-21/
LOCATION:The Services Club Maryborough\, 163-175 Lennox Street\, Maryborough\, QLD\, 4650\, Australia
CATEGORIES:All,Weekly Activities
END:VEVENT
BEGIN:VEVENT
DTSTART;TZID=Australia/Brisbane:20250922T160000
DTEND;TZID=Australia/Brisbane:20250922T200000
DTSTAMP:20260422T145553
CREATED:20250704T043011Z
LAST-MODIFIED:20250916T005747Z
UID:10003481-1758556800-1758571200@maryboroughservicesclub.com.au
SUMMARY:Jag the Joker
DESCRIPTION:Play our Jag the Joker every Monday from 4pm – 8pm! \nPick the joker from the deck to win CASH! \nReceive an entry with every $5 spend on food & beverage in the club. \nTerms and conditions apply. \n 
URL:https://maryboroughservicesclub.com.au/event/jag-the-joker/2025-09-22/
LOCATION:The Services Club Maryborough\, 163-175 Lennox Street\, Maryborough\, QLD\, 4650\, Australia
CATEGORIES:All,Weekly Activities
ATTACH;FMTTYPE=image/jpeg:https://maryboroughservicesclub.com.au/wp-content/uploads/2025/07/jag-the-joker-featured-image-custom.jpeg
END:VEVENT
BEGIN:VEVENT
DTSTART;TZID=Australia/Brisbane:20250922T173000
DTEND;TZID=Australia/Brisbane:20250922T183000
DTSTAMP:20260422T145553
CREATED:20250919T032814Z
LAST-MODIFIED:20250919T032814Z
UID:10013935-1758562200-1758565800@maryboroughservicesclub.com.au
SUMMARY:K-Pop Demon Hunters Kids Trivia
DESCRIPTION:Join us at Maryborough Services Club on Monday 22nd September for our K-Pop Demon Hunters kids trivia! \nWe have great prizes to be won for kids! \nTrivia is just $5 per person and kicks off at 5.30pm – don’t miss out! \nClick here or call the club on 07 4122 2321 to secure your spot.
URL:https://maryboroughservicesclub.com.au/event/k-pop-demon-hunters-kids-trivia/
LOCATION:The Services Club Maryborough\, 163-175 Lennox Street\, Maryborough\, QLD\, 4650\, Australia
CATEGORIES:All,Trivia,Weekly Activities
END:VEVENT
BEGIN:VEVENT
DTSTART;TZID=Australia/Brisbane:20250924T183000
DTEND;TZID=Australia/Brisbane:20250924T200000
DTSTAMP:20260422T145553
CREATED:20250704T032225Z
LAST-MODIFIED:20250916T005221Z
UID:10001663-1758738600-1758744000@maryboroughservicesclub.com.au
SUMMARY:Trivia Night
DESCRIPTION:Looking for a fun team activity to do? Wednesdays &  Thursdays are Trivia Nights at Maryborough Services Club! \nGather your team of 1 – 10 people for your chance to win great prizes! \nRegistration opens at 6pm for a 6.30pm start. \nTrivia cost is $5 per person. \nSee you there!
URL:https://maryboroughservicesclub.com.au/event/trivia-night/2025-09-24/
LOCATION:The Services Club Maryborough\, 163-175 Lennox Street\, Maryborough\, QLD\, 4650\, Australia
CATEGORIES:All,Trivia,Weekly Activities
ATTACH;FMTTYPE=image/jpeg:https://maryboroughservicesclub.com.au/wp-content/uploads/2025/07/trivia-night-feat-image-custom.jpeg
END:VEVENT
BEGIN:VEVENT
DTSTART;TZID=Australia/Brisbane:20250925T100000
DTEND;TZID=Australia/Brisbane:20250925T120000
DTSTAMP:20260422T145553
CREATED:20250704T033305Z
LAST-MODIFIED:20250916T005255Z
UID:10002174-1758794400-1758801600@maryboroughservicesclub.com.au
SUMMARY:Market Morning Raffles
DESCRIPTION:Join us every Thursday morning for our Market Morning Raffles at Maryborough Services Club! \nWe’ve got over $850 of great prizes up for grabs including grocery items\, meat vouchers\, club vouchers\, lucky buckets\, AND MORE! \nTicket are on sale in the club from 10am on Thursday. \nSee you there! \nTerms and conditions apply.
URL:https://maryboroughservicesclub.com.au/event/market-morning-raffles/2025-09-25/
LOCATION:The Services Club Maryborough\, 163-175 Lennox Street\, Maryborough\, QLD\, 4650\, Australia
CATEGORIES:All,Raffles,Weekly Activities
ATTACH;FMTTYPE=image/jpeg:https://maryboroughservicesclub.com.au/wp-content/uploads/2025/07/market-morning-feat-image-custom.jpeg
END:VEVENT
BEGIN:VEVENT
DTSTART;TZID=Australia/Brisbane:20250925T183000
DTEND;TZID=Australia/Brisbane:20250925T200000
DTSTAMP:20260422T145553
CREATED:20250704T032225Z
LAST-MODIFIED:20250916T005221Z
UID:10001664-1758825000-1758830400@maryboroughservicesclub.com.au
SUMMARY:Trivia Night
DESCRIPTION:Looking for a fun team activity to do? Wednesdays &  Thursdays are Trivia Nights at Maryborough Services Club! \nGather your team of 1 – 10 people for your chance to win great prizes! \nRegistration opens at 6pm for a 6.30pm start. \nTrivia cost is $5 per person. \nSee you there!
URL:https://maryboroughservicesclub.com.au/event/trivia-night/2025-09-25/
LOCATION:The Services Club Maryborough\, 163-175 Lennox Street\, Maryborough\, QLD\, 4650\, Australia
CATEGORIES:All,Trivia,Weekly Activities
ATTACH;FMTTYPE=image/jpeg:https://maryboroughservicesclub.com.au/wp-content/uploads/2025/07/trivia-night-feat-image-custom.jpeg
END:VEVENT
BEGIN:VEVENT
DTSTART;TZID=Australia/Brisbane:20250926T100000
DTEND;TZID=Australia/Brisbane:20250926T140000
DTSTAMP:20260422T145553
CREATED:20250901T000916Z
LAST-MODIFIED:20250924T040133Z
UID:10013766-1758880800-1758895200@maryboroughservicesclub.com.au
SUMMARY:Kids School Holiday Events
DESCRIPTION:Join us for a fun-filled schedule of activities that your little ones will love these September/October School Holidays! \nWe’ve got something for everyone\, from hands-on cooking classes to family bingo and even dancing! \n\nSunday 21st September – Family Bingo from 5pm\nFriday 26th September – Mini Chef’s cooking class with cupcakes at 10am and sausage rolls at 12pm for $25pp\nTuesday 30th September – Family Bingo from 1pm\nFriday 3rd October – Mini Chef’s cooking class with cupcakes at 10am and pizzas at 12pm for $25pp\n\nSpots are limited\, call the club to secure your kid’s spot now!
URL:https://maryboroughservicesclub.com.au/event/kids-school-holiday-events/2025-09-26/
LOCATION:The Services Club Maryborough\, 163-175 Lennox Street\, Maryborough\, QLD\, 4650\, Australia
CATEGORIES:All,Weekly Activities
END:VEVENT
BEGIN:VEVENT
DTSTART;TZID=Australia/Brisbane:20250926T180000
DTEND;TZID=Australia/Brisbane:20250926T200000
DTSTAMP:20260422T145553
CREATED:20250704T033823Z
LAST-MODIFIED:20250916T005343Z
UID:10002436-1758909600-1758916800@maryboroughservicesclub.com.au
SUMMARY:Friday Night Raffles
DESCRIPTION:Join us every Friday for our Friday Night Raffles at Maryborough Services Club! \nWe’ve got $600 worth of meat trays to be won! \nTicket are on sale in the club from 6pm on Friday for just $1 for 5 numbers. \nMake it a night and enjoy a delicious bistro meal while you’re here! \nTerms and conditions apply. Images for illustrative purposes only.
URL:https://maryboroughservicesclub.com.au/event/friday-night-raffles/2025-09-26/
LOCATION:The Services Club Maryborough\, 163-175 Lennox Street\, Maryborough\, QLD\, 4650\, Australia
CATEGORIES:All,Raffles,Weekly Activities
ATTACH;FMTTYPE=image/jpeg:https://maryboroughservicesclub.com.au/wp-content/uploads/2025/07/Fri-Raffles-Web-Events.jpg
END:VEVENT
BEGIN:VEVENT
DTSTART;TZID=Australia/Brisbane:20250927T200000
DTEND;TZID=Australia/Brisbane:20250927T220000
DTSTAMP:20260422T145553
CREATED:20250704T034348Z
LAST-MODIFIED:20250916T005616Z
UID:10002958-1759003200-1759010400@maryboroughservicesclub.com.au
SUMMARY:Saturday Night Raffles
DESCRIPTION:Join us every Saturday for our Saturday Night Raffles at Maryborough Services Club! \nWe’ve got fuel cards & meat trays to be won! \nTicket are on sale in the club from 6pm on Saturday for just $1 for 5 numbers. \nDraws are on 8pm. \nMake it a night and enjoy a delicious bistro meal while you’re here! \nTerms and conditions apply. Images for illustrative purposes only.
URL:https://maryboroughservicesclub.com.au/event/saturday-night-raffles/2025-09-27/
LOCATION:The Services Club Maryborough\, 163-175 Lennox Street\, Maryborough\, QLD\, 4650\, Australia
CATEGORIES:All,Raffles,Weekly Activities
ATTACH;FMTTYPE=image/jpeg:https://maryboroughservicesclub.com.au/wp-content/uploads/2025/07/Sat-Raffles-Web-Events.jpg
END:VEVENT
BEGIN:VEVENT
DTSTART;TZID=Australia/Brisbane:20250929T160000
DTEND;TZID=Australia/Brisbane:20250929T200000
DTSTAMP:20260422T145553
CREATED:20250704T043011Z
LAST-MODIFIED:20250916T005747Z
UID:10003482-1759161600-1759176000@maryboroughservicesclub.com.au
SUMMARY:Jag the Joker
DESCRIPTION:Play our Jag the Joker every Monday from 4pm – 8pm! \nPick the joker from the deck to win CASH! \nReceive an entry with every $5 spend on food & beverage in the club. \nTerms and conditions apply. \n 
URL:https://maryboroughservicesclub.com.au/event/jag-the-joker/2025-09-29/
LOCATION:The Services Club Maryborough\, 163-175 Lennox Street\, Maryborough\, QLD\, 4650\, Australia
CATEGORIES:All,Weekly Activities
ATTACH;FMTTYPE=image/jpeg:https://maryboroughservicesclub.com.au/wp-content/uploads/2025/07/jag-the-joker-featured-image-custom.jpeg
END:VEVENT
END:VCALENDAR