BEGIN:VCALENDAR
VERSION:2.0
PRODID:-//Maryborough Services Club - ECPv6.15.17//NONSGML v1.0//EN
CALSCALE:GREGORIAN
METHOD:PUBLISH
X-WR-CALNAME:Maryborough Services Club
X-ORIGINAL-URL:https://maryboroughservicesclub.com.au
X-WR-CALDESC:Events for Maryborough Services Club
REFRESH-INTERVAL;VALUE=DURATION:PT1H
X-Robots-Tag:noindex
X-PUBLISHED-TTL:PT1H
BEGIN:VTIMEZONE
TZID:Australia/Brisbane
BEGIN:STANDARD
TZOFFSETFROM:+1000
TZOFFSETTO:+1000
TZNAME:AEST
DTSTART:20240101T000000
END:STANDARD
END:VTIMEZONE
BEGIN:VEVENT
DTSTART;TZID=Australia/Brisbane:20251001T183000
DTEND;TZID=Australia/Brisbane:20251001T200000
DTSTAMP:20260422T132618
CREATED:20250704T032225Z
LAST-MODIFIED:20250916T005221Z
UID:10001665-1759343400-1759348800@maryboroughservicesclub.com.au
SUMMARY:Trivia Night
DESCRIPTION:Looking for a fun team activity to do? Wednesdays &  Thursdays are Trivia Nights at Maryborough Services Club! \nGather your team of 1 – 10 people for your chance to win great prizes! \nRegistration opens at 6pm for a 6.30pm start. \nTrivia cost is $5 per person. \nSee you there!
URL:https://maryboroughservicesclub.com.au/event/trivia-night/2025-10-01/
LOCATION:The Services Club Maryborough\, 163-175 Lennox Street\, Maryborough\, QLD\, 4650\, Australia
CATEGORIES:All,Trivia,Weekly Activities
ATTACH;FMTTYPE=image/jpeg:https://maryboroughservicesclub.com.au/wp-content/uploads/2025/07/trivia-night-feat-image-custom.jpeg
END:VEVENT
BEGIN:VEVENT
DTSTART;TZID=Australia/Brisbane:20251002T100000
DTEND;TZID=Australia/Brisbane:20251002T120000
DTSTAMP:20260422T132618
CREATED:20250704T033305Z
LAST-MODIFIED:20250916T005255Z
UID:10002175-1759399200-1759406400@maryboroughservicesclub.com.au
SUMMARY:Market Morning Raffles
DESCRIPTION:Join us every Thursday morning for our Market Morning Raffles at Maryborough Services Club! \nWe’ve got over $850 of great prizes up for grabs including grocery items\, meat vouchers\, club vouchers\, lucky buckets\, AND MORE! \nTicket are on sale in the club from 10am on Thursday. \nSee you there! \nTerms and conditions apply.
URL:https://maryboroughservicesclub.com.au/event/market-morning-raffles/2025-10-02/
LOCATION:The Services Club Maryborough\, 163-175 Lennox Street\, Maryborough\, QLD\, 4650\, Australia
CATEGORIES:All,Raffles,Weekly Activities
ATTACH;FMTTYPE=image/jpeg:https://maryboroughservicesclub.com.au/wp-content/uploads/2025/07/market-morning-feat-image-custom.jpeg
END:VEVENT
BEGIN:VEVENT
DTSTART;TZID=Australia/Brisbane:20251002T183000
DTEND;TZID=Australia/Brisbane:20251002T200000
DTSTAMP:20260422T132618
CREATED:20250704T032225Z
LAST-MODIFIED:20250916T005221Z
UID:10001666-1759429800-1759435200@maryboroughservicesclub.com.au
SUMMARY:Trivia Night
DESCRIPTION:Looking for a fun team activity to do? Wednesdays &  Thursdays are Trivia Nights at Maryborough Services Club! \nGather your team of 1 – 10 people for your chance to win great prizes! \nRegistration opens at 6pm for a 6.30pm start. \nTrivia cost is $5 per person. \nSee you there!
URL:https://maryboroughservicesclub.com.au/event/trivia-night/2025-10-02/
LOCATION:The Services Club Maryborough\, 163-175 Lennox Street\, Maryborough\, QLD\, 4650\, Australia
CATEGORIES:All,Trivia,Weekly Activities
ATTACH;FMTTYPE=image/jpeg:https://maryboroughservicesclub.com.au/wp-content/uploads/2025/07/trivia-night-feat-image-custom.jpeg
END:VEVENT
BEGIN:VEVENT
DTSTART;TZID=Australia/Brisbane:20251003T100000
DTEND;TZID=Australia/Brisbane:20251003T140000
DTSTAMP:20260422T132618
CREATED:20250901T000916Z
LAST-MODIFIED:20250924T040133Z
UID:10013768-1759485600-1759500000@maryboroughservicesclub.com.au
SUMMARY:Kids School Holiday Events
DESCRIPTION:Join us for a fun-filled schedule of activities that your little ones will love these September/October School Holidays! \nWe’ve got something for everyone\, from hands-on cooking classes to family bingo and even dancing! \n\nSunday 21st September – Family Bingo from 5pm\nFriday 26th September – Mini Chef’s cooking class with cupcakes at 10am and sausage rolls at 12pm for $25pp\nTuesday 30th September – Family Bingo from 1pm\nFriday 3rd October – Mini Chef’s cooking class with cupcakes at 10am and pizzas at 12pm for $25pp\n\nSpots are limited\, call the club to secure your kid’s spot now!
URL:https://maryboroughservicesclub.com.au/event/kids-school-holiday-events/2025-10-03/
LOCATION:The Services Club Maryborough\, 163-175 Lennox Street\, Maryborough\, QLD\, 4650\, Australia
CATEGORIES:All,Weekly Activities
END:VEVENT
BEGIN:VEVENT
DTSTART;TZID=Australia/Brisbane:20251003T180000
DTEND;TZID=Australia/Brisbane:20251003T200000
DTSTAMP:20260422T132618
CREATED:20250704T033823Z
LAST-MODIFIED:20250916T005343Z
UID:10002437-1759514400-1759521600@maryboroughservicesclub.com.au
SUMMARY:Friday Night Raffles
DESCRIPTION:Join us every Friday for our Friday Night Raffles at Maryborough Services Club! \nWe’ve got $600 worth of meat trays to be won! \nTicket are on sale in the club from 6pm on Friday for just $1 for 5 numbers. \nMake it a night and enjoy a delicious bistro meal while you’re here! \nTerms and conditions apply. Images for illustrative purposes only.
URL:https://maryboroughservicesclub.com.au/event/friday-night-raffles/2025-10-03/
LOCATION:The Services Club Maryborough\, 163-175 Lennox Street\, Maryborough\, QLD\, 4650\, Australia
CATEGORIES:All,Raffles,Weekly Activities
ATTACH;FMTTYPE=image/jpeg:https://maryboroughservicesclub.com.au/wp-content/uploads/2025/07/Fri-Raffles-Web-Events.jpg
END:VEVENT
BEGIN:VEVENT
DTSTART;TZID=Australia/Brisbane:20251004T200000
DTEND;TZID=Australia/Brisbane:20251004T220000
DTSTAMP:20260422T132618
CREATED:20250704T034348Z
LAST-MODIFIED:20250916T005616Z
UID:10002959-1759608000-1759615200@maryboroughservicesclub.com.au
SUMMARY:Saturday Night Raffles
DESCRIPTION:Join us every Saturday for our Saturday Night Raffles at Maryborough Services Club! \nWe’ve got fuel cards & meat trays to be won! \nTicket are on sale in the club from 6pm on Saturday for just $1 for 5 numbers. \nDraws are on 8pm. \nMake it a night and enjoy a delicious bistro meal while you’re here! \nTerms and conditions apply. Images for illustrative purposes only.
URL:https://maryboroughservicesclub.com.au/event/saturday-night-raffles/2025-10-04/
LOCATION:The Services Club Maryborough\, 163-175 Lennox Street\, Maryborough\, QLD\, 4650\, Australia
CATEGORIES:All,Raffles,Weekly Activities
ATTACH;FMTTYPE=image/jpeg:https://maryboroughservicesclub.com.au/wp-content/uploads/2025/07/Sat-Raffles-Web-Events.jpg
END:VEVENT
BEGIN:VEVENT
DTSTART;TZID=Australia/Brisbane:20251006T160000
DTEND;TZID=Australia/Brisbane:20251006T200000
DTSTAMP:20260422T132618
CREATED:20250704T043011Z
LAST-MODIFIED:20250916T005747Z
UID:10003483-1759766400-1759780800@maryboroughservicesclub.com.au
SUMMARY:Jag the Joker
DESCRIPTION:Play our Jag the Joker every Monday from 4pm – 8pm! \nPick the joker from the deck to win CASH! \nReceive an entry with every $5 spend on food & beverage in the club. \nTerms and conditions apply. \n 
URL:https://maryboroughservicesclub.com.au/event/jag-the-joker/2025-10-06/
LOCATION:The Services Club Maryborough\, 163-175 Lennox Street\, Maryborough\, QLD\, 4650\, Australia
CATEGORIES:All,Weekly Activities
ATTACH;FMTTYPE=image/jpeg:https://maryboroughservicesclub.com.au/wp-content/uploads/2025/07/jag-the-joker-featured-image-custom.jpeg
END:VEVENT
BEGIN:VEVENT
DTSTART;TZID=Australia/Brisbane:20251008T183000
DTEND;TZID=Australia/Brisbane:20251008T200000
DTSTAMP:20260422T132618
CREATED:20250704T032225Z
LAST-MODIFIED:20250916T005221Z
UID:10001667-1759948200-1759953600@maryboroughservicesclub.com.au
SUMMARY:Trivia Night
DESCRIPTION:Looking for a fun team activity to do? Wednesdays &  Thursdays are Trivia Nights at Maryborough Services Club! \nGather your team of 1 – 10 people for your chance to win great prizes! \nRegistration opens at 6pm for a 6.30pm start. \nTrivia cost is $5 per person. \nSee you there!
URL:https://maryboroughservicesclub.com.au/event/trivia-night/2025-10-08/
LOCATION:The Services Club Maryborough\, 163-175 Lennox Street\, Maryborough\, QLD\, 4650\, Australia
CATEGORIES:All,Trivia,Weekly Activities
ATTACH;FMTTYPE=image/jpeg:https://maryboroughservicesclub.com.au/wp-content/uploads/2025/07/trivia-night-feat-image-custom.jpeg
END:VEVENT
BEGIN:VEVENT
DTSTART;TZID=Australia/Brisbane:20251009T100000
DTEND;TZID=Australia/Brisbane:20251009T120000
DTSTAMP:20260422T132618
CREATED:20250704T033305Z
LAST-MODIFIED:20250916T005255Z
UID:10002176-1760004000-1760011200@maryboroughservicesclub.com.au
SUMMARY:Market Morning Raffles
DESCRIPTION:Join us every Thursday morning for our Market Morning Raffles at Maryborough Services Club! \nWe’ve got over $850 of great prizes up for grabs including grocery items\, meat vouchers\, club vouchers\, lucky buckets\, AND MORE! \nTicket are on sale in the club from 10am on Thursday. \nSee you there! \nTerms and conditions apply.
URL:https://maryboroughservicesclub.com.au/event/market-morning-raffles/2025-10-09/
LOCATION:The Services Club Maryborough\, 163-175 Lennox Street\, Maryborough\, QLD\, 4650\, Australia
CATEGORIES:All,Raffles,Weekly Activities
ATTACH;FMTTYPE=image/jpeg:https://maryboroughservicesclub.com.au/wp-content/uploads/2025/07/market-morning-feat-image-custom.jpeg
END:VEVENT
BEGIN:VEVENT
DTSTART;TZID=Australia/Brisbane:20251009T183000
DTEND;TZID=Australia/Brisbane:20251009T200000
DTSTAMP:20260422T132618
CREATED:20250704T032225Z
LAST-MODIFIED:20250916T005221Z
UID:10001668-1760034600-1760040000@maryboroughservicesclub.com.au
SUMMARY:Trivia Night
DESCRIPTION:Looking for a fun team activity to do? Wednesdays &  Thursdays are Trivia Nights at Maryborough Services Club! \nGather your team of 1 – 10 people for your chance to win great prizes! \nRegistration opens at 6pm for a 6.30pm start. \nTrivia cost is $5 per person. \nSee you there!
URL:https://maryboroughservicesclub.com.au/event/trivia-night/2025-10-09/
LOCATION:The Services Club Maryborough\, 163-175 Lennox Street\, Maryborough\, QLD\, 4650\, Australia
CATEGORIES:All,Trivia,Weekly Activities
ATTACH;FMTTYPE=image/jpeg:https://maryboroughservicesclub.com.au/wp-content/uploads/2025/07/trivia-night-feat-image-custom.jpeg
END:VEVENT
BEGIN:VEVENT
DTSTART;TZID=Australia/Brisbane:20251010T180000
DTEND;TZID=Australia/Brisbane:20251010T200000
DTSTAMP:20260422T132618
CREATED:20250704T033823Z
LAST-MODIFIED:20250916T005343Z
UID:10002438-1760119200-1760126400@maryboroughservicesclub.com.au
SUMMARY:Friday Night Raffles
DESCRIPTION:Join us every Friday for our Friday Night Raffles at Maryborough Services Club! \nWe’ve got $600 worth of meat trays to be won! \nTicket are on sale in the club from 6pm on Friday for just $1 for 5 numbers. \nMake it a night and enjoy a delicious bistro meal while you’re here! \nTerms and conditions apply. Images for illustrative purposes only.
URL:https://maryboroughservicesclub.com.au/event/friday-night-raffles/2025-10-10/
LOCATION:The Services Club Maryborough\, 163-175 Lennox Street\, Maryborough\, QLD\, 4650\, Australia
CATEGORIES:All,Raffles,Weekly Activities
ATTACH;FMTTYPE=image/jpeg:https://maryboroughservicesclub.com.au/wp-content/uploads/2025/07/Fri-Raffles-Web-Events.jpg
END:VEVENT
BEGIN:VEVENT
DTSTART;TZID=Australia/Brisbane:20251011T200000
DTEND;TZID=Australia/Brisbane:20251011T220000
DTSTAMP:20260422T132618
CREATED:20250704T034348Z
LAST-MODIFIED:20250916T005616Z
UID:10002960-1760212800-1760220000@maryboroughservicesclub.com.au
SUMMARY:Saturday Night Raffles
DESCRIPTION:Join us every Saturday for our Saturday Night Raffles at Maryborough Services Club! \nWe’ve got fuel cards & meat trays to be won! \nTicket are on sale in the club from 6pm on Saturday for just $1 for 5 numbers. \nDraws are on 8pm. \nMake it a night and enjoy a delicious bistro meal while you’re here! \nTerms and conditions apply. Images for illustrative purposes only.
URL:https://maryboroughservicesclub.com.au/event/saturday-night-raffles/2025-10-11/
LOCATION:The Services Club Maryborough\, 163-175 Lennox Street\, Maryborough\, QLD\, 4650\, Australia
CATEGORIES:All,Raffles,Weekly Activities
ATTACH;FMTTYPE=image/jpeg:https://maryboroughservicesclub.com.au/wp-content/uploads/2025/07/Sat-Raffles-Web-Events.jpg
END:VEVENT
BEGIN:VEVENT
DTSTART;TZID=Australia/Brisbane:20251013T160000
DTEND;TZID=Australia/Brisbane:20251013T200000
DTSTAMP:20260422T132618
CREATED:20250704T043011Z
LAST-MODIFIED:20250916T005747Z
UID:10003484-1760371200-1760385600@maryboroughservicesclub.com.au
SUMMARY:Jag the Joker
DESCRIPTION:Play our Jag the Joker every Monday from 4pm – 8pm! \nPick the joker from the deck to win CASH! \nReceive an entry with every $5 spend on food & beverage in the club. \nTerms and conditions apply. \n 
URL:https://maryboroughservicesclub.com.au/event/jag-the-joker/2025-10-13/
LOCATION:The Services Club Maryborough\, 163-175 Lennox Street\, Maryborough\, QLD\, 4650\, Australia
CATEGORIES:All,Weekly Activities
ATTACH;FMTTYPE=image/jpeg:https://maryboroughservicesclub.com.au/wp-content/uploads/2025/07/jag-the-joker-featured-image-custom.jpeg
END:VEVENT
BEGIN:VEVENT
DTSTART;TZID=Australia/Brisbane:20251015T183000
DTEND;TZID=Australia/Brisbane:20251015T200000
DTSTAMP:20260422T132618
CREATED:20250704T032225Z
LAST-MODIFIED:20250916T005221Z
UID:10001669-1760553000-1760558400@maryboroughservicesclub.com.au
SUMMARY:Trivia Night
DESCRIPTION:Looking for a fun team activity to do? Wednesdays &  Thursdays are Trivia Nights at Maryborough Services Club! \nGather your team of 1 – 10 people for your chance to win great prizes! \nRegistration opens at 6pm for a 6.30pm start. \nTrivia cost is $5 per person. \nSee you there!
URL:https://maryboroughservicesclub.com.au/event/trivia-night/2025-10-15/
LOCATION:The Services Club Maryborough\, 163-175 Lennox Street\, Maryborough\, QLD\, 4650\, Australia
CATEGORIES:All,Trivia,Weekly Activities
ATTACH;FMTTYPE=image/jpeg:https://maryboroughservicesclub.com.au/wp-content/uploads/2025/07/trivia-night-feat-image-custom.jpeg
END:VEVENT
BEGIN:VEVENT
DTSTART;TZID=Australia/Brisbane:20251016T100000
DTEND;TZID=Australia/Brisbane:20251016T120000
DTSTAMP:20260422T132618
CREATED:20250704T033305Z
LAST-MODIFIED:20250916T005255Z
UID:10002177-1760608800-1760616000@maryboroughservicesclub.com.au
SUMMARY:Market Morning Raffles
DESCRIPTION:Join us every Thursday morning for our Market Morning Raffles at Maryborough Services Club! \nWe’ve got over $850 of great prizes up for grabs including grocery items\, meat vouchers\, club vouchers\, lucky buckets\, AND MORE! \nTicket are on sale in the club from 10am on Thursday. \nSee you there! \nTerms and conditions apply.
URL:https://maryboroughservicesclub.com.au/event/market-morning-raffles/2025-10-16/
LOCATION:The Services Club Maryborough\, 163-175 Lennox Street\, Maryborough\, QLD\, 4650\, Australia
CATEGORIES:All,Raffles,Weekly Activities
ATTACH;FMTTYPE=image/jpeg:https://maryboroughservicesclub.com.au/wp-content/uploads/2025/07/market-morning-feat-image-custom.jpeg
END:VEVENT
BEGIN:VEVENT
DTSTART;TZID=Australia/Brisbane:20251016T183000
DTEND;TZID=Australia/Brisbane:20251016T200000
DTSTAMP:20260422T132618
CREATED:20250704T032225Z
LAST-MODIFIED:20250916T005221Z
UID:10001670-1760639400-1760644800@maryboroughservicesclub.com.au
SUMMARY:Trivia Night
DESCRIPTION:Looking for a fun team activity to do? Wednesdays &  Thursdays are Trivia Nights at Maryborough Services Club! \nGather your team of 1 – 10 people for your chance to win great prizes! \nRegistration opens at 6pm for a 6.30pm start. \nTrivia cost is $5 per person. \nSee you there!
URL:https://maryboroughservicesclub.com.au/event/trivia-night/2025-10-16/
LOCATION:The Services Club Maryborough\, 163-175 Lennox Street\, Maryborough\, QLD\, 4650\, Australia
CATEGORIES:All,Trivia,Weekly Activities
ATTACH;FMTTYPE=image/jpeg:https://maryboroughservicesclub.com.au/wp-content/uploads/2025/07/trivia-night-feat-image-custom.jpeg
END:VEVENT
BEGIN:VEVENT
DTSTART;TZID=Australia/Brisbane:20251017T180000
DTEND;TZID=Australia/Brisbane:20251017T200000
DTSTAMP:20260422T132618
CREATED:20250704T033823Z
LAST-MODIFIED:20250916T005343Z
UID:10002439-1760724000-1760731200@maryboroughservicesclub.com.au
SUMMARY:Friday Night Raffles
DESCRIPTION:Join us every Friday for our Friday Night Raffles at Maryborough Services Club! \nWe’ve got $600 worth of meat trays to be won! \nTicket are on sale in the club from 6pm on Friday for just $1 for 5 numbers. \nMake it a night and enjoy a delicious bistro meal while you’re here! \nTerms and conditions apply. Images for illustrative purposes only.
URL:https://maryboroughservicesclub.com.au/event/friday-night-raffles/2025-10-17/
LOCATION:The Services Club Maryborough\, 163-175 Lennox Street\, Maryborough\, QLD\, 4650\, Australia
CATEGORIES:All,Raffles,Weekly Activities
ATTACH;FMTTYPE=image/jpeg:https://maryboroughservicesclub.com.au/wp-content/uploads/2025/07/Fri-Raffles-Web-Events.jpg
END:VEVENT
BEGIN:VEVENT
DTSTART;TZID=Australia/Brisbane:20251018T200000
DTEND;TZID=Australia/Brisbane:20251018T220000
DTSTAMP:20260422T132618
CREATED:20250704T034348Z
LAST-MODIFIED:20250916T005616Z
UID:10002961-1760817600-1760824800@maryboroughservicesclub.com.au
SUMMARY:Saturday Night Raffles
DESCRIPTION:Join us every Saturday for our Saturday Night Raffles at Maryborough Services Club! \nWe’ve got fuel cards & meat trays to be won! \nTicket are on sale in the club from 6pm on Saturday for just $1 for 5 numbers. \nDraws are on 8pm. \nMake it a night and enjoy a delicious bistro meal while you’re here! \nTerms and conditions apply. Images for illustrative purposes only.
URL:https://maryboroughservicesclub.com.au/event/saturday-night-raffles/2025-10-18/
LOCATION:The Services Club Maryborough\, 163-175 Lennox Street\, Maryborough\, QLD\, 4650\, Australia
CATEGORIES:All,Raffles,Weekly Activities
ATTACH;FMTTYPE=image/jpeg:https://maryboroughservicesclub.com.au/wp-content/uploads/2025/07/Sat-Raffles-Web-Events.jpg
END:VEVENT
BEGIN:VEVENT
DTSTART;TZID=Australia/Brisbane:20251020T160000
DTEND;TZID=Australia/Brisbane:20251020T200000
DTSTAMP:20260422T132618
CREATED:20250704T043011Z
LAST-MODIFIED:20250916T005747Z
UID:10003485-1760976000-1760990400@maryboroughservicesclub.com.au
SUMMARY:Jag the Joker
DESCRIPTION:Play our Jag the Joker every Monday from 4pm – 8pm! \nPick the joker from the deck to win CASH! \nReceive an entry with every $5 spend on food & beverage in the club. \nTerms and conditions apply. \n 
URL:https://maryboroughservicesclub.com.au/event/jag-the-joker/2025-10-20/
LOCATION:The Services Club Maryborough\, 163-175 Lennox Street\, Maryborough\, QLD\, 4650\, Australia
CATEGORIES:All,Weekly Activities
ATTACH;FMTTYPE=image/jpeg:https://maryboroughservicesclub.com.au/wp-content/uploads/2025/07/jag-the-joker-featured-image-custom.jpeg
END:VEVENT
BEGIN:VEVENT
DTSTART;TZID=Australia/Brisbane:20251022T183000
DTEND;TZID=Australia/Brisbane:20251022T200000
DTSTAMP:20260422T132618
CREATED:20250704T032225Z
LAST-MODIFIED:20250916T005221Z
UID:10001671-1761157800-1761163200@maryboroughservicesclub.com.au
SUMMARY:Trivia Night
DESCRIPTION:Looking for a fun team activity to do? Wednesdays &  Thursdays are Trivia Nights at Maryborough Services Club! \nGather your team of 1 – 10 people for your chance to win great prizes! \nRegistration opens at 6pm for a 6.30pm start. \nTrivia cost is $5 per person. \nSee you there!
URL:https://maryboroughservicesclub.com.au/event/trivia-night/2025-10-22/
LOCATION:The Services Club Maryborough\, 163-175 Lennox Street\, Maryborough\, QLD\, 4650\, Australia
CATEGORIES:All,Trivia,Weekly Activities
ATTACH;FMTTYPE=image/jpeg:https://maryboroughservicesclub.com.au/wp-content/uploads/2025/07/trivia-night-feat-image-custom.jpeg
END:VEVENT
BEGIN:VEVENT
DTSTART;TZID=Australia/Brisbane:20251023T100000
DTEND;TZID=Australia/Brisbane:20251023T120000
DTSTAMP:20260422T132618
CREATED:20250704T033305Z
LAST-MODIFIED:20250916T005255Z
UID:10002178-1761213600-1761220800@maryboroughservicesclub.com.au
SUMMARY:Market Morning Raffles
DESCRIPTION:Join us every Thursday morning for our Market Morning Raffles at Maryborough Services Club! \nWe’ve got over $850 of great prizes up for grabs including grocery items\, meat vouchers\, club vouchers\, lucky buckets\, AND MORE! \nTicket are on sale in the club from 10am on Thursday. \nSee you there! \nTerms and conditions apply.
URL:https://maryboroughservicesclub.com.au/event/market-morning-raffles/2025-10-23/
LOCATION:The Services Club Maryborough\, 163-175 Lennox Street\, Maryborough\, QLD\, 4650\, Australia
CATEGORIES:All,Raffles,Weekly Activities
ATTACH;FMTTYPE=image/jpeg:https://maryboroughservicesclub.com.au/wp-content/uploads/2025/07/market-morning-feat-image-custom.jpeg
END:VEVENT
BEGIN:VEVENT
DTSTART;TZID=Australia/Brisbane:20251023T183000
DTEND;TZID=Australia/Brisbane:20251023T200000
DTSTAMP:20260422T132618
CREATED:20250704T032225Z
LAST-MODIFIED:20250916T005221Z
UID:10001672-1761244200-1761249600@maryboroughservicesclub.com.au
SUMMARY:Trivia Night
DESCRIPTION:Looking for a fun team activity to do? Wednesdays &  Thursdays are Trivia Nights at Maryborough Services Club! \nGather your team of 1 – 10 people for your chance to win great prizes! \nRegistration opens at 6pm for a 6.30pm start. \nTrivia cost is $5 per person. \nSee you there!
URL:https://maryboroughservicesclub.com.au/event/trivia-night/2025-10-23/
LOCATION:The Services Club Maryborough\, 163-175 Lennox Street\, Maryborough\, QLD\, 4650\, Australia
CATEGORIES:All,Trivia,Weekly Activities
ATTACH;FMTTYPE=image/jpeg:https://maryboroughservicesclub.com.au/wp-content/uploads/2025/07/trivia-night-feat-image-custom.jpeg
END:VEVENT
BEGIN:VEVENT
DTSTART;TZID=Australia/Brisbane:20251024T180000
DTEND;TZID=Australia/Brisbane:20251024T200000
DTSTAMP:20260422T132618
CREATED:20250704T033823Z
LAST-MODIFIED:20250916T005343Z
UID:10002440-1761328800-1761336000@maryboroughservicesclub.com.au
SUMMARY:Friday Night Raffles
DESCRIPTION:Join us every Friday for our Friday Night Raffles at Maryborough Services Club! \nWe’ve got $600 worth of meat trays to be won! \nTicket are on sale in the club from 6pm on Friday for just $1 for 5 numbers. \nMake it a night and enjoy a delicious bistro meal while you’re here! \nTerms and conditions apply. Images for illustrative purposes only.
URL:https://maryboroughservicesclub.com.au/event/friday-night-raffles/2025-10-24/
LOCATION:The Services Club Maryborough\, 163-175 Lennox Street\, Maryborough\, QLD\, 4650\, Australia
CATEGORIES:All,Raffles,Weekly Activities
ATTACH;FMTTYPE=image/jpeg:https://maryboroughservicesclub.com.au/wp-content/uploads/2025/07/Fri-Raffles-Web-Events.jpg
END:VEVENT
BEGIN:VEVENT
DTSTART;TZID=Australia/Brisbane:20251025T200000
DTEND;TZID=Australia/Brisbane:20251025T220000
DTSTAMP:20260422T132618
CREATED:20250704T034348Z
LAST-MODIFIED:20250916T005616Z
UID:10002962-1761422400-1761429600@maryboroughservicesclub.com.au
SUMMARY:Saturday Night Raffles
DESCRIPTION:Join us every Saturday for our Saturday Night Raffles at Maryborough Services Club! \nWe’ve got fuel cards & meat trays to be won! \nTicket are on sale in the club from 6pm on Saturday for just $1 for 5 numbers. \nDraws are on 8pm. \nMake it a night and enjoy a delicious bistro meal while you’re here! \nTerms and conditions apply. Images for illustrative purposes only.
URL:https://maryboroughservicesclub.com.au/event/saturday-night-raffles/2025-10-25/
LOCATION:The Services Club Maryborough\, 163-175 Lennox Street\, Maryborough\, QLD\, 4650\, Australia
CATEGORIES:All,Raffles,Weekly Activities
ATTACH;FMTTYPE=image/jpeg:https://maryboroughservicesclub.com.au/wp-content/uploads/2025/07/Sat-Raffles-Web-Events.jpg
END:VEVENT
BEGIN:VEVENT
DTSTART;TZID=Australia/Brisbane:20251027T160000
DTEND;TZID=Australia/Brisbane:20251027T200000
DTSTAMP:20260422T132618
CREATED:20250704T043011Z
LAST-MODIFIED:20250916T005747Z
UID:10003486-1761580800-1761595200@maryboroughservicesclub.com.au
SUMMARY:Jag the Joker
DESCRIPTION:Play our Jag the Joker every Monday from 4pm – 8pm! \nPick the joker from the deck to win CASH! \nReceive an entry with every $5 spend on food & beverage in the club. \nTerms and conditions apply. \n 
URL:https://maryboroughservicesclub.com.au/event/jag-the-joker/2025-10-27/
LOCATION:The Services Club Maryborough\, 163-175 Lennox Street\, Maryborough\, QLD\, 4650\, Australia
CATEGORIES:All,Weekly Activities
ATTACH;FMTTYPE=image/jpeg:https://maryboroughservicesclub.com.au/wp-content/uploads/2025/07/jag-the-joker-featured-image-custom.jpeg
END:VEVENT
BEGIN:VEVENT
DTSTART;TZID=Australia/Brisbane:20251029T183000
DTEND;TZID=Australia/Brisbane:20251029T200000
DTSTAMP:20260422T132618
CREATED:20250704T032225Z
LAST-MODIFIED:20250916T005221Z
UID:10001673-1761762600-1761768000@maryboroughservicesclub.com.au
SUMMARY:Trivia Night
DESCRIPTION:Looking for a fun team activity to do? Wednesdays &  Thursdays are Trivia Nights at Maryborough Services Club! \nGather your team of 1 – 10 people for your chance to win great prizes! \nRegistration opens at 6pm for a 6.30pm start. \nTrivia cost is $5 per person. \nSee you there!
URL:https://maryboroughservicesclub.com.au/event/trivia-night/2025-10-29/
LOCATION:The Services Club Maryborough\, 163-175 Lennox Street\, Maryborough\, QLD\, 4650\, Australia
CATEGORIES:All,Trivia,Weekly Activities
ATTACH;FMTTYPE=image/jpeg:https://maryboroughservicesclub.com.au/wp-content/uploads/2025/07/trivia-night-feat-image-custom.jpeg
END:VEVENT
BEGIN:VEVENT
DTSTART;TZID=Australia/Brisbane:20251030T100000
DTEND;TZID=Australia/Brisbane:20251030T120000
DTSTAMP:20260422T132618
CREATED:20250704T033305Z
LAST-MODIFIED:20250916T005255Z
UID:10002179-1761818400-1761825600@maryboroughservicesclub.com.au
SUMMARY:Market Morning Raffles
DESCRIPTION:Join us every Thursday morning for our Market Morning Raffles at Maryborough Services Club! \nWe’ve got over $850 of great prizes up for grabs including grocery items\, meat vouchers\, club vouchers\, lucky buckets\, AND MORE! \nTicket are on sale in the club from 10am on Thursday. \nSee you there! \nTerms and conditions apply.
URL:https://maryboroughservicesclub.com.au/event/market-morning-raffles/2025-10-30/
LOCATION:The Services Club Maryborough\, 163-175 Lennox Street\, Maryborough\, QLD\, 4650\, Australia
CATEGORIES:All,Raffles,Weekly Activities
ATTACH;FMTTYPE=image/jpeg:https://maryboroughservicesclub.com.au/wp-content/uploads/2025/07/market-morning-feat-image-custom.jpeg
END:VEVENT
BEGIN:VEVENT
DTSTART;TZID=Australia/Brisbane:20251030T183000
DTEND;TZID=Australia/Brisbane:20251030T200000
DTSTAMP:20260422T132618
CREATED:20250704T032225Z
LAST-MODIFIED:20250916T005221Z
UID:10001674-1761849000-1761854400@maryboroughservicesclub.com.au
SUMMARY:Trivia Night
DESCRIPTION:Looking for a fun team activity to do? Wednesdays &  Thursdays are Trivia Nights at Maryborough Services Club! \nGather your team of 1 – 10 people for your chance to win great prizes! \nRegistration opens at 6pm for a 6.30pm start. \nTrivia cost is $5 per person. \nSee you there!
URL:https://maryboroughservicesclub.com.au/event/trivia-night/2025-10-30/
LOCATION:The Services Club Maryborough\, 163-175 Lennox Street\, Maryborough\, QLD\, 4650\, Australia
CATEGORIES:All,Trivia,Weekly Activities
ATTACH;FMTTYPE=image/jpeg:https://maryboroughservicesclub.com.au/wp-content/uploads/2025/07/trivia-night-feat-image-custom.jpeg
END:VEVENT
BEGIN:VEVENT
DTSTART;TZID=Australia/Brisbane:20251031T180000
DTEND;TZID=Australia/Brisbane:20251031T200000
DTSTAMP:20260422T132618
CREATED:20250704T033823Z
LAST-MODIFIED:20250916T005343Z
UID:10002441-1761933600-1761940800@maryboroughservicesclub.com.au
SUMMARY:Friday Night Raffles
DESCRIPTION:Join us every Friday for our Friday Night Raffles at Maryborough Services Club! \nWe’ve got $600 worth of meat trays to be won! \nTicket are on sale in the club from 6pm on Friday for just $1 for 5 numbers. \nMake it a night and enjoy a delicious bistro meal while you’re here! \nTerms and conditions apply. Images for illustrative purposes only.
URL:https://maryboroughservicesclub.com.au/event/friday-night-raffles/2025-10-31/
LOCATION:The Services Club Maryborough\, 163-175 Lennox Street\, Maryborough\, QLD\, 4650\, Australia
CATEGORIES:All,Raffles,Weekly Activities
ATTACH;FMTTYPE=image/jpeg:https://maryboroughservicesclub.com.au/wp-content/uploads/2025/07/Fri-Raffles-Web-Events.jpg
END:VEVENT
END:VCALENDAR