BEGIN:VCALENDAR
VERSION:2.0
PRODID:-//Maryborough Services Club - ECPv6.15.17//NONSGML v1.0//EN
CALSCALE:GREGORIAN
METHOD:PUBLISH
X-WR-CALNAME:Maryborough Services Club
X-ORIGINAL-URL:https://maryboroughservicesclub.com.au
X-WR-CALDESC:Events for Maryborough Services Club
REFRESH-INTERVAL;VALUE=DURATION:PT1H
X-Robots-Tag:noindex
X-PUBLISHED-TTL:PT1H
BEGIN:VTIMEZONE
TZID:Australia/Brisbane
BEGIN:STANDARD
TZOFFSETFROM:+1000
TZOFFSETTO:+1000
TZNAME:AEST
DTSTART:20250101T000000
END:STANDARD
END:VTIMEZONE
BEGIN:VEVENT
DTSTART;TZID=Australia/Brisbane:20260801T200000
DTEND;TZID=Australia/Brisbane:20260801T220000
DTSTAMP:20260422T041916
CREATED:20250704T034348Z
LAST-MODIFIED:20250916T005616Z
UID:10003002-1785614400-1785621600@maryboroughservicesclub.com.au
SUMMARY:Saturday Night Raffles
DESCRIPTION:Join us every Saturday for our Saturday Night Raffles at Maryborough Services Club! \nWe’ve got fuel cards & meat trays to be won! \nTicket are on sale in the club from 6pm on Saturday for just $1 for 5 numbers. \nDraws are on 8pm. \nMake it a night and enjoy a delicious bistro meal while you’re here! \nTerms and conditions apply. Images for illustrative purposes only.
URL:https://maryboroughservicesclub.com.au/event/saturday-night-raffles/2026-08-01/
LOCATION:The Services Club Maryborough\, 163-175 Lennox Street\, Maryborough\, QLD\, 4650\, Australia
CATEGORIES:All,Raffles,Weekly Activities
ATTACH;FMTTYPE=image/jpeg:https://maryboroughservicesclub.com.au/wp-content/uploads/2025/07/Sat-Raffles-Web-Events.jpg
END:VEVENT
BEGIN:VEVENT
DTSTART;TZID=Australia/Brisbane:20260802T160000
DTEND;TZID=Australia/Brisbane:20260802T200000
DTSTAMP:20260422T041916
CREATED:20251128T010553Z
LAST-MODIFIED:20260205T044604Z
UID:10016322-1785686400-1785700800@maryboroughservicesclub.com.au
SUMMARY:Jag the Joker
DESCRIPTION:Play our Jag the Joker every Sunday from 4pm – 7pm! \nPick the joker from the deck to win CASH! \nTickets on sale from 4pm\, $5 for 5 numbers. \n6 x $50 prizes to be won! \n2 x Chances to pick the Joker! Jackpot starting from $1000 \nTerms and conditions apply. \n 
URL:https://maryboroughservicesclub.com.au/event/jag-the-joker-2/2026-08-02/
LOCATION:The Services Club Maryborough\, 163-175 Lennox Street\, Maryborough\, QLD\, 4650\, Australia
CATEGORIES:All,Weekly Activities
ATTACH;FMTTYPE=image/jpeg:https://maryboroughservicesclub.com.au/wp-content/uploads/2025/07/jag-the-joker-feat-image.jpg
END:VEVENT
BEGIN:VEVENT
DTSTART;TZID=Australia/Brisbane:20260805T183000
DTEND;TZID=Australia/Brisbane:20260805T200000
DTSTAMP:20260422T041916
CREATED:20250704T032225Z
LAST-MODIFIED:20250916T005221Z
UID:10001753-1785954600-1785960000@maryboroughservicesclub.com.au
SUMMARY:Trivia Night
DESCRIPTION:Looking for a fun team activity to do? Wednesdays &  Thursdays are Trivia Nights at Maryborough Services Club! \nGather your team of 1 – 10 people for your chance to win great prizes! \nRegistration opens at 6pm for a 6.30pm start. \nTrivia cost is $5 per person. \nSee you there!
URL:https://maryboroughservicesclub.com.au/event/trivia-night/2026-08-05/
LOCATION:The Services Club Maryborough\, 163-175 Lennox Street\, Maryborough\, QLD\, 4650\, Australia
CATEGORIES:All,Trivia,Weekly Activities
ATTACH;FMTTYPE=image/jpeg:https://maryboroughservicesclub.com.au/wp-content/uploads/2025/07/trivia-night-feat-image-custom.jpeg
END:VEVENT
BEGIN:VEVENT
DTSTART;TZID=Australia/Brisbane:20260806T100000
DTEND;TZID=Australia/Brisbane:20260806T120000
DTSTAMP:20260422T041916
CREATED:20250704T033305Z
LAST-MODIFIED:20250916T005255Z
UID:10002219-1786010400-1786017600@maryboroughservicesclub.com.au
SUMMARY:Market Morning Raffles
DESCRIPTION:Join us every Thursday morning for our Market Morning Raffles at Maryborough Services Club! \nWe’ve got over $850 of great prizes up for grabs including grocery items\, meat vouchers\, club vouchers\, lucky buckets\, AND MORE! \nTicket are on sale in the club from 10am on Thursday. \nSee you there! \nTerms and conditions apply.
URL:https://maryboroughservicesclub.com.au/event/market-morning-raffles/2026-08-06/
LOCATION:The Services Club Maryborough\, 163-175 Lennox Street\, Maryborough\, QLD\, 4650\, Australia
CATEGORIES:All,Raffles,Weekly Activities
ATTACH;FMTTYPE=image/jpeg:https://maryboroughservicesclub.com.au/wp-content/uploads/2025/07/market-morning-feat-image-custom.jpeg
END:VEVENT
BEGIN:VEVENT
DTSTART;TZID=Australia/Brisbane:20260806T183000
DTEND;TZID=Australia/Brisbane:20260806T200000
DTSTAMP:20260422T041916
CREATED:20250704T032225Z
LAST-MODIFIED:20250916T005221Z
UID:10001754-1786041000-1786046400@maryboroughservicesclub.com.au
SUMMARY:Trivia Night
DESCRIPTION:Looking for a fun team activity to do? Wednesdays &  Thursdays are Trivia Nights at Maryborough Services Club! \nGather your team of 1 – 10 people for your chance to win great prizes! \nRegistration opens at 6pm for a 6.30pm start. \nTrivia cost is $5 per person. \nSee you there!
URL:https://maryboroughservicesclub.com.au/event/trivia-night/2026-08-06/
LOCATION:The Services Club Maryborough\, 163-175 Lennox Street\, Maryborough\, QLD\, 4650\, Australia
CATEGORIES:All,Trivia,Weekly Activities
ATTACH;FMTTYPE=image/jpeg:https://maryboroughservicesclub.com.au/wp-content/uploads/2025/07/trivia-night-feat-image-custom.jpeg
END:VEVENT
BEGIN:VEVENT
DTSTART;TZID=Australia/Brisbane:20260807T180000
DTEND;TZID=Australia/Brisbane:20260807T200000
DTSTAMP:20260422T041916
CREATED:20250704T033823Z
LAST-MODIFIED:20250916T005343Z
UID:10002481-1786125600-1786132800@maryboroughservicesclub.com.au
SUMMARY:Friday Night Raffles
DESCRIPTION:Join us every Friday for our Friday Night Raffles at Maryborough Services Club! \nWe’ve got $600 worth of meat trays to be won! \nTicket are on sale in the club from 6pm on Friday for just $1 for 5 numbers. \nMake it a night and enjoy a delicious bistro meal while you’re here! \nTerms and conditions apply. Images for illustrative purposes only.
URL:https://maryboroughservicesclub.com.au/event/friday-night-raffles/2026-08-07/
LOCATION:The Services Club Maryborough\, 163-175 Lennox Street\, Maryborough\, QLD\, 4650\, Australia
CATEGORIES:All,Raffles,Weekly Activities
ATTACH;FMTTYPE=image/jpeg:https://maryboroughservicesclub.com.au/wp-content/uploads/2025/07/Fri-Raffles-Web-Events.jpg
END:VEVENT
BEGIN:VEVENT
DTSTART;TZID=Australia/Brisbane:20260808T200000
DTEND;TZID=Australia/Brisbane:20260808T220000
DTSTAMP:20260422T041916
CREATED:20250704T034348Z
LAST-MODIFIED:20250916T005616Z
UID:10003003-1786219200-1786226400@maryboroughservicesclub.com.au
SUMMARY:Saturday Night Raffles
DESCRIPTION:Join us every Saturday for our Saturday Night Raffles at Maryborough Services Club! \nWe’ve got fuel cards & meat trays to be won! \nTicket are on sale in the club from 6pm on Saturday for just $1 for 5 numbers. \nDraws are on 8pm. \nMake it a night and enjoy a delicious bistro meal while you’re here! \nTerms and conditions apply. Images for illustrative purposes only.
URL:https://maryboroughservicesclub.com.au/event/saturday-night-raffles/2026-08-08/
LOCATION:The Services Club Maryborough\, 163-175 Lennox Street\, Maryborough\, QLD\, 4650\, Australia
CATEGORIES:All,Raffles,Weekly Activities
ATTACH;FMTTYPE=image/jpeg:https://maryboroughservicesclub.com.au/wp-content/uploads/2025/07/Sat-Raffles-Web-Events.jpg
END:VEVENT
BEGIN:VEVENT
DTSTART;TZID=Australia/Brisbane:20260809T160000
DTEND;TZID=Australia/Brisbane:20260809T200000
DTSTAMP:20260422T041916
CREATED:20251128T010553Z
LAST-MODIFIED:20260205T044604Z
UID:10016323-1786291200-1786305600@maryboroughservicesclub.com.au
SUMMARY:Jag the Joker
DESCRIPTION:Play our Jag the Joker every Sunday from 4pm – 7pm! \nPick the joker from the deck to win CASH! \nTickets on sale from 4pm\, $5 for 5 numbers. \n6 x $50 prizes to be won! \n2 x Chances to pick the Joker! Jackpot starting from $1000 \nTerms and conditions apply. \n 
URL:https://maryboroughservicesclub.com.au/event/jag-the-joker-2/2026-08-09/
LOCATION:The Services Club Maryborough\, 163-175 Lennox Street\, Maryborough\, QLD\, 4650\, Australia
CATEGORIES:All,Weekly Activities
ATTACH;FMTTYPE=image/jpeg:https://maryboroughservicesclub.com.au/wp-content/uploads/2025/07/jag-the-joker-feat-image.jpg
END:VEVENT
BEGIN:VEVENT
DTSTART;TZID=Australia/Brisbane:20260812T183000
DTEND;TZID=Australia/Brisbane:20260812T200000
DTSTAMP:20260422T041916
CREATED:20250704T032225Z
LAST-MODIFIED:20250916T005221Z
UID:10001755-1786559400-1786564800@maryboroughservicesclub.com.au
SUMMARY:Trivia Night
DESCRIPTION:Looking for a fun team activity to do? Wednesdays &  Thursdays are Trivia Nights at Maryborough Services Club! \nGather your team of 1 – 10 people for your chance to win great prizes! \nRegistration opens at 6pm for a 6.30pm start. \nTrivia cost is $5 per person. \nSee you there!
URL:https://maryboroughservicesclub.com.au/event/trivia-night/2026-08-12/
LOCATION:The Services Club Maryborough\, 163-175 Lennox Street\, Maryborough\, QLD\, 4650\, Australia
CATEGORIES:All,Trivia,Weekly Activities
ATTACH;FMTTYPE=image/jpeg:https://maryboroughservicesclub.com.au/wp-content/uploads/2025/07/trivia-night-feat-image-custom.jpeg
END:VEVENT
BEGIN:VEVENT
DTSTART;TZID=Australia/Brisbane:20260813T100000
DTEND;TZID=Australia/Brisbane:20260813T120000
DTSTAMP:20260422T041916
CREATED:20250704T033305Z
LAST-MODIFIED:20250916T005255Z
UID:10002220-1786615200-1786622400@maryboroughservicesclub.com.au
SUMMARY:Market Morning Raffles
DESCRIPTION:Join us every Thursday morning for our Market Morning Raffles at Maryborough Services Club! \nWe’ve got over $850 of great prizes up for grabs including grocery items\, meat vouchers\, club vouchers\, lucky buckets\, AND MORE! \nTicket are on sale in the club from 10am on Thursday. \nSee you there! \nTerms and conditions apply.
URL:https://maryboroughservicesclub.com.au/event/market-morning-raffles/2026-08-13/
LOCATION:The Services Club Maryborough\, 163-175 Lennox Street\, Maryborough\, QLD\, 4650\, Australia
CATEGORIES:All,Raffles,Weekly Activities
ATTACH;FMTTYPE=image/jpeg:https://maryboroughservicesclub.com.au/wp-content/uploads/2025/07/market-morning-feat-image-custom.jpeg
END:VEVENT
BEGIN:VEVENT
DTSTART;TZID=Australia/Brisbane:20260813T183000
DTEND;TZID=Australia/Brisbane:20260813T200000
DTSTAMP:20260422T041916
CREATED:20250704T032225Z
LAST-MODIFIED:20250916T005221Z
UID:10001756-1786645800-1786651200@maryboroughservicesclub.com.au
SUMMARY:Trivia Night
DESCRIPTION:Looking for a fun team activity to do? Wednesdays &  Thursdays are Trivia Nights at Maryborough Services Club! \nGather your team of 1 – 10 people for your chance to win great prizes! \nRegistration opens at 6pm for a 6.30pm start. \nTrivia cost is $5 per person. \nSee you there!
URL:https://maryboroughservicesclub.com.au/event/trivia-night/2026-08-13/
LOCATION:The Services Club Maryborough\, 163-175 Lennox Street\, Maryborough\, QLD\, 4650\, Australia
CATEGORIES:All,Trivia,Weekly Activities
ATTACH;FMTTYPE=image/jpeg:https://maryboroughservicesclub.com.au/wp-content/uploads/2025/07/trivia-night-feat-image-custom.jpeg
END:VEVENT
BEGIN:VEVENT
DTSTART;TZID=Australia/Brisbane:20260814T180000
DTEND;TZID=Australia/Brisbane:20260814T200000
DTSTAMP:20260422T041916
CREATED:20250704T033823Z
LAST-MODIFIED:20250916T005343Z
UID:10002482-1786730400-1786737600@maryboroughservicesclub.com.au
SUMMARY:Friday Night Raffles
DESCRIPTION:Join us every Friday for our Friday Night Raffles at Maryborough Services Club! \nWe’ve got $600 worth of meat trays to be won! \nTicket are on sale in the club from 6pm on Friday for just $1 for 5 numbers. \nMake it a night and enjoy a delicious bistro meal while you’re here! \nTerms and conditions apply. Images for illustrative purposes only.
URL:https://maryboroughservicesclub.com.au/event/friday-night-raffles/2026-08-14/
LOCATION:The Services Club Maryborough\, 163-175 Lennox Street\, Maryborough\, QLD\, 4650\, Australia
CATEGORIES:All,Raffles,Weekly Activities
ATTACH;FMTTYPE=image/jpeg:https://maryboroughservicesclub.com.au/wp-content/uploads/2025/07/Fri-Raffles-Web-Events.jpg
END:VEVENT
BEGIN:VEVENT
DTSTART;TZID=Australia/Brisbane:20260815T200000
DTEND;TZID=Australia/Brisbane:20260815T220000
DTSTAMP:20260422T041916
CREATED:20250704T034348Z
LAST-MODIFIED:20250916T005616Z
UID:10003004-1786824000-1786831200@maryboroughservicesclub.com.au
SUMMARY:Saturday Night Raffles
DESCRIPTION:Join us every Saturday for our Saturday Night Raffles at Maryborough Services Club! \nWe’ve got fuel cards & meat trays to be won! \nTicket are on sale in the club from 6pm on Saturday for just $1 for 5 numbers. \nDraws are on 8pm. \nMake it a night and enjoy a delicious bistro meal while you’re here! \nTerms and conditions apply. Images for illustrative purposes only.
URL:https://maryboroughservicesclub.com.au/event/saturday-night-raffles/2026-08-15/
LOCATION:The Services Club Maryborough\, 163-175 Lennox Street\, Maryborough\, QLD\, 4650\, Australia
CATEGORIES:All,Raffles,Weekly Activities
ATTACH;FMTTYPE=image/jpeg:https://maryboroughservicesclub.com.au/wp-content/uploads/2025/07/Sat-Raffles-Web-Events.jpg
END:VEVENT
BEGIN:VEVENT
DTSTART;TZID=Australia/Brisbane:20260816T160000
DTEND;TZID=Australia/Brisbane:20260816T200000
DTSTAMP:20260422T041916
CREATED:20251128T010553Z
LAST-MODIFIED:20260205T044604Z
UID:10016324-1786896000-1786910400@maryboroughservicesclub.com.au
SUMMARY:Jag the Joker
DESCRIPTION:Play our Jag the Joker every Sunday from 4pm – 7pm! \nPick the joker from the deck to win CASH! \nTickets on sale from 4pm\, $5 for 5 numbers. \n6 x $50 prizes to be won! \n2 x Chances to pick the Joker! Jackpot starting from $1000 \nTerms and conditions apply. \n 
URL:https://maryboroughservicesclub.com.au/event/jag-the-joker-2/2026-08-16/
LOCATION:The Services Club Maryborough\, 163-175 Lennox Street\, Maryborough\, QLD\, 4650\, Australia
CATEGORIES:All,Weekly Activities
ATTACH;FMTTYPE=image/jpeg:https://maryboroughservicesclub.com.au/wp-content/uploads/2025/07/jag-the-joker-feat-image.jpg
END:VEVENT
BEGIN:VEVENT
DTSTART;TZID=Australia/Brisbane:20260819T183000
DTEND;TZID=Australia/Brisbane:20260819T200000
DTSTAMP:20260422T041916
CREATED:20250704T032225Z
LAST-MODIFIED:20250916T005221Z
UID:10001757-1787164200-1787169600@maryboroughservicesclub.com.au
SUMMARY:Trivia Night
DESCRIPTION:Looking for a fun team activity to do? Wednesdays &  Thursdays are Trivia Nights at Maryborough Services Club! \nGather your team of 1 – 10 people for your chance to win great prizes! \nRegistration opens at 6pm for a 6.30pm start. \nTrivia cost is $5 per person. \nSee you there!
URL:https://maryboroughservicesclub.com.au/event/trivia-night/2026-08-19/
LOCATION:The Services Club Maryborough\, 163-175 Lennox Street\, Maryborough\, QLD\, 4650\, Australia
CATEGORIES:All,Trivia,Weekly Activities
ATTACH;FMTTYPE=image/jpeg:https://maryboroughservicesclub.com.au/wp-content/uploads/2025/07/trivia-night-feat-image-custom.jpeg
END:VEVENT
BEGIN:VEVENT
DTSTART;TZID=Australia/Brisbane:20260820T100000
DTEND;TZID=Australia/Brisbane:20260820T120000
DTSTAMP:20260422T041916
CREATED:20250704T033305Z
LAST-MODIFIED:20250916T005255Z
UID:10002221-1787220000-1787227200@maryboroughservicesclub.com.au
SUMMARY:Market Morning Raffles
DESCRIPTION:Join us every Thursday morning for our Market Morning Raffles at Maryborough Services Club! \nWe’ve got over $850 of great prizes up for grabs including grocery items\, meat vouchers\, club vouchers\, lucky buckets\, AND MORE! \nTicket are on sale in the club from 10am on Thursday. \nSee you there! \nTerms and conditions apply.
URL:https://maryboroughservicesclub.com.au/event/market-morning-raffles/2026-08-20/
LOCATION:The Services Club Maryborough\, 163-175 Lennox Street\, Maryborough\, QLD\, 4650\, Australia
CATEGORIES:All,Raffles,Weekly Activities
ATTACH;FMTTYPE=image/jpeg:https://maryboroughservicesclub.com.au/wp-content/uploads/2025/07/market-morning-feat-image-custom.jpeg
END:VEVENT
BEGIN:VEVENT
DTSTART;TZID=Australia/Brisbane:20260820T183000
DTEND;TZID=Australia/Brisbane:20260820T200000
DTSTAMP:20260422T041916
CREATED:20250704T032225Z
LAST-MODIFIED:20250916T005221Z
UID:10001758-1787250600-1787256000@maryboroughservicesclub.com.au
SUMMARY:Trivia Night
DESCRIPTION:Looking for a fun team activity to do? Wednesdays &  Thursdays are Trivia Nights at Maryborough Services Club! \nGather your team of 1 – 10 people for your chance to win great prizes! \nRegistration opens at 6pm for a 6.30pm start. \nTrivia cost is $5 per person. \nSee you there!
URL:https://maryboroughservicesclub.com.au/event/trivia-night/2026-08-20/
LOCATION:The Services Club Maryborough\, 163-175 Lennox Street\, Maryborough\, QLD\, 4650\, Australia
CATEGORIES:All,Trivia,Weekly Activities
ATTACH;FMTTYPE=image/jpeg:https://maryboroughservicesclub.com.au/wp-content/uploads/2025/07/trivia-night-feat-image-custom.jpeg
END:VEVENT
BEGIN:VEVENT
DTSTART;TZID=Australia/Brisbane:20260821T180000
DTEND;TZID=Australia/Brisbane:20260821T200000
DTSTAMP:20260422T041916
CREATED:20250704T033823Z
LAST-MODIFIED:20250916T005343Z
UID:10002483-1787335200-1787342400@maryboroughservicesclub.com.au
SUMMARY:Friday Night Raffles
DESCRIPTION:Join us every Friday for our Friday Night Raffles at Maryborough Services Club! \nWe’ve got $600 worth of meat trays to be won! \nTicket are on sale in the club from 6pm on Friday for just $1 for 5 numbers. \nMake it a night and enjoy a delicious bistro meal while you’re here! \nTerms and conditions apply. Images for illustrative purposes only.
URL:https://maryboroughservicesclub.com.au/event/friday-night-raffles/2026-08-21/
LOCATION:The Services Club Maryborough\, 163-175 Lennox Street\, Maryborough\, QLD\, 4650\, Australia
CATEGORIES:All,Raffles,Weekly Activities
ATTACH;FMTTYPE=image/jpeg:https://maryboroughservicesclub.com.au/wp-content/uploads/2025/07/Fri-Raffles-Web-Events.jpg
END:VEVENT
BEGIN:VEVENT
DTSTART;TZID=Australia/Brisbane:20260822T200000
DTEND;TZID=Australia/Brisbane:20260822T220000
DTSTAMP:20260422T041916
CREATED:20250704T034348Z
LAST-MODIFIED:20250916T005616Z
UID:10003005-1787428800-1787436000@maryboroughservicesclub.com.au
SUMMARY:Saturday Night Raffles
DESCRIPTION:Join us every Saturday for our Saturday Night Raffles at Maryborough Services Club! \nWe’ve got fuel cards & meat trays to be won! \nTicket are on sale in the club from 6pm on Saturday for just $1 for 5 numbers. \nDraws are on 8pm. \nMake it a night and enjoy a delicious bistro meal while you’re here! \nTerms and conditions apply. Images for illustrative purposes only.
URL:https://maryboroughservicesclub.com.au/event/saturday-night-raffles/2026-08-22/
LOCATION:The Services Club Maryborough\, 163-175 Lennox Street\, Maryborough\, QLD\, 4650\, Australia
CATEGORIES:All,Raffles,Weekly Activities
ATTACH;FMTTYPE=image/jpeg:https://maryboroughservicesclub.com.au/wp-content/uploads/2025/07/Sat-Raffles-Web-Events.jpg
END:VEVENT
BEGIN:VEVENT
DTSTART;TZID=Australia/Brisbane:20260823T160000
DTEND;TZID=Australia/Brisbane:20260823T200000
DTSTAMP:20260422T041916
CREATED:20251128T010553Z
LAST-MODIFIED:20260205T044604Z
UID:10016325-1787500800-1787515200@maryboroughservicesclub.com.au
SUMMARY:Jag the Joker
DESCRIPTION:Play our Jag the Joker every Sunday from 4pm – 7pm! \nPick the joker from the deck to win CASH! \nTickets on sale from 4pm\, $5 for 5 numbers. \n6 x $50 prizes to be won! \n2 x Chances to pick the Joker! Jackpot starting from $1000 \nTerms and conditions apply. \n 
URL:https://maryboroughservicesclub.com.au/event/jag-the-joker-2/2026-08-23/
LOCATION:The Services Club Maryborough\, 163-175 Lennox Street\, Maryborough\, QLD\, 4650\, Australia
CATEGORIES:All,Weekly Activities
ATTACH;FMTTYPE=image/jpeg:https://maryboroughservicesclub.com.au/wp-content/uploads/2025/07/jag-the-joker-feat-image.jpg
END:VEVENT
BEGIN:VEVENT
DTSTART;TZID=Australia/Brisbane:20260826T183000
DTEND;TZID=Australia/Brisbane:20260826T200000
DTSTAMP:20260422T041916
CREATED:20250704T032225Z
LAST-MODIFIED:20250916T005221Z
UID:10001759-1787769000-1787774400@maryboroughservicesclub.com.au
SUMMARY:Trivia Night
DESCRIPTION:Looking for a fun team activity to do? Wednesdays &  Thursdays are Trivia Nights at Maryborough Services Club! \nGather your team of 1 – 10 people for your chance to win great prizes! \nRegistration opens at 6pm for a 6.30pm start. \nTrivia cost is $5 per person. \nSee you there!
URL:https://maryboroughservicesclub.com.au/event/trivia-night/2026-08-26/
LOCATION:The Services Club Maryborough\, 163-175 Lennox Street\, Maryborough\, QLD\, 4650\, Australia
CATEGORIES:All,Trivia,Weekly Activities
ATTACH;FMTTYPE=image/jpeg:https://maryboroughservicesclub.com.au/wp-content/uploads/2025/07/trivia-night-feat-image-custom.jpeg
END:VEVENT
BEGIN:VEVENT
DTSTART;TZID=Australia/Brisbane:20260827T100000
DTEND;TZID=Australia/Brisbane:20260827T120000
DTSTAMP:20260422T041916
CREATED:20250704T033305Z
LAST-MODIFIED:20250916T005255Z
UID:10002222-1787824800-1787832000@maryboroughservicesclub.com.au
SUMMARY:Market Morning Raffles
DESCRIPTION:Join us every Thursday morning for our Market Morning Raffles at Maryborough Services Club! \nWe’ve got over $850 of great prizes up for grabs including grocery items\, meat vouchers\, club vouchers\, lucky buckets\, AND MORE! \nTicket are on sale in the club from 10am on Thursday. \nSee you there! \nTerms and conditions apply.
URL:https://maryboroughservicesclub.com.au/event/market-morning-raffles/2026-08-27/
LOCATION:The Services Club Maryborough\, 163-175 Lennox Street\, Maryborough\, QLD\, 4650\, Australia
CATEGORIES:All,Raffles,Weekly Activities
ATTACH;FMTTYPE=image/jpeg:https://maryboroughservicesclub.com.au/wp-content/uploads/2025/07/market-morning-feat-image-custom.jpeg
END:VEVENT
BEGIN:VEVENT
DTSTART;TZID=Australia/Brisbane:20260827T183000
DTEND;TZID=Australia/Brisbane:20260827T200000
DTSTAMP:20260422T041916
CREATED:20250704T032225Z
LAST-MODIFIED:20250916T005221Z
UID:10001760-1787855400-1787860800@maryboroughservicesclub.com.au
SUMMARY:Trivia Night
DESCRIPTION:Looking for a fun team activity to do? Wednesdays &  Thursdays are Trivia Nights at Maryborough Services Club! \nGather your team of 1 – 10 people for your chance to win great prizes! \nRegistration opens at 6pm for a 6.30pm start. \nTrivia cost is $5 per person. \nSee you there!
URL:https://maryboroughservicesclub.com.au/event/trivia-night/2026-08-27/
LOCATION:The Services Club Maryborough\, 163-175 Lennox Street\, Maryborough\, QLD\, 4650\, Australia
CATEGORIES:All,Trivia,Weekly Activities
ATTACH;FMTTYPE=image/jpeg:https://maryboroughservicesclub.com.au/wp-content/uploads/2025/07/trivia-night-feat-image-custom.jpeg
END:VEVENT
BEGIN:VEVENT
DTSTART;TZID=Australia/Brisbane:20260828T180000
DTEND;TZID=Australia/Brisbane:20260828T200000
DTSTAMP:20260422T041916
CREATED:20250704T033823Z
LAST-MODIFIED:20250916T005343Z
UID:10002484-1787940000-1787947200@maryboroughservicesclub.com.au
SUMMARY:Friday Night Raffles
DESCRIPTION:Join us every Friday for our Friday Night Raffles at Maryborough Services Club! \nWe’ve got $600 worth of meat trays to be won! \nTicket are on sale in the club from 6pm on Friday for just $1 for 5 numbers. \nMake it a night and enjoy a delicious bistro meal while you’re here! \nTerms and conditions apply. Images for illustrative purposes only.
URL:https://maryboroughservicesclub.com.au/event/friday-night-raffles/2026-08-28/
LOCATION:The Services Club Maryborough\, 163-175 Lennox Street\, Maryborough\, QLD\, 4650\, Australia
CATEGORIES:All,Raffles,Weekly Activities
ATTACH;FMTTYPE=image/jpeg:https://maryboroughservicesclub.com.au/wp-content/uploads/2025/07/Fri-Raffles-Web-Events.jpg
END:VEVENT
BEGIN:VEVENT
DTSTART;TZID=Australia/Brisbane:20260829T200000
DTEND;TZID=Australia/Brisbane:20260829T220000
DTSTAMP:20260422T041916
CREATED:20250704T034348Z
LAST-MODIFIED:20250916T005616Z
UID:10003006-1788033600-1788040800@maryboroughservicesclub.com.au
SUMMARY:Saturday Night Raffles
DESCRIPTION:Join us every Saturday for our Saturday Night Raffles at Maryborough Services Club! \nWe’ve got fuel cards & meat trays to be won! \nTicket are on sale in the club from 6pm on Saturday for just $1 for 5 numbers. \nDraws are on 8pm. \nMake it a night and enjoy a delicious bistro meal while you’re here! \nTerms and conditions apply. Images for illustrative purposes only.
URL:https://maryboroughservicesclub.com.au/event/saturday-night-raffles/2026-08-29/
LOCATION:The Services Club Maryborough\, 163-175 Lennox Street\, Maryborough\, QLD\, 4650\, Australia
CATEGORIES:All,Raffles,Weekly Activities
ATTACH;FMTTYPE=image/jpeg:https://maryboroughservicesclub.com.au/wp-content/uploads/2025/07/Sat-Raffles-Web-Events.jpg
END:VEVENT
BEGIN:VEVENT
DTSTART;TZID=Australia/Brisbane:20260830T160000
DTEND;TZID=Australia/Brisbane:20260830T200000
DTSTAMP:20260422T041916
CREATED:20251128T010553Z
LAST-MODIFIED:20260205T044604Z
UID:10016326-1788105600-1788120000@maryboroughservicesclub.com.au
SUMMARY:Jag the Joker
DESCRIPTION:Play our Jag the Joker every Sunday from 4pm – 7pm! \nPick the joker from the deck to win CASH! \nTickets on sale from 4pm\, $5 for 5 numbers. \n6 x $50 prizes to be won! \n2 x Chances to pick the Joker! Jackpot starting from $1000 \nTerms and conditions apply. \n 
URL:https://maryboroughservicesclub.com.au/event/jag-the-joker-2/2026-08-30/
LOCATION:The Services Club Maryborough\, 163-175 Lennox Street\, Maryborough\, QLD\, 4650\, Australia
CATEGORIES:All,Weekly Activities
ATTACH;FMTTYPE=image/jpeg:https://maryboroughservicesclub.com.au/wp-content/uploads/2025/07/jag-the-joker-feat-image.jpg
END:VEVENT
END:VCALENDAR