BEGIN:VCALENDAR
VERSION:2.0
PRODID:-//Maryborough Services Club - ECPv6.15.17//NONSGML v1.0//EN
CALSCALE:GREGORIAN
METHOD:PUBLISH
X-ORIGINAL-URL:https://maryboroughservicesclub.com.au
X-WR-CALDESC:Events for Maryborough Services Club
REFRESH-INTERVAL;VALUE=DURATION:PT1H
X-Robots-Tag:noindex
X-PUBLISHED-TTL:PT1H
BEGIN:VTIMEZONE
TZID:Australia/Brisbane
BEGIN:STANDARD
TZOFFSETFROM:+1000
TZOFFSETTO:+1000
TZNAME:AEST
DTSTART:20240101T000000
END:STANDARD
END:VTIMEZONE
BEGIN:VEVENT
DTSTART;TZID=Australia/Brisbane:20250901T113000
DTEND;TZID=Australia/Brisbane:20250901T200000
DTSTAMP:20260421T131106
CREATED:20250710T001935Z
LAST-MODIFIED:20250710T001935Z
UID:10007401-1756726200-1756756800@maryboroughservicesclub.com.au
SUMMARY:Kids Eat Free
DESCRIPTION:Kids eat FREE every Monday at Maryborough Services Club! \nEnjoy a free meal for the small ones with any adult main meal purchase during either lunch or dinner on Mondays. \nBook your table now online or call 4122 2321 & let us sort the kids. \nTerms and conditions apply. Specials not included. Children under 12 only.
URL:https://maryboroughservicesclub.com.au/event/kids-eat-free/2025-09-01/
LOCATION:The Services Club Maryborough\, 163-175 Lennox Street\, Maryborough\, QLD\, 4650\, Australia
CATEGORIES:All,Meal Specials
ATTACH;FMTTYPE=image/jpeg:https://maryboroughservicesclub.com.au/wp-content/uploads/2025/07/kids-eat-free-feat-image-custom.jpeg
END:VEVENT
BEGIN:VEVENT
DTSTART;TZID=Australia/Brisbane:20250901T113000
DTEND;TZID=Australia/Brisbane:20250930T203000
DTSTAMP:20260421T131106
CREATED:20250901T061336Z
LAST-MODIFIED:20250916T022430Z
UID:10013094-1756726200-1759264200@maryboroughservicesclub.com.au
SUMMARY:September Meal Special
DESCRIPTION:Try our Monthly Meal Special at Maryborough Services Club! Available every day in September for lunch & dinner. \nJoin us in September and try out our St Louis BBQ pork ribs served with corn bread\, slaw\, waffle fries & pickles for just $30! \nCall the Club on 4122 2321 to book your table or book online now!
URL:https://maryboroughservicesclub.com.au/event/september-meal-special/
LOCATION:The Services Club Maryborough\, 163-175 Lennox Street\, Maryborough\, QLD\, 4650\, Australia
CATEGORIES:All,Meal Specials
END:VEVENT
BEGIN:VEVENT
DTSTART;TZID=Australia/Brisbane:20250901T140000
DTEND;TZID=Australia/Brisbane:20250901T160000
DTSTAMP:20260421T131106
CREATED:20250703T025833Z
LAST-MODIFIED:20260104T235627Z
UID:10008186-1756735200-1756742400@maryboroughservicesclub.com.au
SUMMARY:Dice for Dollars
DESCRIPTION:Spin up to $500 worth of cash every Monday at Maryborough Services Club! \nEach week\, 5x members will roll the dice for their chance to win up to $500 worth of cash! \nDraws are on every Monday from 2pm. \nEarn entries on Mondays from 1pm with every $10 gaming play. \nTerms and conditions apply. Gamble responsibly.
URL:https://maryboroughservicesclub.com.au/event/super-saver/2025-09-01/
LOCATION:The Services Club Maryborough\, 163-175 Lennox Street\, Maryborough\, QLD\, 4650\, Australia
CATEGORIES:All,Promotions,Weekly Promotions
ATTACH;FMTTYPE=image/jpeg:https://maryboroughservicesclub.com.au/wp-content/uploads/2025/07/The_Services_Club_Maryborough_-_Dice_for_Dollars_Website_Featured_Image.jpg
END:VEVENT
BEGIN:VEVENT
DTSTART;TZID=Australia/Brisbane:20250901T160000
DTEND;TZID=Australia/Brisbane:20250901T200000
DTSTAMP:20260421T131106
CREATED:20250704T043011Z
LAST-MODIFIED:20250916T005747Z
UID:10003478-1756742400-1756756800@maryboroughservicesclub.com.au
SUMMARY:Jag the Joker
DESCRIPTION:Play our Jag the Joker every Monday from 4pm – 8pm! \nPick the joker from the deck to win CASH! \nReceive an entry with every $5 spend on food & beverage in the club. \nTerms and conditions apply. \n 
URL:https://maryboroughservicesclub.com.au/event/jag-the-joker/2025-09-01/
LOCATION:The Services Club Maryborough\, 163-175 Lennox Street\, Maryborough\, QLD\, 4650\, Australia
CATEGORIES:All,Weekly Activities
ATTACH;FMTTYPE=image/jpeg:https://maryboroughservicesclub.com.au/wp-content/uploads/2025/07/jag-the-joker-featured-image-custom.jpeg
END:VEVENT
BEGIN:VEVENT
DTSTART;TZID=Australia/Brisbane:20250901T170000
DTEND;TZID=Australia/Brisbane:20250901T180000
DTSTAMP:20260421T131106
CREATED:20250810T230030Z
LAST-MODIFIED:20250810T230500Z
UID:10009409-1756746000-1756749600@maryboroughservicesclub.com.au
SUMMARY:Senior's Roast
DESCRIPTION:Calling all the seniors! \nTreat yourself to a senior’s roast every weekday from 5pm – 6pm for just $12.50! \nCall the Club on 4122 2321 to book your table or book online now! \nTerms and conditions apply. Please present your seniors card to be eligible. Available Monday to Friday only. \n  \n 
URL:https://maryboroughservicesclub.com.au/event/seniors-roast/2025-09-01/
LOCATION:The Services Club Maryborough\, 163-175 Lennox Street\, Maryborough\, QLD\, 4650\, Australia
CATEGORIES:All,Meal Specials
ATTACH;FMTTYPE=image/jpeg:https://maryboroughservicesclub.com.au/wp-content/uploads/2025/08/senior-s-meal-deal-web-feat-image-custom.jpeg
END:VEVENT
BEGIN:VEVENT
DTSTART;TZID=Australia/Brisbane:20250901T173000
DTEND;TZID=Australia/Brisbane:20250901T203000
DTSTAMP:20260421T131106
CREATED:20250710T003525Z
LAST-MODIFIED:20250903T005848Z
UID:10007923-1756747800-1756758600@maryboroughservicesclub.com.au
SUMMARY:Steak Night
DESCRIPTION:Monday Nights are Steak Night at Maryborough Services Club! \nTreat yourself with a 300g Sirloin steak cooked to your liking\, served with salad & chips or vegetables\, and your choice of sauce for just $25. \nTerms and conditions. Available for dinner only.
URL:https://maryboroughservicesclub.com.au/event/steak-night/2025-09-01/
LOCATION:The Services Club Maryborough\, 163-175 Lennox Street\, Maryborough\, QLD\, 4650\, Australia
CATEGORIES:All,Meal Specials
END:VEVENT
BEGIN:VEVENT
DTSTART;TZID=Australia/Brisbane:20250902T170000
DTEND;TZID=Australia/Brisbane:20250902T180000
DTSTAMP:20260421T131106
CREATED:20250810T230030Z
LAST-MODIFIED:20250810T230500Z
UID:10009410-1756832400-1756836000@maryboroughservicesclub.com.au
SUMMARY:Senior's Roast
DESCRIPTION:Calling all the seniors! \nTreat yourself to a senior’s roast every weekday from 5pm – 6pm for just $12.50! \nCall the Club on 4122 2321 to book your table or book online now! \nTerms and conditions apply. Please present your seniors card to be eligible. Available Monday to Friday only. \n  \n 
URL:https://maryboroughservicesclub.com.au/event/seniors-roast/2025-09-02/
LOCATION:The Services Club Maryborough\, 163-175 Lennox Street\, Maryborough\, QLD\, 4650\, Australia
CATEGORIES:All,Meal Specials
ATTACH;FMTTYPE=image/jpeg:https://maryboroughservicesclub.com.au/wp-content/uploads/2025/08/senior-s-meal-deal-web-feat-image-custom.jpeg
END:VEVENT
BEGIN:VEVENT
DTSTART;TZID=Australia/Brisbane:20250902T190000
DTEND;TZID=Australia/Brisbane:20250902T200000
DTSTAMP:20260421T131106
CREATED:20250704T031623Z
LAST-MODIFIED:20250916T004918Z
UID:10001388-1756839600-1756843200@maryboroughservicesclub.com.au
SUMMARY:Members Draw
DESCRIPTION:Join us every Tuesday for our Members Draw at Maryborough Services Club! \nJackpot starts at $500 and increases by $100 every week if not claimed! \nThere will also be a consolation draw of $50 if member is not present. \nDraws are every Tuesday from 7pm. \nTerms and conditions apply. Members’ only promotion.
URL:https://maryboroughservicesclub.com.au/event/members-draw/2025-09-02/
LOCATION:The Services Club Maryborough\, 163-175 Lennox Street\, Maryborough\, QLD\, 4650\, Australia
CATEGORIES:All,Promotions,Weekly Promotions
ATTACH;FMTTYPE=image/jpeg:https://maryboroughservicesclub.com.au/wp-content/uploads/2025/07/member-draw-feat-image-custom.jpeg
END:VEVENT
BEGIN:VEVENT
DTSTART;TZID=Australia/Brisbane:20250902T190000
DTEND;TZID=Australia/Brisbane:20250902T210000
DTSTAMP:20260421T131106
CREATED:20250703T003833Z
LAST-MODIFIED:20250916T005106Z
UID:10000013-1756839600-1756846800@maryboroughservicesclub.com.au
SUMMARY:Lightning Loot
DESCRIPTION:Have your chance to win $200 CASH EACH every Tuesday at Maryborough Services Club! \nEach week\, 5x members will play the gameboard for their chance to win up to $200 cash each. Plus\, find 2 or more lightning strikes to win a $50 cash bonus! \nDraws are on every Tuesday from 7pm. \nEarn entries on Tuesdays from 6pm with every $10 gaming play. \nTerms and conditions apply. Gamble responsibly.
URL:https://maryboroughservicesclub.com.au/event/lightning-loot/2025-09-02/
LOCATION:The Services Club Maryborough\, 163-175 Lennox Street\, Maryborough\, QLD\, 4650\, Australia
CATEGORIES:All,Promotions,Weekly Promotions
ATTACH;FMTTYPE=image/jpeg:https://maryboroughservicesclub.com.au/wp-content/uploads/2025/07/LightningLoot_WebFeatImag.jpg
END:VEVENT
BEGIN:VEVENT
DTSTART;TZID=Australia/Brisbane:20250903T140000
DTEND;TZID=Australia/Brisbane:20250903T160000
DTSTAMP:20260421T131106
CREATED:20250703T030614Z
LAST-MODIFIED:20260105T000140Z
UID:10000536-1756908000-1756915200@maryboroughservicesclub.com.au
SUMMARY:Spin it to Win it!
DESCRIPTION:Spin up to $550 worth of cash & bonus points every Wednesday at Maryborough Services Club! \nEach week\, 5x members will spin the wheel for their chance to win up to $550 worth of cash & bonus points! \nDraws are on every Wednesday from 2pm. \nEarn entries on Wednesdays from 1pm with every $10 gaming play. \nTerms and conditions apply. Gamble responsibly.
URL:https://maryboroughservicesclub.com.au/event/wheel-em-up/2025-09-03/
LOCATION:The Services Club Maryborough\, 163-175 Lennox Street\, Maryborough\, QLD\, 4650\, Australia
CATEGORIES:All,Promotions,Weekly Promotions
END:VEVENT
BEGIN:VEVENT
DTSTART;TZID=Australia/Brisbane:20250903T170000
DTEND;TZID=Australia/Brisbane:20250903T180000
DTSTAMP:20260421T131106
CREATED:20250810T230030Z
LAST-MODIFIED:20250810T230500Z
UID:10009411-1756918800-1756922400@maryboroughservicesclub.com.au
SUMMARY:Senior's Roast
DESCRIPTION:Calling all the seniors! \nTreat yourself to a senior’s roast every weekday from 5pm – 6pm for just $12.50! \nCall the Club on 4122 2321 to book your table or book online now! \nTerms and conditions apply. Please present your seniors card to be eligible. Available Monday to Friday only. \n  \n 
URL:https://maryboroughservicesclub.com.au/event/seniors-roast/2025-09-03/
LOCATION:The Services Club Maryborough\, 163-175 Lennox Street\, Maryborough\, QLD\, 4650\, Australia
CATEGORIES:All,Meal Specials
ATTACH;FMTTYPE=image/jpeg:https://maryboroughservicesclub.com.au/wp-content/uploads/2025/08/senior-s-meal-deal-web-feat-image-custom.jpeg
END:VEVENT
BEGIN:VEVENT
DTSTART;TZID=Australia/Brisbane:20250903T173000
DTEND;TZID=Australia/Brisbane:20250903T203000
DTSTAMP:20260421T131106
CREATED:20250710T002238Z
LAST-MODIFIED:20250903T005709Z
UID:10007662-1756920600-1756931400@maryboroughservicesclub.com.au
SUMMARY:Schnitzel Night
DESCRIPTION:Join us every Wednesday night for Schnitzel Night at Maryborough Services Club! \nEnjoy a Schnitzel served with salad & chips or vegetables\, from 5.30pm – 8.30pm for just $19 for members or $21 for non members. \nTerms and conditions apply.
URL:https://maryboroughservicesclub.com.au/event/schnitzel-night/2025-09-03/
LOCATION:The Services Club Maryborough\, 163-175 Lennox Street\, Maryborough\, QLD\, 4650\, Australia
CATEGORIES:All,Meal Specials
ATTACH;FMTTYPE=image/jpeg:https://maryboroughservicesclub.com.au/wp-content/uploads/2025/07/schnitty-feat-image.jpeg
END:VEVENT
BEGIN:VEVENT
DTSTART;TZID=Australia/Brisbane:20250903T183000
DTEND;TZID=Australia/Brisbane:20250903T200000
DTSTAMP:20260421T131106
CREATED:20250704T032225Z
LAST-MODIFIED:20250916T005221Z
UID:10001657-1756924200-1756929600@maryboroughservicesclub.com.au
SUMMARY:Trivia Night
DESCRIPTION:Looking for a fun team activity to do? Wednesdays &  Thursdays are Trivia Nights at Maryborough Services Club! \nGather your team of 1 – 10 people for your chance to win great prizes! \nRegistration opens at 6pm for a 6.30pm start. \nTrivia cost is $5 per person. \nSee you there!
URL:https://maryboroughservicesclub.com.au/event/trivia-night/2025-09-03/
LOCATION:The Services Club Maryborough\, 163-175 Lennox Street\, Maryborough\, QLD\, 4650\, Australia
CATEGORIES:All,Trivia,Weekly Activities
ATTACH;FMTTYPE=image/jpeg:https://maryboroughservicesclub.com.au/wp-content/uploads/2025/07/trivia-night-feat-image-custom.jpeg
END:VEVENT
BEGIN:VEVENT
DTSTART;TZID=Australia/Brisbane:20250904T100000
DTEND;TZID=Australia/Brisbane:20250904T120000
DTSTAMP:20260421T131106
CREATED:20250704T033305Z
LAST-MODIFIED:20250916T005255Z
UID:10002171-1756980000-1756987200@maryboroughservicesclub.com.au
SUMMARY:Market Morning Raffles
DESCRIPTION:Join us every Thursday morning for our Market Morning Raffles at Maryborough Services Club! \nWe’ve got over $850 of great prizes up for grabs including grocery items\, meat vouchers\, club vouchers\, lucky buckets\, AND MORE! \nTicket are on sale in the club from 10am on Thursday. \nSee you there! \nTerms and conditions apply.
URL:https://maryboroughservicesclub.com.au/event/market-morning-raffles/2025-09-04/
LOCATION:The Services Club Maryborough\, 163-175 Lennox Street\, Maryborough\, QLD\, 4650\, Australia
CATEGORIES:All,Raffles,Weekly Activities
ATTACH;FMTTYPE=image/jpeg:https://maryboroughservicesclub.com.au/wp-content/uploads/2025/07/market-morning-feat-image-custom.jpeg
END:VEVENT
BEGIN:VEVENT
DTSTART;TZID=Australia/Brisbane:20250904T123000
DTEND;TZID=Australia/Brisbane:20250904T144500
DTSTAMP:20260421T131106
CREATED:20250703T031059Z
LAST-MODIFIED:20260105T001009Z
UID:10000797-1756989000-1756997100@maryboroughservicesclub.com.au
SUMMARY:Feast & Fortune
DESCRIPTION:Win meat trays & cash every Thursday at Maryborough Services Club! \nEach week\, 10x members will be drawn to win great prizes including meat trays & cash! \nDraws are on every Thursday from 12.30pm. \nEarn entries on Thursdays from 12pm with every $10 gaming play. \nTerms and conditions apply. Gamble responsibly.
URL:https://maryboroughservicesclub.com.au/event/drive-dine-dollars/2025-09-04/
LOCATION:The Services Club Maryborough\, 163-175 Lennox Street\, Maryborough\, QLD\, 4650\, Australia
CATEGORIES:All,Promotions,Weekly Promotions
ATTACH;FMTTYPE=image/jpeg:https://maryboroughservicesclub.com.au/wp-content/uploads/2025/07/01122025233045-TSC-FeastFortune_WebsiteFeaturedImage.jpg
END:VEVENT
BEGIN:VEVENT
DTSTART;TZID=Australia/Brisbane:20250904T170000
DTEND;TZID=Australia/Brisbane:20250904T180000
DTSTAMP:20260421T131106
CREATED:20250810T230030Z
LAST-MODIFIED:20250810T230500Z
UID:10009412-1757005200-1757008800@maryboroughservicesclub.com.au
SUMMARY:Senior's Roast
DESCRIPTION:Calling all the seniors! \nTreat yourself to a senior’s roast every weekday from 5pm – 6pm for just $12.50! \nCall the Club on 4122 2321 to book your table or book online now! \nTerms and conditions apply. Please present your seniors card to be eligible. Available Monday to Friday only. \n  \n 
URL:https://maryboroughservicesclub.com.au/event/seniors-roast/2025-09-04/
LOCATION:The Services Club Maryborough\, 163-175 Lennox Street\, Maryborough\, QLD\, 4650\, Australia
CATEGORIES:All,Meal Specials
ATTACH;FMTTYPE=image/jpeg:https://maryboroughservicesclub.com.au/wp-content/uploads/2025/08/senior-s-meal-deal-web-feat-image-custom.jpeg
END:VEVENT
BEGIN:VEVENT
DTSTART;TZID=Australia/Brisbane:20250904T183000
DTEND;TZID=Australia/Brisbane:20250904T200000
DTSTAMP:20260421T131106
CREATED:20250704T032225Z
LAST-MODIFIED:20250916T005221Z
UID:10001658-1757010600-1757016000@maryboroughservicesclub.com.au
SUMMARY:Trivia Night
DESCRIPTION:Looking for a fun team activity to do? Wednesdays &  Thursdays are Trivia Nights at Maryborough Services Club! \nGather your team of 1 – 10 people for your chance to win great prizes! \nRegistration opens at 6pm for a 6.30pm start. \nTrivia cost is $5 per person. \nSee you there!
URL:https://maryboroughservicesclub.com.au/event/trivia-night/2025-09-04/
LOCATION:The Services Club Maryborough\, 163-175 Lennox Street\, Maryborough\, QLD\, 4650\, Australia
CATEGORIES:All,Trivia,Weekly Activities
ATTACH;FMTTYPE=image/jpeg:https://maryboroughservicesclub.com.au/wp-content/uploads/2025/07/trivia-night-feat-image-custom.jpeg
END:VEVENT
BEGIN:VEVENT
DTSTART;TZID=Australia/Brisbane:20250905T170000
DTEND;TZID=Australia/Brisbane:20250905T180000
DTSTAMP:20260421T131106
CREATED:20250810T230030Z
LAST-MODIFIED:20250810T230500Z
UID:10009413-1757091600-1757095200@maryboroughservicesclub.com.au
SUMMARY:Senior's Roast
DESCRIPTION:Calling all the seniors! \nTreat yourself to a senior’s roast every weekday from 5pm – 6pm for just $12.50! \nCall the Club on 4122 2321 to book your table or book online now! \nTerms and conditions apply. Please present your seniors card to be eligible. Available Monday to Friday only. \n  \n 
URL:https://maryboroughservicesclub.com.au/event/seniors-roast/2025-09-05/
LOCATION:The Services Club Maryborough\, 163-175 Lennox Street\, Maryborough\, QLD\, 4650\, Australia
CATEGORIES:All,Meal Specials
ATTACH;FMTTYPE=image/jpeg:https://maryboroughservicesclub.com.au/wp-content/uploads/2025/08/senior-s-meal-deal-web-feat-image-custom.jpeg
END:VEVENT
BEGIN:VEVENT
DTSTART;TZID=Australia/Brisbane:20250905T180000
DTEND;TZID=Australia/Brisbane:20250905T200000
DTSTAMP:20260421T131106
CREATED:20250704T033823Z
LAST-MODIFIED:20250916T005343Z
UID:10002433-1757095200-1757102400@maryboroughservicesclub.com.au
SUMMARY:Friday Night Raffles
DESCRIPTION:Join us every Friday for our Friday Night Raffles at Maryborough Services Club! \nWe’ve got $600 worth of meat trays to be won! \nTicket are on sale in the club from 6pm on Friday for just $1 for 5 numbers. \nMake it a night and enjoy a delicious bistro meal while you’re here! \nTerms and conditions apply. Images for illustrative purposes only.
URL:https://maryboroughservicesclub.com.au/event/friday-night-raffles/2025-09-05/
LOCATION:The Services Club Maryborough\, 163-175 Lennox Street\, Maryborough\, QLD\, 4650\, Australia
CATEGORIES:All,Raffles,Weekly Activities
ATTACH;FMTTYPE=image/jpeg:https://maryboroughservicesclub.com.au/wp-content/uploads/2025/07/Fri-Raffles-Web-Events.jpg
END:VEVENT
BEGIN:VEVENT
DTSTART;TZID=Australia/Brisbane:20250905T193000
DTEND;TZID=Australia/Brisbane:20250905T213000
DTSTAMP:20260421T131106
CREATED:20250708T010459Z
LAST-MODIFIED:20250916T005458Z
UID:10003218-1757100600-1757107800@maryboroughservicesclub.com.au
SUMMARY:Friday Cash Swipe
DESCRIPTION:Swipe your way to Maryborough Services Club every Friday for your chance to win our Friday Cash Swipe Jackpot. \nDrawn at 7.30pm & 9.30pm every Friday. \nSwipe your membership card through one of the kiosks on a Friday to enter the draw. \nTerms and conditions apply.
URL:https://maryboroughservicesclub.com.au/event/friday-cash-swipe/2025-09-05/
LOCATION:The Services Club Maryborough\, 163-175 Lennox Street\, Maryborough\, QLD\, 4650\, Australia
CATEGORIES:All,Promotions,Weekly Promotions
ATTACH;FMTTYPE=image/jpeg:https://maryboroughservicesclub.com.au/wp-content/uploads/2025/07/cash-swipe-featured-image-custom.jpeg
END:VEVENT
BEGIN:VEVENT
DTSTART;TZID=Australia/Brisbane:20250905T200000
DTEND;TZID=Australia/Brisbane:20250905T222000
DTSTAMP:20260421T131106
CREATED:20250703T031500Z
LAST-MODIFIED:20250703T031500Z
UID:10001058-1757102400-1757110800@maryboroughservicesclub.com.au
SUMMARY:Stack of Cash
DESCRIPTION:Share in $1\,000 CASH every Friday at Maryborough Services Club! \nEach week\, 8x members will win a share of $1\,000 CASH! \nDraws are on every Friday from 8pm. \nEarn entries on Fridays from 7pm with every $10 gaming play. \nTerms and conditions apply. Gamble responsibly.
URL:https://maryboroughservicesclub.com.au/event/stack-of-cash/2025-09-05/
LOCATION:The Services Club Maryborough\, 163-175 Lennox Street\, Maryborough\, QLD\, 4650\, Australia
CATEGORIES:All,Promotions,Weekly Promotions
ATTACH;FMTTYPE=image/jpeg:https://maryboroughservicesclub.com.au/wp-content/uploads/2025/07/StackOfCash_WebFeatImg.jpg
END:VEVENT
BEGIN:VEVENT
DTSTART;TZID=Australia/Brisbane:20250905T210000
DTEND;TZID=Australia/Brisbane:20250906T010000
DTSTAMP:20260421T131106
CREATED:20250831T232135Z
LAST-MODIFIED:20250831T232140Z
UID:10008447-1757106000-1757120400@maryboroughservicesclub.com.au
SUMMARY:DJ Mr Sparkle
DESCRIPTION:Friday Night Live at Maryborough Services Club \nJoin us every Friday night from 9pm – 1am for free live entertainment at Maryborough Services Club! \nKick off your weekend the right way! Come along to dance\, relax\, and enjoy a great night out with friends. \nThis week\, enjoy the music of DJ Mr Sparkle live on stage! \nWhy not make a night of it?\nTreat yourself to a delicious dinner beforehand. Click here to secure your table! \nSee you there!
URL:https://maryboroughservicesclub.com.au/event/friday-live-music-9/
LOCATION:The Services Club Maryborough\, 163-175 Lennox Street\, Maryborough\, QLD\, 4650\, Australia
CATEGORIES:All,Entertainment,Live Music
END:VEVENT
BEGIN:VEVENT
DTSTART;TZID=Australia/Brisbane:20250906T193000
DTEND;TZID=Australia/Brisbane:20250906T213000
DTSTAMP:20260421T131106
CREATED:20250703T025201Z
LAST-MODIFIED:20260104T235148Z
UID:10000275-1757187000-1757194200@maryboroughservicesclub.com.au
SUMMARY:Tiki Time
DESCRIPTION:Have your chance to win $300 CASH EACH every Saturday at Maryborough Services Club! \nEach week\, 5x members will play the gameboard for their chance to win up to $300 cash each. Plus\, find a Tiki symbol to unlock the jackpot game! \nDraws are on every Saturday from 7.30pm. \nEarn entries on Saturdays from 6.30pm with every $10 gaming play. \nTerms and conditions apply. Gamble responsibly.
URL:https://maryboroughservicesclub.com.au/event/as-sweet-as-money/2025-09-06/
LOCATION:The Services Club Maryborough\, 163-175 Lennox Street\, Maryborough\, QLD\, 4650\, Australia
CATEGORIES:All,Promotions,Weekly Promotions
ATTACH;FMTTYPE=image/jpeg:https://maryboroughservicesclub.com.au/wp-content/uploads/2025/07/Tiki-Time-Website-Featured-Image.jpg
END:VEVENT
BEGIN:VEVENT
DTSTART;TZID=Australia/Brisbane:20250906T200000
DTEND;TZID=Australia/Brisbane:20250906T220000
DTSTAMP:20260421T131106
CREATED:20250704T034348Z
LAST-MODIFIED:20250916T005616Z
UID:10002955-1757188800-1757196000@maryboroughservicesclub.com.au
SUMMARY:Saturday Night Raffles
DESCRIPTION:Join us every Saturday for our Saturday Night Raffles at Maryborough Services Club! \nWe’ve got fuel cards & meat trays to be won! \nTicket are on sale in the club from 6pm on Saturday for just $1 for 5 numbers. \nDraws are on 8pm. \nMake it a night and enjoy a delicious bistro meal while you’re here! \nTerms and conditions apply. Images for illustrative purposes only.
URL:https://maryboroughservicesclub.com.au/event/saturday-night-raffles/2025-09-06/
LOCATION:The Services Club Maryborough\, 163-175 Lennox Street\, Maryborough\, QLD\, 4650\, Australia
CATEGORIES:All,Raffles,Weekly Activities
ATTACH;FMTTYPE=image/jpeg:https://maryboroughservicesclub.com.au/wp-content/uploads/2025/07/Sat-Raffles-Web-Events.jpg
END:VEVENT
BEGIN:VEVENT
DTSTART;TZID=Australia/Brisbane:20250906T200000
DTEND;TZID=Australia/Brisbane:20250907T000000
DTSTAMP:20260421T131106
CREATED:20250831T232417Z
LAST-MODIFIED:20250831T232423Z
UID:10008708-1757188800-1757203200@maryboroughservicesclub.com.au
SUMMARY:Bad Attitude
DESCRIPTION:Saturday Night Live at Maryborough Services Club \nJoin us every Saturday night from 8pm – 12am for free live entertainment at Maryborough Services Club! \nEnjoy the weekend & come along to dance\, relax\, and enjoy a great night out with friends. \nThis week\, enjoy the music of Bad Attitude live on stage! \nWhy not make a night of it?\nTreat yourself to a delicious dinner beforehand. Click here to secure your table! \nSee you there!
URL:https://maryboroughservicesclub.com.au/event/saturday-live-music-8/
LOCATION:The Services Club Maryborough\, 163-175 Lennox Street\, Maryborough\, QLD\, 4650\, Australia
CATEGORIES:All,Entertainment,Live Music
END:VEVENT
BEGIN:VEVENT
DTSTART;TZID=Australia/Brisbane:20250907T080000
DTEND;TZID=Australia/Brisbane:20250907T103000
DTSTAMP:20260421T131106
CREATED:20250709T055139Z
LAST-MODIFIED:20250903T053909Z
UID:10007392-1757232000-1757241000@maryboroughservicesclub.com.au
SUMMARY:Father's Day Buffet Breakky
DESCRIPTION:Join us at Maryborough Services Club on Sunday 7th September for Father’s Day! \nCelebrate Father’s Day with a Buffet Breakfast from 8am – 10.30am! \nPrice is just $35 for adults and $17 for kids under 12. \nBut that’s not all! Your Father’s Day Breakfast ticket + any purchase from the Father’s Day specials from the Thursday 4th until Sunday 7th September will also automatically put you in the draw for the Father’s Day Raffle! Raffle draw will be held on Sunday 7th September starting at 2pm. We have over $800 in prizes to be won! \nBook your table now online or call the club on 4122 2321. \nSee you there! \nTerms and conditions apply.
URL:https://maryboroughservicesclub.com.au/event/fathers-day-buffet-breakky/
LOCATION:The Services Club Maryborough\, 163-175 Lennox Street\, Maryborough\, QLD\, 4650\, Australia
CATEGORIES:All,Meal Specials
END:VEVENT
BEGIN:VEVENT
DTSTART;TZID=Australia/Brisbane:20250907T140000
DTEND;TZID=Australia/Brisbane:20250907T160000
DTSTAMP:20260421T131106
CREATED:20250903T053829Z
LAST-MODIFIED:20250903T053855Z
UID:10013787-1757253600-1757260800@maryboroughservicesclub.com.au
SUMMARY:Father's Day Raffle
DESCRIPTION:We have over $800 in prizes to be won on Sunday 7th September for our Father’s Day Raffle! \nYou’ll automatically go into the draw with your Father’s Day Breakfast ticket + any purchase from the Father’s Day specials from the Thursday 4th until Sunday 7th September. \nThe raffle draw will start from 2pm – see you there! \nTerms and condition apply. \n 
URL:https://maryboroughservicesclub.com.au/event/fathers-day-raffle/
LOCATION:The Services Club Maryborough\, 163-175 Lennox Street\, Maryborough\, QLD\, 4650\, Australia
CATEGORIES:All,Raffles,Weekly Activities
END:VEVENT
BEGIN:VEVENT
DTSTART;TZID=Australia/Brisbane:20250907T140000
DTEND;TZID=Australia/Brisbane:20250907T163000
DTSTAMP:20260421T131106
CREATED:20250703T032937Z
LAST-MODIFIED:20250916T005711Z
UID:10001375-1757253600-1757262600@maryboroughservicesclub.com.au
SUMMARY:$20K Money Mountain
DESCRIPTION:Join us every Sunday for our $20K Money Mountain major promotion at Maryborough Services Club! \nEach week\, 6x members will share in $1\,800 CASH! Plus\, mark your calendars for the 31st August & 28th September as we’ll be giving away DOUBLE PRIZES! \nDraws are on every Sunday from 2pm. \nEarn entries every day with every $20 gaming play\, $5 spend on food & beverage and one kiosk swipe per day. \nTerms and conditions apply. Gamble responsibly.
URL:https://maryboroughservicesclub.com.au/event/20k-money-mountain/2025-09-07/
LOCATION:The Services Club Maryborough\, 163-175 Lennox Street\, Maryborough\, QLD\, 4650\, Australia
CATEGORIES:All,Major Promotions,Promotions
END:VEVENT
BEGIN:VEVENT
DTSTART;TZID=Australia/Brisbane:20250907T140000
DTEND;TZID=Australia/Brisbane:20250907T170000
DTSTAMP:20260421T131106
CREATED:20250831T232552Z
LAST-MODIFIED:20250831T232600Z
UID:10008969-1757253600-1757264400@maryboroughservicesclub.com.au
SUMMARY:Maria Whittaker
DESCRIPTION:Sunday Afternoon Live at Maryborough Services Club \nJoin us every Sunday afternoon from 2pm – 5pm for free live entertainment at Maryborough Services Club! \nFinish off the weekend by relaxing and enjoying great live music. \nThis week\, enjoy the music of Maria Whittaker live on stage! \nWhy not make a day of it?\nTreat yourself to lunch or something from the café at the club. Click here to secure your table! \nSee you there!
URL:https://maryboroughservicesclub.com.au/event/sunday-live-music-9/
LOCATION:The Services Club Maryborough\, 163-175 Lennox Street\, Maryborough\, QLD\, 4650\, Australia
CATEGORIES:All,Entertainment,Live Music
ATTACH;FMTTYPE=image/jpeg:https://maryboroughservicesclub.com.au/wp-content/uploads/2025/07/Maria-Whitiker-Web-Feat-Image-.jpg
END:VEVENT
BEGIN:VEVENT
DTSTART;TZID=Australia/Brisbane:20250908T113000
DTEND;TZID=Australia/Brisbane:20250908T200000
DTSTAMP:20260421T131106
CREATED:20250710T001935Z
LAST-MODIFIED:20250710T001935Z
UID:10007402-1757331000-1757361600@maryboroughservicesclub.com.au
SUMMARY:Kids Eat Free
DESCRIPTION:Kids eat FREE every Monday at Maryborough Services Club! \nEnjoy a free meal for the small ones with any adult main meal purchase during either lunch or dinner on Mondays. \nBook your table now online or call 4122 2321 & let us sort the kids. \nTerms and conditions apply. Specials not included. Children under 12 only.
URL:https://maryboroughservicesclub.com.au/event/kids-eat-free/2025-09-08/
LOCATION:The Services Club Maryborough\, 163-175 Lennox Street\, Maryborough\, QLD\, 4650\, Australia
CATEGORIES:All,Meal Specials
ATTACH;FMTTYPE=image/jpeg:https://maryboroughservicesclub.com.au/wp-content/uploads/2025/07/kids-eat-free-feat-image-custom.jpeg
END:VEVENT
END:VCALENDAR