BEGIN:VCALENDAR
VERSION:2.0
PRODID:-//Maryborough Services Club - ECPv6.15.17//NONSGML v1.0//EN
CALSCALE:GREGORIAN
METHOD:PUBLISH
X-WR-CALNAME:Maryborough Services Club
X-ORIGINAL-URL:https://maryboroughservicesclub.com.au
X-WR-CALDESC:Events for Maryborough Services Club
REFRESH-INTERVAL;VALUE=DURATION:PT1H
X-Robots-Tag:noindex
X-PUBLISHED-TTL:PT1H
BEGIN:VTIMEZONE
TZID:Australia/Brisbane
BEGIN:STANDARD
TZOFFSETFROM:+1000
TZOFFSETTO:+1000
TZNAME:AEST
DTSTART:20250101T000000
END:STANDARD
END:VTIMEZONE
BEGIN:VEVENT
DTSTART;TZID=Australia/Brisbane:20260422T183000
DTEND;TZID=Australia/Brisbane:20260422T200000
DTSTAMP:20260420T183701
CREATED:20250704T032225Z
LAST-MODIFIED:20250916T005221Z
UID:10001723-1776882600-1776888000@maryboroughservicesclub.com.au
SUMMARY:Trivia Night
DESCRIPTION:Looking for a fun team activity to do? Wednesdays &  Thursdays are Trivia Nights at Maryborough Services Club! \nGather your team of 1 – 10 people for your chance to win great prizes! \nRegistration opens at 6pm for a 6.30pm start. \nTrivia cost is $5 per person. \nSee you there!
URL:https://maryboroughservicesclub.com.au/event/trivia-night/2026-04-22/
LOCATION:The Services Club Maryborough\, 163-175 Lennox Street\, Maryborough\, QLD\, 4650\, Australia
CATEGORIES:All,Trivia,Weekly Activities
ATTACH;FMTTYPE=image/jpeg:https://maryboroughservicesclub.com.au/wp-content/uploads/2025/07/trivia-night-feat-image-custom.jpeg
END:VEVENT
BEGIN:VEVENT
DTSTART;TZID=Australia/Brisbane:20260423T183000
DTEND;TZID=Australia/Brisbane:20260423T200000
DTSTAMP:20260420T183701
CREATED:20250704T032225Z
LAST-MODIFIED:20250916T005221Z
UID:10001724-1776969000-1776974400@maryboroughservicesclub.com.au
SUMMARY:Trivia Night
DESCRIPTION:Looking for a fun team activity to do? Wednesdays &  Thursdays are Trivia Nights at Maryborough Services Club! \nGather your team of 1 – 10 people for your chance to win great prizes! \nRegistration opens at 6pm for a 6.30pm start. \nTrivia cost is $5 per person. \nSee you there!
URL:https://maryboroughservicesclub.com.au/event/trivia-night/2026-04-23/
LOCATION:The Services Club Maryborough\, 163-175 Lennox Street\, Maryborough\, QLD\, 4650\, Australia
CATEGORIES:All,Trivia,Weekly Activities
ATTACH;FMTTYPE=image/jpeg:https://maryboroughservicesclub.com.au/wp-content/uploads/2025/07/trivia-night-feat-image-custom.jpeg
END:VEVENT
BEGIN:VEVENT
DTSTART;TZID=Australia/Brisbane:20260429T183000
DTEND;TZID=Australia/Brisbane:20260429T200000
DTSTAMP:20260420T183701
CREATED:20250704T032225Z
LAST-MODIFIED:20250916T005221Z
UID:10001725-1777487400-1777492800@maryboroughservicesclub.com.au
SUMMARY:Trivia Night
DESCRIPTION:Looking for a fun team activity to do? Wednesdays &  Thursdays are Trivia Nights at Maryborough Services Club! \nGather your team of 1 – 10 people for your chance to win great prizes! \nRegistration opens at 6pm for a 6.30pm start. \nTrivia cost is $5 per person. \nSee you there!
URL:https://maryboroughservicesclub.com.au/event/trivia-night/2026-04-29/
LOCATION:The Services Club Maryborough\, 163-175 Lennox Street\, Maryborough\, QLD\, 4650\, Australia
CATEGORIES:All,Trivia,Weekly Activities
ATTACH;FMTTYPE=image/jpeg:https://maryboroughservicesclub.com.au/wp-content/uploads/2025/07/trivia-night-feat-image-custom.jpeg
END:VEVENT
BEGIN:VEVENT
DTSTART;TZID=Australia/Brisbane:20260430T183000
DTEND;TZID=Australia/Brisbane:20260430T200000
DTSTAMP:20260420T183701
CREATED:20250704T032225Z
LAST-MODIFIED:20250916T005221Z
UID:10001726-1777573800-1777579200@maryboroughservicesclub.com.au
SUMMARY:Trivia Night
DESCRIPTION:Looking for a fun team activity to do? Wednesdays &  Thursdays are Trivia Nights at Maryborough Services Club! \nGather your team of 1 – 10 people for your chance to win great prizes! \nRegistration opens at 6pm for a 6.30pm start. \nTrivia cost is $5 per person. \nSee you there!
URL:https://maryboroughservicesclub.com.au/event/trivia-night/2026-04-30/
LOCATION:The Services Club Maryborough\, 163-175 Lennox Street\, Maryborough\, QLD\, 4650\, Australia
CATEGORIES:All,Trivia,Weekly Activities
ATTACH;FMTTYPE=image/jpeg:https://maryboroughservicesclub.com.au/wp-content/uploads/2025/07/trivia-night-feat-image-custom.jpeg
END:VEVENT
BEGIN:VEVENT
DTSTART;TZID=Australia/Brisbane:20260506T183000
DTEND;TZID=Australia/Brisbane:20260506T200000
DTSTAMP:20260420T183701
CREATED:20250704T032225Z
LAST-MODIFIED:20250916T005221Z
UID:10001727-1778092200-1778097600@maryboroughservicesclub.com.au
SUMMARY:Trivia Night
DESCRIPTION:Looking for a fun team activity to do? Wednesdays &  Thursdays are Trivia Nights at Maryborough Services Club! \nGather your team of 1 – 10 people for your chance to win great prizes! \nRegistration opens at 6pm for a 6.30pm start. \nTrivia cost is $5 per person. \nSee you there!
URL:https://maryboroughservicesclub.com.au/event/trivia-night/2026-05-06/
LOCATION:The Services Club Maryborough\, 163-175 Lennox Street\, Maryborough\, QLD\, 4650\, Australia
CATEGORIES:All,Trivia,Weekly Activities
ATTACH;FMTTYPE=image/jpeg:https://maryboroughservicesclub.com.au/wp-content/uploads/2025/07/trivia-night-feat-image-custom.jpeg
END:VEVENT
BEGIN:VEVENT
DTSTART;TZID=Australia/Brisbane:20260507T183000
DTEND;TZID=Australia/Brisbane:20260507T200000
DTSTAMP:20260420T183701
CREATED:20250704T032225Z
LAST-MODIFIED:20250916T005221Z
UID:10001728-1778178600-1778184000@maryboroughservicesclub.com.au
SUMMARY:Trivia Night
DESCRIPTION:Looking for a fun team activity to do? Wednesdays &  Thursdays are Trivia Nights at Maryborough Services Club! \nGather your team of 1 – 10 people for your chance to win great prizes! \nRegistration opens at 6pm for a 6.30pm start. \nTrivia cost is $5 per person. \nSee you there!
URL:https://maryboroughservicesclub.com.au/event/trivia-night/2026-05-07/
LOCATION:The Services Club Maryborough\, 163-175 Lennox Street\, Maryborough\, QLD\, 4650\, Australia
CATEGORIES:All,Trivia,Weekly Activities
ATTACH;FMTTYPE=image/jpeg:https://maryboroughservicesclub.com.au/wp-content/uploads/2025/07/trivia-night-feat-image-custom.jpeg
END:VEVENT
BEGIN:VEVENT
DTSTART;TZID=Australia/Brisbane:20260513T183000
DTEND;TZID=Australia/Brisbane:20260513T200000
DTSTAMP:20260420T183701
CREATED:20250704T032225Z
LAST-MODIFIED:20250916T005221Z
UID:10001729-1778697000-1778702400@maryboroughservicesclub.com.au
SUMMARY:Trivia Night
DESCRIPTION:Looking for a fun team activity to do? Wednesdays &  Thursdays are Trivia Nights at Maryborough Services Club! \nGather your team of 1 – 10 people for your chance to win great prizes! \nRegistration opens at 6pm for a 6.30pm start. \nTrivia cost is $5 per person. \nSee you there!
URL:https://maryboroughservicesclub.com.au/event/trivia-night/2026-05-13/
LOCATION:The Services Club Maryborough\, 163-175 Lennox Street\, Maryborough\, QLD\, 4650\, Australia
CATEGORIES:All,Trivia,Weekly Activities
ATTACH;FMTTYPE=image/jpeg:https://maryboroughservicesclub.com.au/wp-content/uploads/2025/07/trivia-night-feat-image-custom.jpeg
END:VEVENT
BEGIN:VEVENT
DTSTART;TZID=Australia/Brisbane:20260514T183000
DTEND;TZID=Australia/Brisbane:20260514T200000
DTSTAMP:20260420T183701
CREATED:20250704T032225Z
LAST-MODIFIED:20250916T005221Z
UID:10001730-1778783400-1778788800@maryboroughservicesclub.com.au
SUMMARY:Trivia Night
DESCRIPTION:Looking for a fun team activity to do? Wednesdays &  Thursdays are Trivia Nights at Maryborough Services Club! \nGather your team of 1 – 10 people for your chance to win great prizes! \nRegistration opens at 6pm for a 6.30pm start. \nTrivia cost is $5 per person. \nSee you there!
URL:https://maryboroughservicesclub.com.au/event/trivia-night/2026-05-14/
LOCATION:The Services Club Maryborough\, 163-175 Lennox Street\, Maryborough\, QLD\, 4650\, Australia
CATEGORIES:All,Trivia,Weekly Activities
ATTACH;FMTTYPE=image/jpeg:https://maryboroughservicesclub.com.au/wp-content/uploads/2025/07/trivia-night-feat-image-custom.jpeg
END:VEVENT
BEGIN:VEVENT
DTSTART;TZID=Australia/Brisbane:20260520T183000
DTEND;TZID=Australia/Brisbane:20260520T200000
DTSTAMP:20260420T183701
CREATED:20250704T032225Z
LAST-MODIFIED:20250916T005221Z
UID:10001731-1779301800-1779307200@maryboroughservicesclub.com.au
SUMMARY:Trivia Night
DESCRIPTION:Looking for a fun team activity to do? Wednesdays &  Thursdays are Trivia Nights at Maryborough Services Club! \nGather your team of 1 – 10 people for your chance to win great prizes! \nRegistration opens at 6pm for a 6.30pm start. \nTrivia cost is $5 per person. \nSee you there!
URL:https://maryboroughservicesclub.com.au/event/trivia-night/2026-05-20/
LOCATION:The Services Club Maryborough\, 163-175 Lennox Street\, Maryborough\, QLD\, 4650\, Australia
CATEGORIES:All,Trivia,Weekly Activities
ATTACH;FMTTYPE=image/jpeg:https://maryboroughservicesclub.com.au/wp-content/uploads/2025/07/trivia-night-feat-image-custom.jpeg
END:VEVENT
BEGIN:VEVENT
DTSTART;TZID=Australia/Brisbane:20260521T183000
DTEND;TZID=Australia/Brisbane:20260521T200000
DTSTAMP:20260420T183701
CREATED:20250704T032225Z
LAST-MODIFIED:20250916T005221Z
UID:10001732-1779388200-1779393600@maryboroughservicesclub.com.au
SUMMARY:Trivia Night
DESCRIPTION:Looking for a fun team activity to do? Wednesdays &  Thursdays are Trivia Nights at Maryborough Services Club! \nGather your team of 1 – 10 people for your chance to win great prizes! \nRegistration opens at 6pm for a 6.30pm start. \nTrivia cost is $5 per person. \nSee you there!
URL:https://maryboroughservicesclub.com.au/event/trivia-night/2026-05-21/
LOCATION:The Services Club Maryborough\, 163-175 Lennox Street\, Maryborough\, QLD\, 4650\, Australia
CATEGORIES:All,Trivia,Weekly Activities
ATTACH;FMTTYPE=image/jpeg:https://maryboroughservicesclub.com.au/wp-content/uploads/2025/07/trivia-night-feat-image-custom.jpeg
END:VEVENT
BEGIN:VEVENT
DTSTART;TZID=Australia/Brisbane:20260527T183000
DTEND;TZID=Australia/Brisbane:20260527T200000
DTSTAMP:20260420T183701
CREATED:20250704T032225Z
LAST-MODIFIED:20250916T005221Z
UID:10001733-1779906600-1779912000@maryboroughservicesclub.com.au
SUMMARY:Trivia Night
DESCRIPTION:Looking for a fun team activity to do? Wednesdays &  Thursdays are Trivia Nights at Maryborough Services Club! \nGather your team of 1 – 10 people for your chance to win great prizes! \nRegistration opens at 6pm for a 6.30pm start. \nTrivia cost is $5 per person. \nSee you there!
URL:https://maryboroughservicesclub.com.au/event/trivia-night/2026-05-27/
LOCATION:The Services Club Maryborough\, 163-175 Lennox Street\, Maryborough\, QLD\, 4650\, Australia
CATEGORIES:All,Trivia,Weekly Activities
ATTACH;FMTTYPE=image/jpeg:https://maryboroughservicesclub.com.au/wp-content/uploads/2025/07/trivia-night-feat-image-custom.jpeg
END:VEVENT
BEGIN:VEVENT
DTSTART;TZID=Australia/Brisbane:20260528T183000
DTEND;TZID=Australia/Brisbane:20260528T200000
DTSTAMP:20260420T183701
CREATED:20250704T032225Z
LAST-MODIFIED:20250916T005221Z
UID:10001734-1779993000-1779998400@maryboroughservicesclub.com.au
SUMMARY:Trivia Night
DESCRIPTION:Looking for a fun team activity to do? Wednesdays &  Thursdays are Trivia Nights at Maryborough Services Club! \nGather your team of 1 – 10 people for your chance to win great prizes! \nRegistration opens at 6pm for a 6.30pm start. \nTrivia cost is $5 per person. \nSee you there!
URL:https://maryboroughservicesclub.com.au/event/trivia-night/2026-05-28/
LOCATION:The Services Club Maryborough\, 163-175 Lennox Street\, Maryborough\, QLD\, 4650\, Australia
CATEGORIES:All,Trivia,Weekly Activities
ATTACH;FMTTYPE=image/jpeg:https://maryboroughservicesclub.com.au/wp-content/uploads/2025/07/trivia-night-feat-image-custom.jpeg
END:VEVENT
BEGIN:VEVENT
DTSTART;TZID=Australia/Brisbane:20260603T183000
DTEND;TZID=Australia/Brisbane:20260603T200000
DTSTAMP:20260420T183701
CREATED:20250704T032225Z
LAST-MODIFIED:20250916T005221Z
UID:10001735-1780511400-1780516800@maryboroughservicesclub.com.au
SUMMARY:Trivia Night
DESCRIPTION:Looking for a fun team activity to do? Wednesdays &  Thursdays are Trivia Nights at Maryborough Services Club! \nGather your team of 1 – 10 people for your chance to win great prizes! \nRegistration opens at 6pm for a 6.30pm start. \nTrivia cost is $5 per person. \nSee you there!
URL:https://maryboroughservicesclub.com.au/event/trivia-night/2026-06-03/
LOCATION:The Services Club Maryborough\, 163-175 Lennox Street\, Maryborough\, QLD\, 4650\, Australia
CATEGORIES:All,Trivia,Weekly Activities
ATTACH;FMTTYPE=image/jpeg:https://maryboroughservicesclub.com.au/wp-content/uploads/2025/07/trivia-night-feat-image-custom.jpeg
END:VEVENT
BEGIN:VEVENT
DTSTART;TZID=Australia/Brisbane:20260604T183000
DTEND;TZID=Australia/Brisbane:20260604T200000
DTSTAMP:20260420T183701
CREATED:20250704T032225Z
LAST-MODIFIED:20250916T005221Z
UID:10001736-1780597800-1780603200@maryboroughservicesclub.com.au
SUMMARY:Trivia Night
DESCRIPTION:Looking for a fun team activity to do? Wednesdays &  Thursdays are Trivia Nights at Maryborough Services Club! \nGather your team of 1 – 10 people for your chance to win great prizes! \nRegistration opens at 6pm for a 6.30pm start. \nTrivia cost is $5 per person. \nSee you there!
URL:https://maryboroughservicesclub.com.au/event/trivia-night/2026-06-04/
LOCATION:The Services Club Maryborough\, 163-175 Lennox Street\, Maryborough\, QLD\, 4650\, Australia
CATEGORIES:All,Trivia,Weekly Activities
ATTACH;FMTTYPE=image/jpeg:https://maryboroughservicesclub.com.au/wp-content/uploads/2025/07/trivia-night-feat-image-custom.jpeg
END:VEVENT
BEGIN:VEVENT
DTSTART;TZID=Australia/Brisbane:20260610T183000
DTEND;TZID=Australia/Brisbane:20260610T200000
DTSTAMP:20260420T183701
CREATED:20250704T032225Z
LAST-MODIFIED:20250916T005221Z
UID:10001737-1781116200-1781121600@maryboroughservicesclub.com.au
SUMMARY:Trivia Night
DESCRIPTION:Looking for a fun team activity to do? Wednesdays &  Thursdays are Trivia Nights at Maryborough Services Club! \nGather your team of 1 – 10 people for your chance to win great prizes! \nRegistration opens at 6pm for a 6.30pm start. \nTrivia cost is $5 per person. \nSee you there!
URL:https://maryboroughservicesclub.com.au/event/trivia-night/2026-06-10/
LOCATION:The Services Club Maryborough\, 163-175 Lennox Street\, Maryborough\, QLD\, 4650\, Australia
CATEGORIES:All,Trivia,Weekly Activities
ATTACH;FMTTYPE=image/jpeg:https://maryboroughservicesclub.com.au/wp-content/uploads/2025/07/trivia-night-feat-image-custom.jpeg
END:VEVENT
BEGIN:VEVENT
DTSTART;TZID=Australia/Brisbane:20260611T183000
DTEND;TZID=Australia/Brisbane:20260611T200000
DTSTAMP:20260420T183701
CREATED:20250704T032225Z
LAST-MODIFIED:20250916T005221Z
UID:10001738-1781202600-1781208000@maryboroughservicesclub.com.au
SUMMARY:Trivia Night
DESCRIPTION:Looking for a fun team activity to do? Wednesdays &  Thursdays are Trivia Nights at Maryborough Services Club! \nGather your team of 1 – 10 people for your chance to win great prizes! \nRegistration opens at 6pm for a 6.30pm start. \nTrivia cost is $5 per person. \nSee you there!
URL:https://maryboroughservicesclub.com.au/event/trivia-night/2026-06-11/
LOCATION:The Services Club Maryborough\, 163-175 Lennox Street\, Maryborough\, QLD\, 4650\, Australia
CATEGORIES:All,Trivia,Weekly Activities
ATTACH;FMTTYPE=image/jpeg:https://maryboroughservicesclub.com.au/wp-content/uploads/2025/07/trivia-night-feat-image-custom.jpeg
END:VEVENT
BEGIN:VEVENT
DTSTART;TZID=Australia/Brisbane:20260617T183000
DTEND;TZID=Australia/Brisbane:20260617T200000
DTSTAMP:20260420T183701
CREATED:20250704T032225Z
LAST-MODIFIED:20250916T005221Z
UID:10001739-1781721000-1781726400@maryboroughservicesclub.com.au
SUMMARY:Trivia Night
DESCRIPTION:Looking for a fun team activity to do? Wednesdays &  Thursdays are Trivia Nights at Maryborough Services Club! \nGather your team of 1 – 10 people for your chance to win great prizes! \nRegistration opens at 6pm for a 6.30pm start. \nTrivia cost is $5 per person. \nSee you there!
URL:https://maryboroughservicesclub.com.au/event/trivia-night/2026-06-17/
LOCATION:The Services Club Maryborough\, 163-175 Lennox Street\, Maryborough\, QLD\, 4650\, Australia
CATEGORIES:All,Trivia,Weekly Activities
ATTACH;FMTTYPE=image/jpeg:https://maryboroughservicesclub.com.au/wp-content/uploads/2025/07/trivia-night-feat-image-custom.jpeg
END:VEVENT
BEGIN:VEVENT
DTSTART;TZID=Australia/Brisbane:20260618T183000
DTEND;TZID=Australia/Brisbane:20260618T200000
DTSTAMP:20260420T183701
CREATED:20250704T032225Z
LAST-MODIFIED:20250916T005221Z
UID:10001740-1781807400-1781812800@maryboroughservicesclub.com.au
SUMMARY:Trivia Night
DESCRIPTION:Looking for a fun team activity to do? Wednesdays &  Thursdays are Trivia Nights at Maryborough Services Club! \nGather your team of 1 – 10 people for your chance to win great prizes! \nRegistration opens at 6pm for a 6.30pm start. \nTrivia cost is $5 per person. \nSee you there!
URL:https://maryboroughservicesclub.com.au/event/trivia-night/2026-06-18/
LOCATION:The Services Club Maryborough\, 163-175 Lennox Street\, Maryborough\, QLD\, 4650\, Australia
CATEGORIES:All,Trivia,Weekly Activities
ATTACH;FMTTYPE=image/jpeg:https://maryboroughservicesclub.com.au/wp-content/uploads/2025/07/trivia-night-feat-image-custom.jpeg
END:VEVENT
BEGIN:VEVENT
DTSTART;TZID=Australia/Brisbane:20260624T183000
DTEND;TZID=Australia/Brisbane:20260624T200000
DTSTAMP:20260420T183701
CREATED:20250704T032225Z
LAST-MODIFIED:20250916T005221Z
UID:10001741-1782325800-1782331200@maryboroughservicesclub.com.au
SUMMARY:Trivia Night
DESCRIPTION:Looking for a fun team activity to do? Wednesdays &  Thursdays are Trivia Nights at Maryborough Services Club! \nGather your team of 1 – 10 people for your chance to win great prizes! \nRegistration opens at 6pm for a 6.30pm start. \nTrivia cost is $5 per person. \nSee you there!
URL:https://maryboroughservicesclub.com.au/event/trivia-night/2026-06-24/
LOCATION:The Services Club Maryborough\, 163-175 Lennox Street\, Maryborough\, QLD\, 4650\, Australia
CATEGORIES:All,Trivia,Weekly Activities
ATTACH;FMTTYPE=image/jpeg:https://maryboroughservicesclub.com.au/wp-content/uploads/2025/07/trivia-night-feat-image-custom.jpeg
END:VEVENT
BEGIN:VEVENT
DTSTART;TZID=Australia/Brisbane:20260625T183000
DTEND;TZID=Australia/Brisbane:20260625T200000
DTSTAMP:20260420T183701
CREATED:20250704T032225Z
LAST-MODIFIED:20250916T005221Z
UID:10001742-1782412200-1782417600@maryboroughservicesclub.com.au
SUMMARY:Trivia Night
DESCRIPTION:Looking for a fun team activity to do? Wednesdays &  Thursdays are Trivia Nights at Maryborough Services Club! \nGather your team of 1 – 10 people for your chance to win great prizes! \nRegistration opens at 6pm for a 6.30pm start. \nTrivia cost is $5 per person. \nSee you there!
URL:https://maryboroughservicesclub.com.au/event/trivia-night/2026-06-25/
LOCATION:The Services Club Maryborough\, 163-175 Lennox Street\, Maryborough\, QLD\, 4650\, Australia
CATEGORIES:All,Trivia,Weekly Activities
ATTACH;FMTTYPE=image/jpeg:https://maryboroughservicesclub.com.au/wp-content/uploads/2025/07/trivia-night-feat-image-custom.jpeg
END:VEVENT
BEGIN:VEVENT
DTSTART;TZID=Australia/Brisbane:20260701T183000
DTEND;TZID=Australia/Brisbane:20260701T200000
DTSTAMP:20260420T183701
CREATED:20250704T032225Z
LAST-MODIFIED:20250916T005221Z
UID:10001743-1782930600-1782936000@maryboroughservicesclub.com.au
SUMMARY:Trivia Night
DESCRIPTION:Looking for a fun team activity to do? Wednesdays &  Thursdays are Trivia Nights at Maryborough Services Club! \nGather your team of 1 – 10 people for your chance to win great prizes! \nRegistration opens at 6pm for a 6.30pm start. \nTrivia cost is $5 per person. \nSee you there!
URL:https://maryboroughservicesclub.com.au/event/trivia-night/2026-07-01/
LOCATION:The Services Club Maryborough\, 163-175 Lennox Street\, Maryborough\, QLD\, 4650\, Australia
CATEGORIES:All,Trivia,Weekly Activities
ATTACH;FMTTYPE=image/jpeg:https://maryboroughservicesclub.com.au/wp-content/uploads/2025/07/trivia-night-feat-image-custom.jpeg
END:VEVENT
BEGIN:VEVENT
DTSTART;TZID=Australia/Brisbane:20260702T183000
DTEND;TZID=Australia/Brisbane:20260702T200000
DTSTAMP:20260420T183701
CREATED:20250704T032225Z
LAST-MODIFIED:20250916T005221Z
UID:10001744-1783017000-1783022400@maryboroughservicesclub.com.au
SUMMARY:Trivia Night
DESCRIPTION:Looking for a fun team activity to do? Wednesdays &  Thursdays are Trivia Nights at Maryborough Services Club! \nGather your team of 1 – 10 people for your chance to win great prizes! \nRegistration opens at 6pm for a 6.30pm start. \nTrivia cost is $5 per person. \nSee you there!
URL:https://maryboroughservicesclub.com.au/event/trivia-night/2026-07-02/
LOCATION:The Services Club Maryborough\, 163-175 Lennox Street\, Maryborough\, QLD\, 4650\, Australia
CATEGORIES:All,Trivia,Weekly Activities
ATTACH;FMTTYPE=image/jpeg:https://maryboroughservicesclub.com.au/wp-content/uploads/2025/07/trivia-night-feat-image-custom.jpeg
END:VEVENT
BEGIN:VEVENT
DTSTART;TZID=Australia/Brisbane:20260708T183000
DTEND;TZID=Australia/Brisbane:20260708T200000
DTSTAMP:20260420T183701
CREATED:20250704T032225Z
LAST-MODIFIED:20250916T005221Z
UID:10001745-1783535400-1783540800@maryboroughservicesclub.com.au
SUMMARY:Trivia Night
DESCRIPTION:Looking for a fun team activity to do? Wednesdays &  Thursdays are Trivia Nights at Maryborough Services Club! \nGather your team of 1 – 10 people for your chance to win great prizes! \nRegistration opens at 6pm for a 6.30pm start. \nTrivia cost is $5 per person. \nSee you there!
URL:https://maryboroughservicesclub.com.au/event/trivia-night/2026-07-08/
LOCATION:The Services Club Maryborough\, 163-175 Lennox Street\, Maryborough\, QLD\, 4650\, Australia
CATEGORIES:All,Trivia,Weekly Activities
ATTACH;FMTTYPE=image/jpeg:https://maryboroughservicesclub.com.au/wp-content/uploads/2025/07/trivia-night-feat-image-custom.jpeg
END:VEVENT
BEGIN:VEVENT
DTSTART;TZID=Australia/Brisbane:20260709T183000
DTEND;TZID=Australia/Brisbane:20260709T200000
DTSTAMP:20260420T183701
CREATED:20250704T032225Z
LAST-MODIFIED:20250916T005221Z
UID:10001746-1783621800-1783627200@maryboroughservicesclub.com.au
SUMMARY:Trivia Night
DESCRIPTION:Looking for a fun team activity to do? Wednesdays &  Thursdays are Trivia Nights at Maryborough Services Club! \nGather your team of 1 – 10 people for your chance to win great prizes! \nRegistration opens at 6pm for a 6.30pm start. \nTrivia cost is $5 per person. \nSee you there!
URL:https://maryboroughservicesclub.com.au/event/trivia-night/2026-07-09/
LOCATION:The Services Club Maryborough\, 163-175 Lennox Street\, Maryborough\, QLD\, 4650\, Australia
CATEGORIES:All,Trivia,Weekly Activities
ATTACH;FMTTYPE=image/jpeg:https://maryboroughservicesclub.com.au/wp-content/uploads/2025/07/trivia-night-feat-image-custom.jpeg
END:VEVENT
BEGIN:VEVENT
DTSTART;TZID=Australia/Brisbane:20260715T183000
DTEND;TZID=Australia/Brisbane:20260715T200000
DTSTAMP:20260420T183701
CREATED:20250704T032225Z
LAST-MODIFIED:20250916T005221Z
UID:10001747-1784140200-1784145600@maryboroughservicesclub.com.au
SUMMARY:Trivia Night
DESCRIPTION:Looking for a fun team activity to do? Wednesdays &  Thursdays are Trivia Nights at Maryborough Services Club! \nGather your team of 1 – 10 people for your chance to win great prizes! \nRegistration opens at 6pm for a 6.30pm start. \nTrivia cost is $5 per person. \nSee you there!
URL:https://maryboroughservicesclub.com.au/event/trivia-night/2026-07-15/
LOCATION:The Services Club Maryborough\, 163-175 Lennox Street\, Maryborough\, QLD\, 4650\, Australia
CATEGORIES:All,Trivia,Weekly Activities
ATTACH;FMTTYPE=image/jpeg:https://maryboroughservicesclub.com.au/wp-content/uploads/2025/07/trivia-night-feat-image-custom.jpeg
END:VEVENT
BEGIN:VEVENT
DTSTART;TZID=Australia/Brisbane:20260716T183000
DTEND;TZID=Australia/Brisbane:20260716T200000
DTSTAMP:20260420T183701
CREATED:20250704T032225Z
LAST-MODIFIED:20250916T005221Z
UID:10001748-1784226600-1784232000@maryboroughservicesclub.com.au
SUMMARY:Trivia Night
DESCRIPTION:Looking for a fun team activity to do? Wednesdays &  Thursdays are Trivia Nights at Maryborough Services Club! \nGather your team of 1 – 10 people for your chance to win great prizes! \nRegistration opens at 6pm for a 6.30pm start. \nTrivia cost is $5 per person. \nSee you there!
URL:https://maryboroughservicesclub.com.au/event/trivia-night/2026-07-16/
LOCATION:The Services Club Maryborough\, 163-175 Lennox Street\, Maryborough\, QLD\, 4650\, Australia
CATEGORIES:All,Trivia,Weekly Activities
ATTACH;FMTTYPE=image/jpeg:https://maryboroughservicesclub.com.au/wp-content/uploads/2025/07/trivia-night-feat-image-custom.jpeg
END:VEVENT
BEGIN:VEVENT
DTSTART;TZID=Australia/Brisbane:20260722T183000
DTEND;TZID=Australia/Brisbane:20260722T200000
DTSTAMP:20260420T183701
CREATED:20250704T032225Z
LAST-MODIFIED:20250916T005221Z
UID:10001749-1784745000-1784750400@maryboroughservicesclub.com.au
SUMMARY:Trivia Night
DESCRIPTION:Looking for a fun team activity to do? Wednesdays &  Thursdays are Trivia Nights at Maryborough Services Club! \nGather your team of 1 – 10 people for your chance to win great prizes! \nRegistration opens at 6pm for a 6.30pm start. \nTrivia cost is $5 per person. \nSee you there!
URL:https://maryboroughservicesclub.com.au/event/trivia-night/2026-07-22/
LOCATION:The Services Club Maryborough\, 163-175 Lennox Street\, Maryborough\, QLD\, 4650\, Australia
CATEGORIES:All,Trivia,Weekly Activities
ATTACH;FMTTYPE=image/jpeg:https://maryboroughservicesclub.com.au/wp-content/uploads/2025/07/trivia-night-feat-image-custom.jpeg
END:VEVENT
BEGIN:VEVENT
DTSTART;TZID=Australia/Brisbane:20260723T183000
DTEND;TZID=Australia/Brisbane:20260723T200000
DTSTAMP:20260420T183701
CREATED:20250704T032225Z
LAST-MODIFIED:20250916T005221Z
UID:10001750-1784831400-1784836800@maryboroughservicesclub.com.au
SUMMARY:Trivia Night
DESCRIPTION:Looking for a fun team activity to do? Wednesdays &  Thursdays are Trivia Nights at Maryborough Services Club! \nGather your team of 1 – 10 people for your chance to win great prizes! \nRegistration opens at 6pm for a 6.30pm start. \nTrivia cost is $5 per person. \nSee you there!
URL:https://maryboroughservicesclub.com.au/event/trivia-night/2026-07-23/
LOCATION:The Services Club Maryborough\, 163-175 Lennox Street\, Maryborough\, QLD\, 4650\, Australia
CATEGORIES:All,Trivia,Weekly Activities
ATTACH;FMTTYPE=image/jpeg:https://maryboroughservicesclub.com.au/wp-content/uploads/2025/07/trivia-night-feat-image-custom.jpeg
END:VEVENT
BEGIN:VEVENT
DTSTART;TZID=Australia/Brisbane:20260729T183000
DTEND;TZID=Australia/Brisbane:20260729T200000
DTSTAMP:20260420T183701
CREATED:20250704T032225Z
LAST-MODIFIED:20250916T005221Z
UID:10001751-1785349800-1785355200@maryboroughservicesclub.com.au
SUMMARY:Trivia Night
DESCRIPTION:Looking for a fun team activity to do? Wednesdays &  Thursdays are Trivia Nights at Maryborough Services Club! \nGather your team of 1 – 10 people for your chance to win great prizes! \nRegistration opens at 6pm for a 6.30pm start. \nTrivia cost is $5 per person. \nSee you there!
URL:https://maryboroughservicesclub.com.au/event/trivia-night/2026-07-29/
LOCATION:The Services Club Maryborough\, 163-175 Lennox Street\, Maryborough\, QLD\, 4650\, Australia
CATEGORIES:All,Trivia,Weekly Activities
ATTACH;FMTTYPE=image/jpeg:https://maryboroughservicesclub.com.au/wp-content/uploads/2025/07/trivia-night-feat-image-custom.jpeg
END:VEVENT
BEGIN:VEVENT
DTSTART;TZID=Australia/Brisbane:20260730T183000
DTEND;TZID=Australia/Brisbane:20260730T200000
DTSTAMP:20260420T183701
CREATED:20250704T032225Z
LAST-MODIFIED:20250916T005221Z
UID:10001752-1785436200-1785441600@maryboroughservicesclub.com.au
SUMMARY:Trivia Night
DESCRIPTION:Looking for a fun team activity to do? Wednesdays &  Thursdays are Trivia Nights at Maryborough Services Club! \nGather your team of 1 – 10 people for your chance to win great prizes! \nRegistration opens at 6pm for a 6.30pm start. \nTrivia cost is $5 per person. \nSee you there!
URL:https://maryboroughservicesclub.com.au/event/trivia-night/2026-07-30/
LOCATION:The Services Club Maryborough\, 163-175 Lennox Street\, Maryborough\, QLD\, 4650\, Australia
CATEGORIES:All,Trivia,Weekly Activities
ATTACH;FMTTYPE=image/jpeg:https://maryboroughservicesclub.com.au/wp-content/uploads/2025/07/trivia-night-feat-image-custom.jpeg
END:VEVENT
END:VCALENDAR