BEGIN:VCALENDAR
VERSION:2.0
PRODID:-//Maryborough Services Club - ECPv6.15.17//NONSGML v1.0//EN
CALSCALE:GREGORIAN
METHOD:PUBLISH
X-WR-CALNAME:Maryborough Services Club
X-ORIGINAL-URL:https://maryboroughservicesclub.com.au
X-WR-CALDESC:Events for Maryborough Services Club
REFRESH-INTERVAL;VALUE=DURATION:PT1H
X-Robots-Tag:noindex
X-PUBLISHED-TTL:PT1H
BEGIN:VTIMEZONE
TZID:Australia/Brisbane
BEGIN:STANDARD
TZOFFSETFROM:+1000
TZOFFSETTO:+1000
TZNAME:AEST
DTSTART:20250101T000000
END:STANDARD
END:VTIMEZONE
BEGIN:VEVENT
DTSTART;TZID=Australia/Brisbane:20260420T113000
DTEND;TZID=Australia/Brisbane:20260420T200000
DTSTAMP:20260420T194003
CREATED:20250710T001935Z
LAST-MODIFIED:20250710T001935Z
UID:10007434-1776684600-1776715200@maryboroughservicesclub.com.au
SUMMARY:Kids Eat Free
DESCRIPTION:Kids eat FREE every Monday at Maryborough Services Club! \nEnjoy a free meal for the small ones with any adult main meal purchase during either lunch or dinner on Mondays. \nBook your table now online or call 4122 2321 & let us sort the kids. \nTerms and conditions apply. Specials not included. Children under 12 only.
URL:https://maryboroughservicesclub.com.au/event/kids-eat-free/2026-04-20/
LOCATION:The Services Club Maryborough\, 163-175 Lennox Street\, Maryborough\, QLD\, 4650\, Australia
CATEGORIES:All,Meal Specials
ATTACH;FMTTYPE=image/jpeg:https://maryboroughservicesclub.com.au/wp-content/uploads/2025/07/kids-eat-free-feat-image-custom.jpeg
END:VEVENT
BEGIN:VEVENT
DTSTART;TZID=Australia/Brisbane:20260427T113000
DTEND;TZID=Australia/Brisbane:20260427T200000
DTSTAMP:20260420T194003
CREATED:20250710T001935Z
LAST-MODIFIED:20250710T001935Z
UID:10007435-1777289400-1777320000@maryboroughservicesclub.com.au
SUMMARY:Kids Eat Free
DESCRIPTION:Kids eat FREE every Monday at Maryborough Services Club! \nEnjoy a free meal for the small ones with any adult main meal purchase during either lunch or dinner on Mondays. \nBook your table now online or call 4122 2321 & let us sort the kids. \nTerms and conditions apply. Specials not included. Children under 12 only.
URL:https://maryboroughservicesclub.com.au/event/kids-eat-free/2026-04-27/
LOCATION:The Services Club Maryborough\, 163-175 Lennox Street\, Maryborough\, QLD\, 4650\, Australia
CATEGORIES:All,Meal Specials
ATTACH;FMTTYPE=image/jpeg:https://maryboroughservicesclub.com.au/wp-content/uploads/2025/07/kids-eat-free-feat-image-custom.jpeg
END:VEVENT
BEGIN:VEVENT
DTSTART;TZID=Australia/Brisbane:20260504T113000
DTEND;TZID=Australia/Brisbane:20260504T200000
DTSTAMP:20260420T194003
CREATED:20250710T001935Z
LAST-MODIFIED:20250710T001935Z
UID:10007436-1777894200-1777924800@maryboroughservicesclub.com.au
SUMMARY:Kids Eat Free
DESCRIPTION:Kids eat FREE every Monday at Maryborough Services Club! \nEnjoy a free meal for the small ones with any adult main meal purchase during either lunch or dinner on Mondays. \nBook your table now online or call 4122 2321 & let us sort the kids. \nTerms and conditions apply. Specials not included. Children under 12 only.
URL:https://maryboroughservicesclub.com.au/event/kids-eat-free/2026-05-04/
LOCATION:The Services Club Maryborough\, 163-175 Lennox Street\, Maryborough\, QLD\, 4650\, Australia
CATEGORIES:All,Meal Specials
ATTACH;FMTTYPE=image/jpeg:https://maryboroughservicesclub.com.au/wp-content/uploads/2025/07/kids-eat-free-feat-image-custom.jpeg
END:VEVENT
BEGIN:VEVENT
DTSTART;TZID=Australia/Brisbane:20260511T113000
DTEND;TZID=Australia/Brisbane:20260511T200000
DTSTAMP:20260420T194003
CREATED:20250710T001935Z
LAST-MODIFIED:20250710T001935Z
UID:10007437-1778499000-1778529600@maryboroughservicesclub.com.au
SUMMARY:Kids Eat Free
DESCRIPTION:Kids eat FREE every Monday at Maryborough Services Club! \nEnjoy a free meal for the small ones with any adult main meal purchase during either lunch or dinner on Mondays. \nBook your table now online or call 4122 2321 & let us sort the kids. \nTerms and conditions apply. Specials not included. Children under 12 only.
URL:https://maryboroughservicesclub.com.au/event/kids-eat-free/2026-05-11/
LOCATION:The Services Club Maryborough\, 163-175 Lennox Street\, Maryborough\, QLD\, 4650\, Australia
CATEGORIES:All,Meal Specials
ATTACH;FMTTYPE=image/jpeg:https://maryboroughservicesclub.com.au/wp-content/uploads/2025/07/kids-eat-free-feat-image-custom.jpeg
END:VEVENT
BEGIN:VEVENT
DTSTART;TZID=Australia/Brisbane:20260518T113000
DTEND;TZID=Australia/Brisbane:20260518T200000
DTSTAMP:20260420T194003
CREATED:20250710T001935Z
LAST-MODIFIED:20250710T001935Z
UID:10007438-1779103800-1779134400@maryboroughservicesclub.com.au
SUMMARY:Kids Eat Free
DESCRIPTION:Kids eat FREE every Monday at Maryborough Services Club! \nEnjoy a free meal for the small ones with any adult main meal purchase during either lunch or dinner on Mondays. \nBook your table now online or call 4122 2321 & let us sort the kids. \nTerms and conditions apply. Specials not included. Children under 12 only.
URL:https://maryboroughservicesclub.com.au/event/kids-eat-free/2026-05-18/
LOCATION:The Services Club Maryborough\, 163-175 Lennox Street\, Maryborough\, QLD\, 4650\, Australia
CATEGORIES:All,Meal Specials
ATTACH;FMTTYPE=image/jpeg:https://maryboroughservicesclub.com.au/wp-content/uploads/2025/07/kids-eat-free-feat-image-custom.jpeg
END:VEVENT
BEGIN:VEVENT
DTSTART;TZID=Australia/Brisbane:20260525T113000
DTEND;TZID=Australia/Brisbane:20260525T200000
DTSTAMP:20260420T194003
CREATED:20250710T001935Z
LAST-MODIFIED:20250710T001935Z
UID:10007439-1779708600-1779739200@maryboroughservicesclub.com.au
SUMMARY:Kids Eat Free
DESCRIPTION:Kids eat FREE every Monday at Maryborough Services Club! \nEnjoy a free meal for the small ones with any adult main meal purchase during either lunch or dinner on Mondays. \nBook your table now online or call 4122 2321 & let us sort the kids. \nTerms and conditions apply. Specials not included. Children under 12 only.
URL:https://maryboroughservicesclub.com.au/event/kids-eat-free/2026-05-25/
LOCATION:The Services Club Maryborough\, 163-175 Lennox Street\, Maryborough\, QLD\, 4650\, Australia
CATEGORIES:All,Meal Specials
ATTACH;FMTTYPE=image/jpeg:https://maryboroughservicesclub.com.au/wp-content/uploads/2025/07/kids-eat-free-feat-image-custom.jpeg
END:VEVENT
BEGIN:VEVENT
DTSTART;TZID=Australia/Brisbane:20260601T113000
DTEND;TZID=Australia/Brisbane:20260601T200000
DTSTAMP:20260420T194003
CREATED:20250710T001935Z
LAST-MODIFIED:20250710T001935Z
UID:10007440-1780313400-1780344000@maryboroughservicesclub.com.au
SUMMARY:Kids Eat Free
DESCRIPTION:Kids eat FREE every Monday at Maryborough Services Club! \nEnjoy a free meal for the small ones with any adult main meal purchase during either lunch or dinner on Mondays. \nBook your table now online or call 4122 2321 & let us sort the kids. \nTerms and conditions apply. Specials not included. Children under 12 only.
URL:https://maryboroughservicesclub.com.au/event/kids-eat-free/2026-06-01/
LOCATION:The Services Club Maryborough\, 163-175 Lennox Street\, Maryborough\, QLD\, 4650\, Australia
CATEGORIES:All,Meal Specials
ATTACH;FMTTYPE=image/jpeg:https://maryboroughservicesclub.com.au/wp-content/uploads/2025/07/kids-eat-free-feat-image-custom.jpeg
END:VEVENT
BEGIN:VEVENT
DTSTART;TZID=Australia/Brisbane:20260608T113000
DTEND;TZID=Australia/Brisbane:20260608T200000
DTSTAMP:20260420T194003
CREATED:20250710T001935Z
LAST-MODIFIED:20250710T001935Z
UID:10007441-1780918200-1780948800@maryboroughservicesclub.com.au
SUMMARY:Kids Eat Free
DESCRIPTION:Kids eat FREE every Monday at Maryborough Services Club! \nEnjoy a free meal for the small ones with any adult main meal purchase during either lunch or dinner on Mondays. \nBook your table now online or call 4122 2321 & let us sort the kids. \nTerms and conditions apply. Specials not included. Children under 12 only.
URL:https://maryboroughservicesclub.com.au/event/kids-eat-free/2026-06-08/
LOCATION:The Services Club Maryborough\, 163-175 Lennox Street\, Maryborough\, QLD\, 4650\, Australia
CATEGORIES:All,Meal Specials
ATTACH;FMTTYPE=image/jpeg:https://maryboroughservicesclub.com.au/wp-content/uploads/2025/07/kids-eat-free-feat-image-custom.jpeg
END:VEVENT
BEGIN:VEVENT
DTSTART;TZID=Australia/Brisbane:20260615T113000
DTEND;TZID=Australia/Brisbane:20260615T200000
DTSTAMP:20260420T194003
CREATED:20250710T001935Z
LAST-MODIFIED:20250710T001935Z
UID:10007442-1781523000-1781553600@maryboroughservicesclub.com.au
SUMMARY:Kids Eat Free
DESCRIPTION:Kids eat FREE every Monday at Maryborough Services Club! \nEnjoy a free meal for the small ones with any adult main meal purchase during either lunch or dinner on Mondays. \nBook your table now online or call 4122 2321 & let us sort the kids. \nTerms and conditions apply. Specials not included. Children under 12 only.
URL:https://maryboroughservicesclub.com.au/event/kids-eat-free/2026-06-15/
LOCATION:The Services Club Maryborough\, 163-175 Lennox Street\, Maryborough\, QLD\, 4650\, Australia
CATEGORIES:All,Meal Specials
ATTACH;FMTTYPE=image/jpeg:https://maryboroughservicesclub.com.au/wp-content/uploads/2025/07/kids-eat-free-feat-image-custom.jpeg
END:VEVENT
BEGIN:VEVENT
DTSTART;TZID=Australia/Brisbane:20260622T113000
DTEND;TZID=Australia/Brisbane:20260622T200000
DTSTAMP:20260420T194003
CREATED:20250710T001935Z
LAST-MODIFIED:20250710T001935Z
UID:10007443-1782127800-1782158400@maryboroughservicesclub.com.au
SUMMARY:Kids Eat Free
DESCRIPTION:Kids eat FREE every Monday at Maryborough Services Club! \nEnjoy a free meal for the small ones with any adult main meal purchase during either lunch or dinner on Mondays. \nBook your table now online or call 4122 2321 & let us sort the kids. \nTerms and conditions apply. Specials not included. Children under 12 only.
URL:https://maryboroughservicesclub.com.au/event/kids-eat-free/2026-06-22/
LOCATION:The Services Club Maryborough\, 163-175 Lennox Street\, Maryborough\, QLD\, 4650\, Australia
CATEGORIES:All,Meal Specials
ATTACH;FMTTYPE=image/jpeg:https://maryboroughservicesclub.com.au/wp-content/uploads/2025/07/kids-eat-free-feat-image-custom.jpeg
END:VEVENT
BEGIN:VEVENT
DTSTART;TZID=Australia/Brisbane:20260629T113000
DTEND;TZID=Australia/Brisbane:20260629T200000
DTSTAMP:20260420T194003
CREATED:20250710T001935Z
LAST-MODIFIED:20250710T001935Z
UID:10007444-1782732600-1782763200@maryboroughservicesclub.com.au
SUMMARY:Kids Eat Free
DESCRIPTION:Kids eat FREE every Monday at Maryborough Services Club! \nEnjoy a free meal for the small ones with any adult main meal purchase during either lunch or dinner on Mondays. \nBook your table now online or call 4122 2321 & let us sort the kids. \nTerms and conditions apply. Specials not included. Children under 12 only.
URL:https://maryboroughservicesclub.com.au/event/kids-eat-free/2026-06-29/
LOCATION:The Services Club Maryborough\, 163-175 Lennox Street\, Maryborough\, QLD\, 4650\, Australia
CATEGORIES:All,Meal Specials
ATTACH;FMTTYPE=image/jpeg:https://maryboroughservicesclub.com.au/wp-content/uploads/2025/07/kids-eat-free-feat-image-custom.jpeg
END:VEVENT
BEGIN:VEVENT
DTSTART;TZID=Australia/Brisbane:20260706T113000
DTEND;TZID=Australia/Brisbane:20260706T200000
DTSTAMP:20260420T194003
CREATED:20250710T001935Z
LAST-MODIFIED:20250710T001935Z
UID:10007445-1783337400-1783368000@maryboroughservicesclub.com.au
SUMMARY:Kids Eat Free
DESCRIPTION:Kids eat FREE every Monday at Maryborough Services Club! \nEnjoy a free meal for the small ones with any adult main meal purchase during either lunch or dinner on Mondays. \nBook your table now online or call 4122 2321 & let us sort the kids. \nTerms and conditions apply. Specials not included. Children under 12 only.
URL:https://maryboroughservicesclub.com.au/event/kids-eat-free/2026-07-06/
LOCATION:The Services Club Maryborough\, 163-175 Lennox Street\, Maryborough\, QLD\, 4650\, Australia
CATEGORIES:All,Meal Specials
ATTACH;FMTTYPE=image/jpeg:https://maryboroughservicesclub.com.au/wp-content/uploads/2025/07/kids-eat-free-feat-image-custom.jpeg
END:VEVENT
BEGIN:VEVENT
DTSTART;TZID=Australia/Brisbane:20260713T113000
DTEND;TZID=Australia/Brisbane:20260713T200000
DTSTAMP:20260420T194003
CREATED:20250710T001935Z
LAST-MODIFIED:20250710T001935Z
UID:10007446-1783942200-1783972800@maryboroughservicesclub.com.au
SUMMARY:Kids Eat Free
DESCRIPTION:Kids eat FREE every Monday at Maryborough Services Club! \nEnjoy a free meal for the small ones with any adult main meal purchase during either lunch or dinner on Mondays. \nBook your table now online or call 4122 2321 & let us sort the kids. \nTerms and conditions apply. Specials not included. Children under 12 only.
URL:https://maryboroughservicesclub.com.au/event/kids-eat-free/2026-07-13/
LOCATION:The Services Club Maryborough\, 163-175 Lennox Street\, Maryborough\, QLD\, 4650\, Australia
CATEGORIES:All,Meal Specials
ATTACH;FMTTYPE=image/jpeg:https://maryboroughservicesclub.com.au/wp-content/uploads/2025/07/kids-eat-free-feat-image-custom.jpeg
END:VEVENT
BEGIN:VEVENT
DTSTART;TZID=Australia/Brisbane:20260720T113000
DTEND;TZID=Australia/Brisbane:20260720T200000
DTSTAMP:20260420T194003
CREATED:20250710T001935Z
LAST-MODIFIED:20250710T001935Z
UID:10007447-1784547000-1784577600@maryboroughservicesclub.com.au
SUMMARY:Kids Eat Free
DESCRIPTION:Kids eat FREE every Monday at Maryborough Services Club! \nEnjoy a free meal for the small ones with any adult main meal purchase during either lunch or dinner on Mondays. \nBook your table now online or call 4122 2321 & let us sort the kids. \nTerms and conditions apply. Specials not included. Children under 12 only.
URL:https://maryboroughservicesclub.com.au/event/kids-eat-free/2026-07-20/
LOCATION:The Services Club Maryborough\, 163-175 Lennox Street\, Maryborough\, QLD\, 4650\, Australia
CATEGORIES:All,Meal Specials
ATTACH;FMTTYPE=image/jpeg:https://maryboroughservicesclub.com.au/wp-content/uploads/2025/07/kids-eat-free-feat-image-custom.jpeg
END:VEVENT
BEGIN:VEVENT
DTSTART;TZID=Australia/Brisbane:20260727T113000
DTEND;TZID=Australia/Brisbane:20260727T200000
DTSTAMP:20260420T194003
CREATED:20250710T001935Z
LAST-MODIFIED:20250710T001935Z
UID:10007448-1785151800-1785182400@maryboroughservicesclub.com.au
SUMMARY:Kids Eat Free
DESCRIPTION:Kids eat FREE every Monday at Maryborough Services Club! \nEnjoy a free meal for the small ones with any adult main meal purchase during either lunch or dinner on Mondays. \nBook your table now online or call 4122 2321 & let us sort the kids. \nTerms and conditions apply. Specials not included. Children under 12 only.
URL:https://maryboroughservicesclub.com.au/event/kids-eat-free/2026-07-27/
LOCATION:The Services Club Maryborough\, 163-175 Lennox Street\, Maryborough\, QLD\, 4650\, Australia
CATEGORIES:All,Meal Specials
ATTACH;FMTTYPE=image/jpeg:https://maryboroughservicesclub.com.au/wp-content/uploads/2025/07/kids-eat-free-feat-image-custom.jpeg
END:VEVENT
BEGIN:VEVENT
DTSTART;TZID=Australia/Brisbane:20260803T113000
DTEND;TZID=Australia/Brisbane:20260803T200000
DTSTAMP:20260420T194003
CREATED:20250710T001935Z
LAST-MODIFIED:20250710T001935Z
UID:10007449-1785756600-1785787200@maryboroughservicesclub.com.au
SUMMARY:Kids Eat Free
DESCRIPTION:Kids eat FREE every Monday at Maryborough Services Club! \nEnjoy a free meal for the small ones with any adult main meal purchase during either lunch or dinner on Mondays. \nBook your table now online or call 4122 2321 & let us sort the kids. \nTerms and conditions apply. Specials not included. Children under 12 only.
URL:https://maryboroughservicesclub.com.au/event/kids-eat-free/2026-08-03/
LOCATION:The Services Club Maryborough\, 163-175 Lennox Street\, Maryborough\, QLD\, 4650\, Australia
CATEGORIES:All,Meal Specials
ATTACH;FMTTYPE=image/jpeg:https://maryboroughservicesclub.com.au/wp-content/uploads/2025/07/kids-eat-free-feat-image-custom.jpeg
END:VEVENT
BEGIN:VEVENT
DTSTART;TZID=Australia/Brisbane:20260810T113000
DTEND;TZID=Australia/Brisbane:20260810T200000
DTSTAMP:20260420T194003
CREATED:20250710T001935Z
LAST-MODIFIED:20250710T001935Z
UID:10007450-1786361400-1786392000@maryboroughservicesclub.com.au
SUMMARY:Kids Eat Free
DESCRIPTION:Kids eat FREE every Monday at Maryborough Services Club! \nEnjoy a free meal for the small ones with any adult main meal purchase during either lunch or dinner on Mondays. \nBook your table now online or call 4122 2321 & let us sort the kids. \nTerms and conditions apply. Specials not included. Children under 12 only.
URL:https://maryboroughservicesclub.com.au/event/kids-eat-free/2026-08-10/
LOCATION:The Services Club Maryborough\, 163-175 Lennox Street\, Maryborough\, QLD\, 4650\, Australia
CATEGORIES:All,Meal Specials
ATTACH;FMTTYPE=image/jpeg:https://maryboroughservicesclub.com.au/wp-content/uploads/2025/07/kids-eat-free-feat-image-custom.jpeg
END:VEVENT
BEGIN:VEVENT
DTSTART;TZID=Australia/Brisbane:20260817T113000
DTEND;TZID=Australia/Brisbane:20260817T200000
DTSTAMP:20260420T194003
CREATED:20250710T001935Z
LAST-MODIFIED:20250710T001935Z
UID:10007451-1786966200-1786996800@maryboroughservicesclub.com.au
SUMMARY:Kids Eat Free
DESCRIPTION:Kids eat FREE every Monday at Maryborough Services Club! \nEnjoy a free meal for the small ones with any adult main meal purchase during either lunch or dinner on Mondays. \nBook your table now online or call 4122 2321 & let us sort the kids. \nTerms and conditions apply. Specials not included. Children under 12 only.
URL:https://maryboroughservicesclub.com.au/event/kids-eat-free/2026-08-17/
LOCATION:The Services Club Maryborough\, 163-175 Lennox Street\, Maryborough\, QLD\, 4650\, Australia
CATEGORIES:All,Meal Specials
ATTACH;FMTTYPE=image/jpeg:https://maryboroughservicesclub.com.au/wp-content/uploads/2025/07/kids-eat-free-feat-image-custom.jpeg
END:VEVENT
BEGIN:VEVENT
DTSTART;TZID=Australia/Brisbane:20260824T113000
DTEND;TZID=Australia/Brisbane:20260824T200000
DTSTAMP:20260420T194003
CREATED:20250710T001935Z
LAST-MODIFIED:20250710T001935Z
UID:10007452-1787571000-1787601600@maryboroughservicesclub.com.au
SUMMARY:Kids Eat Free
DESCRIPTION:Kids eat FREE every Monday at Maryborough Services Club! \nEnjoy a free meal for the small ones with any adult main meal purchase during either lunch or dinner on Mondays. \nBook your table now online or call 4122 2321 & let us sort the kids. \nTerms and conditions apply. Specials not included. Children under 12 only.
URL:https://maryboroughservicesclub.com.au/event/kids-eat-free/2026-08-24/
LOCATION:The Services Club Maryborough\, 163-175 Lennox Street\, Maryborough\, QLD\, 4650\, Australia
CATEGORIES:All,Meal Specials
ATTACH;FMTTYPE=image/jpeg:https://maryboroughservicesclub.com.au/wp-content/uploads/2025/07/kids-eat-free-feat-image-custom.jpeg
END:VEVENT
BEGIN:VEVENT
DTSTART;TZID=Australia/Brisbane:20260831T113000
DTEND;TZID=Australia/Brisbane:20260831T200000
DTSTAMP:20260420T194003
CREATED:20250710T001935Z
LAST-MODIFIED:20250710T001935Z
UID:10007453-1788175800-1788206400@maryboroughservicesclub.com.au
SUMMARY:Kids Eat Free
DESCRIPTION:Kids eat FREE every Monday at Maryborough Services Club! \nEnjoy a free meal for the small ones with any adult main meal purchase during either lunch or dinner on Mondays. \nBook your table now online or call 4122 2321 & let us sort the kids. \nTerms and conditions apply. Specials not included. Children under 12 only.
URL:https://maryboroughservicesclub.com.au/event/kids-eat-free/2026-08-31/
LOCATION:The Services Club Maryborough\, 163-175 Lennox Street\, Maryborough\, QLD\, 4650\, Australia
CATEGORIES:All,Meal Specials
ATTACH;FMTTYPE=image/jpeg:https://maryboroughservicesclub.com.au/wp-content/uploads/2025/07/kids-eat-free-feat-image-custom.jpeg
END:VEVENT
BEGIN:VEVENT
DTSTART;TZID=Australia/Brisbane:20260907T113000
DTEND;TZID=Australia/Brisbane:20260907T200000
DTSTAMP:20260420T194003
CREATED:20250710T001935Z
LAST-MODIFIED:20250710T001935Z
UID:10007454-1788780600-1788811200@maryboroughservicesclub.com.au
SUMMARY:Kids Eat Free
DESCRIPTION:Kids eat FREE every Monday at Maryborough Services Club! \nEnjoy a free meal for the small ones with any adult main meal purchase during either lunch or dinner on Mondays. \nBook your table now online or call 4122 2321 & let us sort the kids. \nTerms and conditions apply. Specials not included. Children under 12 only.
URL:https://maryboroughservicesclub.com.au/event/kids-eat-free/2026-09-07/
LOCATION:The Services Club Maryborough\, 163-175 Lennox Street\, Maryborough\, QLD\, 4650\, Australia
CATEGORIES:All,Meal Specials
ATTACH;FMTTYPE=image/jpeg:https://maryboroughservicesclub.com.au/wp-content/uploads/2025/07/kids-eat-free-feat-image-custom.jpeg
END:VEVENT
BEGIN:VEVENT
DTSTART;TZID=Australia/Brisbane:20260914T113000
DTEND;TZID=Australia/Brisbane:20260914T200000
DTSTAMP:20260420T194003
CREATED:20250710T001935Z
LAST-MODIFIED:20250710T001935Z
UID:10007455-1789385400-1789416000@maryboroughservicesclub.com.au
SUMMARY:Kids Eat Free
DESCRIPTION:Kids eat FREE every Monday at Maryborough Services Club! \nEnjoy a free meal for the small ones with any adult main meal purchase during either lunch or dinner on Mondays. \nBook your table now online or call 4122 2321 & let us sort the kids. \nTerms and conditions apply. Specials not included. Children under 12 only.
URL:https://maryboroughservicesclub.com.au/event/kids-eat-free/2026-09-14/
LOCATION:The Services Club Maryborough\, 163-175 Lennox Street\, Maryborough\, QLD\, 4650\, Australia
CATEGORIES:All,Meal Specials
ATTACH;FMTTYPE=image/jpeg:https://maryboroughservicesclub.com.au/wp-content/uploads/2025/07/kids-eat-free-feat-image-custom.jpeg
END:VEVENT
BEGIN:VEVENT
DTSTART;TZID=Australia/Brisbane:20260921T113000
DTEND;TZID=Australia/Brisbane:20260921T200000
DTSTAMP:20260420T194003
CREATED:20250710T001935Z
LAST-MODIFIED:20250710T001935Z
UID:10007456-1789990200-1790020800@maryboroughservicesclub.com.au
SUMMARY:Kids Eat Free
DESCRIPTION:Kids eat FREE every Monday at Maryborough Services Club! \nEnjoy a free meal for the small ones with any adult main meal purchase during either lunch or dinner on Mondays. \nBook your table now online or call 4122 2321 & let us sort the kids. \nTerms and conditions apply. Specials not included. Children under 12 only.
URL:https://maryboroughservicesclub.com.au/event/kids-eat-free/2026-09-21/
LOCATION:The Services Club Maryborough\, 163-175 Lennox Street\, Maryborough\, QLD\, 4650\, Australia
CATEGORIES:All,Meal Specials
ATTACH;FMTTYPE=image/jpeg:https://maryboroughservicesclub.com.au/wp-content/uploads/2025/07/kids-eat-free-feat-image-custom.jpeg
END:VEVENT
BEGIN:VEVENT
DTSTART;TZID=Australia/Brisbane:20260928T113000
DTEND;TZID=Australia/Brisbane:20260928T200000
DTSTAMP:20260420T194003
CREATED:20250710T001935Z
LAST-MODIFIED:20250710T001935Z
UID:10007457-1790595000-1790625600@maryboroughservicesclub.com.au
SUMMARY:Kids Eat Free
DESCRIPTION:Kids eat FREE every Monday at Maryborough Services Club! \nEnjoy a free meal for the small ones with any adult main meal purchase during either lunch or dinner on Mondays. \nBook your table now online or call 4122 2321 & let us sort the kids. \nTerms and conditions apply. Specials not included. Children under 12 only.
URL:https://maryboroughservicesclub.com.au/event/kids-eat-free/2026-09-28/
LOCATION:The Services Club Maryborough\, 163-175 Lennox Street\, Maryborough\, QLD\, 4650\, Australia
CATEGORIES:All,Meal Specials
ATTACH;FMTTYPE=image/jpeg:https://maryboroughservicesclub.com.au/wp-content/uploads/2025/07/kids-eat-free-feat-image-custom.jpeg
END:VEVENT
BEGIN:VEVENT
DTSTART;TZID=Australia/Brisbane:20261005T113000
DTEND;TZID=Australia/Brisbane:20261005T200000
DTSTAMP:20260420T194003
CREATED:20250710T001935Z
LAST-MODIFIED:20250710T001935Z
UID:10007458-1791199800-1791230400@maryboroughservicesclub.com.au
SUMMARY:Kids Eat Free
DESCRIPTION:Kids eat FREE every Monday at Maryborough Services Club! \nEnjoy a free meal for the small ones with any adult main meal purchase during either lunch or dinner on Mondays. \nBook your table now online or call 4122 2321 & let us sort the kids. \nTerms and conditions apply. Specials not included. Children under 12 only.
URL:https://maryboroughservicesclub.com.au/event/kids-eat-free/2026-10-05/
LOCATION:The Services Club Maryborough\, 163-175 Lennox Street\, Maryborough\, QLD\, 4650\, Australia
CATEGORIES:All,Meal Specials
ATTACH;FMTTYPE=image/jpeg:https://maryboroughservicesclub.com.au/wp-content/uploads/2025/07/kids-eat-free-feat-image-custom.jpeg
END:VEVENT
BEGIN:VEVENT
DTSTART;TZID=Australia/Brisbane:20261012T113000
DTEND;TZID=Australia/Brisbane:20261012T200000
DTSTAMP:20260420T194003
CREATED:20250710T001935Z
LAST-MODIFIED:20250710T001935Z
UID:10007459-1791804600-1791835200@maryboroughservicesclub.com.au
SUMMARY:Kids Eat Free
DESCRIPTION:Kids eat FREE every Monday at Maryborough Services Club! \nEnjoy a free meal for the small ones with any adult main meal purchase during either lunch or dinner on Mondays. \nBook your table now online or call 4122 2321 & let us sort the kids. \nTerms and conditions apply. Specials not included. Children under 12 only.
URL:https://maryboroughservicesclub.com.au/event/kids-eat-free/2026-10-12/
LOCATION:The Services Club Maryborough\, 163-175 Lennox Street\, Maryborough\, QLD\, 4650\, Australia
CATEGORIES:All,Meal Specials
ATTACH;FMTTYPE=image/jpeg:https://maryboroughservicesclub.com.au/wp-content/uploads/2025/07/kids-eat-free-feat-image-custom.jpeg
END:VEVENT
BEGIN:VEVENT
DTSTART;TZID=Australia/Brisbane:20261019T113000
DTEND;TZID=Australia/Brisbane:20261019T200000
DTSTAMP:20260420T194003
CREATED:20250710T001935Z
LAST-MODIFIED:20250710T001935Z
UID:10007460-1792409400-1792440000@maryboroughservicesclub.com.au
SUMMARY:Kids Eat Free
DESCRIPTION:Kids eat FREE every Monday at Maryborough Services Club! \nEnjoy a free meal for the small ones with any adult main meal purchase during either lunch or dinner on Mondays. \nBook your table now online or call 4122 2321 & let us sort the kids. \nTerms and conditions apply. Specials not included. Children under 12 only.
URL:https://maryboroughservicesclub.com.au/event/kids-eat-free/2026-10-19/
LOCATION:The Services Club Maryborough\, 163-175 Lennox Street\, Maryborough\, QLD\, 4650\, Australia
CATEGORIES:All,Meal Specials
ATTACH;FMTTYPE=image/jpeg:https://maryboroughservicesclub.com.au/wp-content/uploads/2025/07/kids-eat-free-feat-image-custom.jpeg
END:VEVENT
BEGIN:VEVENT
DTSTART;TZID=Australia/Brisbane:20261026T113000
DTEND;TZID=Australia/Brisbane:20261026T200000
DTSTAMP:20260420T194003
CREATED:20250710T001935Z
LAST-MODIFIED:20250710T001935Z
UID:10007461-1793014200-1793044800@maryboroughservicesclub.com.au
SUMMARY:Kids Eat Free
DESCRIPTION:Kids eat FREE every Monday at Maryborough Services Club! \nEnjoy a free meal for the small ones with any adult main meal purchase during either lunch or dinner on Mondays. \nBook your table now online or call 4122 2321 & let us sort the kids. \nTerms and conditions apply. Specials not included. Children under 12 only.
URL:https://maryboroughservicesclub.com.au/event/kids-eat-free/2026-10-26/
LOCATION:The Services Club Maryborough\, 163-175 Lennox Street\, Maryborough\, QLD\, 4650\, Australia
CATEGORIES:All,Meal Specials
ATTACH;FMTTYPE=image/jpeg:https://maryboroughservicesclub.com.au/wp-content/uploads/2025/07/kids-eat-free-feat-image-custom.jpeg
END:VEVENT
BEGIN:VEVENT
DTSTART;TZID=Australia/Brisbane:20261102T113000
DTEND;TZID=Australia/Brisbane:20261102T200000
DTSTAMP:20260420T194003
CREATED:20250710T001935Z
LAST-MODIFIED:20250710T001935Z
UID:10007462-1793619000-1793649600@maryboroughservicesclub.com.au
SUMMARY:Kids Eat Free
DESCRIPTION:Kids eat FREE every Monday at Maryborough Services Club! \nEnjoy a free meal for the small ones with any adult main meal purchase during either lunch or dinner on Mondays. \nBook your table now online or call 4122 2321 & let us sort the kids. \nTerms and conditions apply. Specials not included. Children under 12 only.
URL:https://maryboroughservicesclub.com.au/event/kids-eat-free/2026-11-02/
LOCATION:The Services Club Maryborough\, 163-175 Lennox Street\, Maryborough\, QLD\, 4650\, Australia
CATEGORIES:All,Meal Specials
ATTACH;FMTTYPE=image/jpeg:https://maryboroughservicesclub.com.au/wp-content/uploads/2025/07/kids-eat-free-feat-image-custom.jpeg
END:VEVENT
BEGIN:VEVENT
DTSTART;TZID=Australia/Brisbane:20261109T113000
DTEND;TZID=Australia/Brisbane:20261109T200000
DTSTAMP:20260420T194003
CREATED:20250710T001935Z
LAST-MODIFIED:20250710T001935Z
UID:10007463-1794223800-1794254400@maryboroughservicesclub.com.au
SUMMARY:Kids Eat Free
DESCRIPTION:Kids eat FREE every Monday at Maryborough Services Club! \nEnjoy a free meal for the small ones with any adult main meal purchase during either lunch or dinner on Mondays. \nBook your table now online or call 4122 2321 & let us sort the kids. \nTerms and conditions apply. Specials not included. Children under 12 only.
URL:https://maryboroughservicesclub.com.au/event/kids-eat-free/2026-11-09/
LOCATION:The Services Club Maryborough\, 163-175 Lennox Street\, Maryborough\, QLD\, 4650\, Australia
CATEGORIES:All,Meal Specials
ATTACH;FMTTYPE=image/jpeg:https://maryboroughservicesclub.com.au/wp-content/uploads/2025/07/kids-eat-free-feat-image-custom.jpeg
END:VEVENT
END:VCALENDAR