BEGIN:VCALENDAR
VERSION:2.0
PRODID:-//Maryborough Services Club - ECPv6.15.17//NONSGML v1.0//EN
CALSCALE:GREGORIAN
METHOD:PUBLISH
X-WR-CALNAME:Maryborough Services Club
X-ORIGINAL-URL:https://maryboroughservicesclub.com.au
X-WR-CALDESC:Events for Maryborough Services Club
REFRESH-INTERVAL;VALUE=DURATION:PT1H
X-Robots-Tag:noindex
X-PUBLISHED-TTL:PT1H
BEGIN:VTIMEZONE
TZID:Australia/Brisbane
BEGIN:STANDARD
TZOFFSETFROM:+1000
TZOFFSETTO:+1000
TZNAME:AEST
DTSTART:20250101T000000
END:STANDARD
END:VTIMEZONE
BEGIN:VEVENT
DTSTART;TZID=Australia/Brisbane:20260423T170000
DTEND;TZID=Australia/Brisbane:20260423T203000
DTSTAMP:20260421T232123
CREATED:20251111T031656Z
LAST-MODIFIED:20251126T034548Z
UID:10014529-1776963600-1776976200@maryboroughservicesclub.com.au
SUMMARY:Steak Night
DESCRIPTION:Thursday Nights are Steak Night at Maryborough Services Club! \nTreat yourself with a 300g Sirloin steak cooked to your liking\, served with salad & chips or vegetables\, and your choice of sauce for just $25 for members. \nTerms and conditions. Available for dinner only.
URL:https://maryboroughservicesclub.com.au/event/steak-night-2/2026-04-23/
LOCATION:The Services Club Maryborough\, 163-175 Lennox Street\, Maryborough\, QLD\, 4650\, Australia
CATEGORIES:All,Meal Specials
ATTACH;FMTTYPE=image/jpeg:https://maryboroughservicesclub.com.au/wp-content/uploads/2025/11/STEAK-NIGHT-web-feat-img-960-x-400-px.jpg
END:VEVENT
BEGIN:VEVENT
DTSTART;TZID=Australia/Brisbane:20260430T170000
DTEND;TZID=Australia/Brisbane:20260430T203000
DTSTAMP:20260421T232123
CREATED:20251111T031656Z
LAST-MODIFIED:20251126T034548Z
UID:10014530-1777568400-1777581000@maryboroughservicesclub.com.au
SUMMARY:Steak Night
DESCRIPTION:Thursday Nights are Steak Night at Maryborough Services Club! \nTreat yourself with a 300g Sirloin steak cooked to your liking\, served with salad & chips or vegetables\, and your choice of sauce for just $25 for members. \nTerms and conditions. Available for dinner only.
URL:https://maryboroughservicesclub.com.au/event/steak-night-2/2026-04-30/
LOCATION:The Services Club Maryborough\, 163-175 Lennox Street\, Maryborough\, QLD\, 4650\, Australia
CATEGORIES:All,Meal Specials
ATTACH;FMTTYPE=image/jpeg:https://maryboroughservicesclub.com.au/wp-content/uploads/2025/11/STEAK-NIGHT-web-feat-img-960-x-400-px.jpg
END:VEVENT
BEGIN:VEVENT
DTSTART;TZID=Australia/Brisbane:20260507T170000
DTEND;TZID=Australia/Brisbane:20260507T203000
DTSTAMP:20260421T232123
CREATED:20251111T031656Z
LAST-MODIFIED:20251126T034548Z
UID:10014531-1778173200-1778185800@maryboroughservicesclub.com.au
SUMMARY:Steak Night
DESCRIPTION:Thursday Nights are Steak Night at Maryborough Services Club! \nTreat yourself with a 300g Sirloin steak cooked to your liking\, served with salad & chips or vegetables\, and your choice of sauce for just $25 for members. \nTerms and conditions. Available for dinner only.
URL:https://maryboroughservicesclub.com.au/event/steak-night-2/2026-05-07/
LOCATION:The Services Club Maryborough\, 163-175 Lennox Street\, Maryborough\, QLD\, 4650\, Australia
CATEGORIES:All,Meal Specials
ATTACH;FMTTYPE=image/jpeg:https://maryboroughservicesclub.com.au/wp-content/uploads/2025/11/STEAK-NIGHT-web-feat-img-960-x-400-px.jpg
END:VEVENT
BEGIN:VEVENT
DTSTART;TZID=Australia/Brisbane:20260514T170000
DTEND;TZID=Australia/Brisbane:20260514T203000
DTSTAMP:20260421T232123
CREATED:20251111T031656Z
LAST-MODIFIED:20251126T034548Z
UID:10014532-1778778000-1778790600@maryboroughservicesclub.com.au
SUMMARY:Steak Night
DESCRIPTION:Thursday Nights are Steak Night at Maryborough Services Club! \nTreat yourself with a 300g Sirloin steak cooked to your liking\, served with salad & chips or vegetables\, and your choice of sauce for just $25 for members. \nTerms and conditions. Available for dinner only.
URL:https://maryboroughservicesclub.com.au/event/steak-night-2/2026-05-14/
LOCATION:The Services Club Maryborough\, 163-175 Lennox Street\, Maryborough\, QLD\, 4650\, Australia
CATEGORIES:All,Meal Specials
ATTACH;FMTTYPE=image/jpeg:https://maryboroughservicesclub.com.au/wp-content/uploads/2025/11/STEAK-NIGHT-web-feat-img-960-x-400-px.jpg
END:VEVENT
BEGIN:VEVENT
DTSTART;TZID=Australia/Brisbane:20260521T170000
DTEND;TZID=Australia/Brisbane:20260521T203000
DTSTAMP:20260421T232123
CREATED:20251111T031656Z
LAST-MODIFIED:20251126T034548Z
UID:10014533-1779382800-1779395400@maryboroughservicesclub.com.au
SUMMARY:Steak Night
DESCRIPTION:Thursday Nights are Steak Night at Maryborough Services Club! \nTreat yourself with a 300g Sirloin steak cooked to your liking\, served with salad & chips or vegetables\, and your choice of sauce for just $25 for members. \nTerms and conditions. Available for dinner only.
URL:https://maryboroughservicesclub.com.au/event/steak-night-2/2026-05-21/
LOCATION:The Services Club Maryborough\, 163-175 Lennox Street\, Maryborough\, QLD\, 4650\, Australia
CATEGORIES:All,Meal Specials
ATTACH;FMTTYPE=image/jpeg:https://maryboroughservicesclub.com.au/wp-content/uploads/2025/11/STEAK-NIGHT-web-feat-img-960-x-400-px.jpg
END:VEVENT
BEGIN:VEVENT
DTSTART;TZID=Australia/Brisbane:20260528T170000
DTEND;TZID=Australia/Brisbane:20260528T203000
DTSTAMP:20260421T232123
CREATED:20251111T031656Z
LAST-MODIFIED:20251126T034548Z
UID:10014534-1779987600-1780000200@maryboroughservicesclub.com.au
SUMMARY:Steak Night
DESCRIPTION:Thursday Nights are Steak Night at Maryborough Services Club! \nTreat yourself with a 300g Sirloin steak cooked to your liking\, served with salad & chips or vegetables\, and your choice of sauce for just $25 for members. \nTerms and conditions. Available for dinner only.
URL:https://maryboroughservicesclub.com.au/event/steak-night-2/2026-05-28/
LOCATION:The Services Club Maryborough\, 163-175 Lennox Street\, Maryborough\, QLD\, 4650\, Australia
CATEGORIES:All,Meal Specials
ATTACH;FMTTYPE=image/jpeg:https://maryboroughservicesclub.com.au/wp-content/uploads/2025/11/STEAK-NIGHT-web-feat-img-960-x-400-px.jpg
END:VEVENT
BEGIN:VEVENT
DTSTART;TZID=Australia/Brisbane:20260604T170000
DTEND;TZID=Australia/Brisbane:20260604T203000
DTSTAMP:20260421T232123
CREATED:20251111T031656Z
LAST-MODIFIED:20251126T034548Z
UID:10014535-1780592400-1780605000@maryboroughservicesclub.com.au
SUMMARY:Steak Night
DESCRIPTION:Thursday Nights are Steak Night at Maryborough Services Club! \nTreat yourself with a 300g Sirloin steak cooked to your liking\, served with salad & chips or vegetables\, and your choice of sauce for just $25 for members. \nTerms and conditions. Available for dinner only.
URL:https://maryboroughservicesclub.com.au/event/steak-night-2/2026-06-04/
LOCATION:The Services Club Maryborough\, 163-175 Lennox Street\, Maryborough\, QLD\, 4650\, Australia
CATEGORIES:All,Meal Specials
ATTACH;FMTTYPE=image/jpeg:https://maryboroughservicesclub.com.au/wp-content/uploads/2025/11/STEAK-NIGHT-web-feat-img-960-x-400-px.jpg
END:VEVENT
BEGIN:VEVENT
DTSTART;TZID=Australia/Brisbane:20260611T170000
DTEND;TZID=Australia/Brisbane:20260611T203000
DTSTAMP:20260421T232123
CREATED:20251111T031656Z
LAST-MODIFIED:20251126T034548Z
UID:10014536-1781197200-1781209800@maryboroughservicesclub.com.au
SUMMARY:Steak Night
DESCRIPTION:Thursday Nights are Steak Night at Maryborough Services Club! \nTreat yourself with a 300g Sirloin steak cooked to your liking\, served with salad & chips or vegetables\, and your choice of sauce for just $25 for members. \nTerms and conditions. Available for dinner only.
URL:https://maryboroughservicesclub.com.au/event/steak-night-2/2026-06-11/
LOCATION:The Services Club Maryborough\, 163-175 Lennox Street\, Maryborough\, QLD\, 4650\, Australia
CATEGORIES:All,Meal Specials
ATTACH;FMTTYPE=image/jpeg:https://maryboroughservicesclub.com.au/wp-content/uploads/2025/11/STEAK-NIGHT-web-feat-img-960-x-400-px.jpg
END:VEVENT
BEGIN:VEVENT
DTSTART;TZID=Australia/Brisbane:20260618T170000
DTEND;TZID=Australia/Brisbane:20260618T203000
DTSTAMP:20260421T232123
CREATED:20251111T031656Z
LAST-MODIFIED:20251126T034548Z
UID:10014537-1781802000-1781814600@maryboroughservicesclub.com.au
SUMMARY:Steak Night
DESCRIPTION:Thursday Nights are Steak Night at Maryborough Services Club! \nTreat yourself with a 300g Sirloin steak cooked to your liking\, served with salad & chips or vegetables\, and your choice of sauce for just $25 for members. \nTerms and conditions. Available for dinner only.
URL:https://maryboroughservicesclub.com.au/event/steak-night-2/2026-06-18/
LOCATION:The Services Club Maryborough\, 163-175 Lennox Street\, Maryborough\, QLD\, 4650\, Australia
CATEGORIES:All,Meal Specials
ATTACH;FMTTYPE=image/jpeg:https://maryboroughservicesclub.com.au/wp-content/uploads/2025/11/STEAK-NIGHT-web-feat-img-960-x-400-px.jpg
END:VEVENT
BEGIN:VEVENT
DTSTART;TZID=Australia/Brisbane:20260625T170000
DTEND;TZID=Australia/Brisbane:20260625T203000
DTSTAMP:20260421T232123
CREATED:20251111T031656Z
LAST-MODIFIED:20251126T034548Z
UID:10014538-1782406800-1782419400@maryboroughservicesclub.com.au
SUMMARY:Steak Night
DESCRIPTION:Thursday Nights are Steak Night at Maryborough Services Club! \nTreat yourself with a 300g Sirloin steak cooked to your liking\, served with salad & chips or vegetables\, and your choice of sauce for just $25 for members. \nTerms and conditions. Available for dinner only.
URL:https://maryboroughservicesclub.com.au/event/steak-night-2/2026-06-25/
LOCATION:The Services Club Maryborough\, 163-175 Lennox Street\, Maryborough\, QLD\, 4650\, Australia
CATEGORIES:All,Meal Specials
ATTACH;FMTTYPE=image/jpeg:https://maryboroughservicesclub.com.au/wp-content/uploads/2025/11/STEAK-NIGHT-web-feat-img-960-x-400-px.jpg
END:VEVENT
BEGIN:VEVENT
DTSTART;TZID=Australia/Brisbane:20260702T170000
DTEND;TZID=Australia/Brisbane:20260702T203000
DTSTAMP:20260421T232123
CREATED:20251111T031656Z
LAST-MODIFIED:20251126T034548Z
UID:10014539-1783011600-1783024200@maryboroughservicesclub.com.au
SUMMARY:Steak Night
DESCRIPTION:Thursday Nights are Steak Night at Maryborough Services Club! \nTreat yourself with a 300g Sirloin steak cooked to your liking\, served with salad & chips or vegetables\, and your choice of sauce for just $25 for members. \nTerms and conditions. Available for dinner only.
URL:https://maryboroughservicesclub.com.au/event/steak-night-2/2026-07-02/
LOCATION:The Services Club Maryborough\, 163-175 Lennox Street\, Maryborough\, QLD\, 4650\, Australia
CATEGORIES:All,Meal Specials
ATTACH;FMTTYPE=image/jpeg:https://maryboroughservicesclub.com.au/wp-content/uploads/2025/11/STEAK-NIGHT-web-feat-img-960-x-400-px.jpg
END:VEVENT
BEGIN:VEVENT
DTSTART;TZID=Australia/Brisbane:20260709T170000
DTEND;TZID=Australia/Brisbane:20260709T203000
DTSTAMP:20260421T232123
CREATED:20251111T031656Z
LAST-MODIFIED:20251126T034548Z
UID:10014540-1783616400-1783629000@maryboroughservicesclub.com.au
SUMMARY:Steak Night
DESCRIPTION:Thursday Nights are Steak Night at Maryborough Services Club! \nTreat yourself with a 300g Sirloin steak cooked to your liking\, served with salad & chips or vegetables\, and your choice of sauce for just $25 for members. \nTerms and conditions. Available for dinner only.
URL:https://maryboroughservicesclub.com.au/event/steak-night-2/2026-07-09/
LOCATION:The Services Club Maryborough\, 163-175 Lennox Street\, Maryborough\, QLD\, 4650\, Australia
CATEGORIES:All,Meal Specials
ATTACH;FMTTYPE=image/jpeg:https://maryboroughservicesclub.com.au/wp-content/uploads/2025/11/STEAK-NIGHT-web-feat-img-960-x-400-px.jpg
END:VEVENT
BEGIN:VEVENT
DTSTART;TZID=Australia/Brisbane:20260716T170000
DTEND;TZID=Australia/Brisbane:20260716T203000
DTSTAMP:20260421T232123
CREATED:20251111T031656Z
LAST-MODIFIED:20251126T034548Z
UID:10014541-1784221200-1784233800@maryboroughservicesclub.com.au
SUMMARY:Steak Night
DESCRIPTION:Thursday Nights are Steak Night at Maryborough Services Club! \nTreat yourself with a 300g Sirloin steak cooked to your liking\, served with salad & chips or vegetables\, and your choice of sauce for just $25 for members. \nTerms and conditions. Available for dinner only.
URL:https://maryboroughservicesclub.com.au/event/steak-night-2/2026-07-16/
LOCATION:The Services Club Maryborough\, 163-175 Lennox Street\, Maryborough\, QLD\, 4650\, Australia
CATEGORIES:All,Meal Specials
ATTACH;FMTTYPE=image/jpeg:https://maryboroughservicesclub.com.au/wp-content/uploads/2025/11/STEAK-NIGHT-web-feat-img-960-x-400-px.jpg
END:VEVENT
BEGIN:VEVENT
DTSTART;TZID=Australia/Brisbane:20260723T170000
DTEND;TZID=Australia/Brisbane:20260723T203000
DTSTAMP:20260421T232123
CREATED:20251111T031656Z
LAST-MODIFIED:20251126T034548Z
UID:10014542-1784826000-1784838600@maryboroughservicesclub.com.au
SUMMARY:Steak Night
DESCRIPTION:Thursday Nights are Steak Night at Maryborough Services Club! \nTreat yourself with a 300g Sirloin steak cooked to your liking\, served with salad & chips or vegetables\, and your choice of sauce for just $25 for members. \nTerms and conditions. Available for dinner only.
URL:https://maryboroughservicesclub.com.au/event/steak-night-2/2026-07-23/
LOCATION:The Services Club Maryborough\, 163-175 Lennox Street\, Maryborough\, QLD\, 4650\, Australia
CATEGORIES:All,Meal Specials
ATTACH;FMTTYPE=image/jpeg:https://maryboroughservicesclub.com.au/wp-content/uploads/2025/11/STEAK-NIGHT-web-feat-img-960-x-400-px.jpg
END:VEVENT
BEGIN:VEVENT
DTSTART;TZID=Australia/Brisbane:20260730T170000
DTEND;TZID=Australia/Brisbane:20260730T203000
DTSTAMP:20260421T232123
CREATED:20251111T031656Z
LAST-MODIFIED:20251126T034548Z
UID:10014543-1785430800-1785443400@maryboroughservicesclub.com.au
SUMMARY:Steak Night
DESCRIPTION:Thursday Nights are Steak Night at Maryborough Services Club! \nTreat yourself with a 300g Sirloin steak cooked to your liking\, served with salad & chips or vegetables\, and your choice of sauce for just $25 for members. \nTerms and conditions. Available for dinner only.
URL:https://maryboroughservicesclub.com.au/event/steak-night-2/2026-07-30/
LOCATION:The Services Club Maryborough\, 163-175 Lennox Street\, Maryborough\, QLD\, 4650\, Australia
CATEGORIES:All,Meal Specials
ATTACH;FMTTYPE=image/jpeg:https://maryboroughservicesclub.com.au/wp-content/uploads/2025/11/STEAK-NIGHT-web-feat-img-960-x-400-px.jpg
END:VEVENT
BEGIN:VEVENT
DTSTART;TZID=Australia/Brisbane:20260806T170000
DTEND;TZID=Australia/Brisbane:20260806T203000
DTSTAMP:20260421T232123
CREATED:20251111T031656Z
LAST-MODIFIED:20251126T034548Z
UID:10014544-1786035600-1786048200@maryboroughservicesclub.com.au
SUMMARY:Steak Night
DESCRIPTION:Thursday Nights are Steak Night at Maryborough Services Club! \nTreat yourself with a 300g Sirloin steak cooked to your liking\, served with salad & chips or vegetables\, and your choice of sauce for just $25 for members. \nTerms and conditions. Available for dinner only.
URL:https://maryboroughservicesclub.com.au/event/steak-night-2/2026-08-06/
LOCATION:The Services Club Maryborough\, 163-175 Lennox Street\, Maryborough\, QLD\, 4650\, Australia
CATEGORIES:All,Meal Specials
ATTACH;FMTTYPE=image/jpeg:https://maryboroughservicesclub.com.au/wp-content/uploads/2025/11/STEAK-NIGHT-web-feat-img-960-x-400-px.jpg
END:VEVENT
BEGIN:VEVENT
DTSTART;TZID=Australia/Brisbane:20260813T170000
DTEND;TZID=Australia/Brisbane:20260813T203000
DTSTAMP:20260421T232123
CREATED:20251111T031656Z
LAST-MODIFIED:20251126T034548Z
UID:10014545-1786640400-1786653000@maryboroughservicesclub.com.au
SUMMARY:Steak Night
DESCRIPTION:Thursday Nights are Steak Night at Maryborough Services Club! \nTreat yourself with a 300g Sirloin steak cooked to your liking\, served with salad & chips or vegetables\, and your choice of sauce for just $25 for members. \nTerms and conditions. Available for dinner only.
URL:https://maryboroughservicesclub.com.au/event/steak-night-2/2026-08-13/
LOCATION:The Services Club Maryborough\, 163-175 Lennox Street\, Maryborough\, QLD\, 4650\, Australia
CATEGORIES:All,Meal Specials
ATTACH;FMTTYPE=image/jpeg:https://maryboroughservicesclub.com.au/wp-content/uploads/2025/11/STEAK-NIGHT-web-feat-img-960-x-400-px.jpg
END:VEVENT
BEGIN:VEVENT
DTSTART;TZID=Australia/Brisbane:20260820T170000
DTEND;TZID=Australia/Brisbane:20260820T203000
DTSTAMP:20260421T232123
CREATED:20251111T031656Z
LAST-MODIFIED:20251126T034548Z
UID:10014546-1787245200-1787257800@maryboroughservicesclub.com.au
SUMMARY:Steak Night
DESCRIPTION:Thursday Nights are Steak Night at Maryborough Services Club! \nTreat yourself with a 300g Sirloin steak cooked to your liking\, served with salad & chips or vegetables\, and your choice of sauce for just $25 for members. \nTerms and conditions. Available for dinner only.
URL:https://maryboroughservicesclub.com.au/event/steak-night-2/2026-08-20/
LOCATION:The Services Club Maryborough\, 163-175 Lennox Street\, Maryborough\, QLD\, 4650\, Australia
CATEGORIES:All,Meal Specials
ATTACH;FMTTYPE=image/jpeg:https://maryboroughservicesclub.com.au/wp-content/uploads/2025/11/STEAK-NIGHT-web-feat-img-960-x-400-px.jpg
END:VEVENT
BEGIN:VEVENT
DTSTART;TZID=Australia/Brisbane:20260827T170000
DTEND;TZID=Australia/Brisbane:20260827T203000
DTSTAMP:20260421T232123
CREATED:20251111T031656Z
LAST-MODIFIED:20251126T034548Z
UID:10014547-1787850000-1787862600@maryboroughservicesclub.com.au
SUMMARY:Steak Night
DESCRIPTION:Thursday Nights are Steak Night at Maryborough Services Club! \nTreat yourself with a 300g Sirloin steak cooked to your liking\, served with salad & chips or vegetables\, and your choice of sauce for just $25 for members. \nTerms and conditions. Available for dinner only.
URL:https://maryboroughservicesclub.com.au/event/steak-night-2/2026-08-27/
LOCATION:The Services Club Maryborough\, 163-175 Lennox Street\, Maryborough\, QLD\, 4650\, Australia
CATEGORIES:All,Meal Specials
ATTACH;FMTTYPE=image/jpeg:https://maryboroughservicesclub.com.au/wp-content/uploads/2025/11/STEAK-NIGHT-web-feat-img-960-x-400-px.jpg
END:VEVENT
BEGIN:VEVENT
DTSTART;TZID=Australia/Brisbane:20260903T170000
DTEND;TZID=Australia/Brisbane:20260903T203000
DTSTAMP:20260421T232123
CREATED:20251111T031656Z
LAST-MODIFIED:20251126T034548Z
UID:10014548-1788454800-1788467400@maryboroughservicesclub.com.au
SUMMARY:Steak Night
DESCRIPTION:Thursday Nights are Steak Night at Maryborough Services Club! \nTreat yourself with a 300g Sirloin steak cooked to your liking\, served with salad & chips or vegetables\, and your choice of sauce for just $25 for members. \nTerms and conditions. Available for dinner only.
URL:https://maryboroughservicesclub.com.au/event/steak-night-2/2026-09-03/
LOCATION:The Services Club Maryborough\, 163-175 Lennox Street\, Maryborough\, QLD\, 4650\, Australia
CATEGORIES:All,Meal Specials
ATTACH;FMTTYPE=image/jpeg:https://maryboroughservicesclub.com.au/wp-content/uploads/2025/11/STEAK-NIGHT-web-feat-img-960-x-400-px.jpg
END:VEVENT
BEGIN:VEVENT
DTSTART;TZID=Australia/Brisbane:20260910T170000
DTEND;TZID=Australia/Brisbane:20260910T203000
DTSTAMP:20260421T232123
CREATED:20251111T031656Z
LAST-MODIFIED:20251126T034548Z
UID:10014549-1789059600-1789072200@maryboroughservicesclub.com.au
SUMMARY:Steak Night
DESCRIPTION:Thursday Nights are Steak Night at Maryborough Services Club! \nTreat yourself with a 300g Sirloin steak cooked to your liking\, served with salad & chips or vegetables\, and your choice of sauce for just $25 for members. \nTerms and conditions. Available for dinner only.
URL:https://maryboroughservicesclub.com.au/event/steak-night-2/2026-09-10/
LOCATION:The Services Club Maryborough\, 163-175 Lennox Street\, Maryborough\, QLD\, 4650\, Australia
CATEGORIES:All,Meal Specials
ATTACH;FMTTYPE=image/jpeg:https://maryboroughservicesclub.com.au/wp-content/uploads/2025/11/STEAK-NIGHT-web-feat-img-960-x-400-px.jpg
END:VEVENT
BEGIN:VEVENT
DTSTART;TZID=Australia/Brisbane:20260917T170000
DTEND;TZID=Australia/Brisbane:20260917T203000
DTSTAMP:20260421T232123
CREATED:20251111T031656Z
LAST-MODIFIED:20251126T034548Z
UID:10014550-1789664400-1789677000@maryboroughservicesclub.com.au
SUMMARY:Steak Night
DESCRIPTION:Thursday Nights are Steak Night at Maryborough Services Club! \nTreat yourself with a 300g Sirloin steak cooked to your liking\, served with salad & chips or vegetables\, and your choice of sauce for just $25 for members. \nTerms and conditions. Available for dinner only.
URL:https://maryboroughservicesclub.com.au/event/steak-night-2/2026-09-17/
LOCATION:The Services Club Maryborough\, 163-175 Lennox Street\, Maryborough\, QLD\, 4650\, Australia
CATEGORIES:All,Meal Specials
ATTACH;FMTTYPE=image/jpeg:https://maryboroughservicesclub.com.au/wp-content/uploads/2025/11/STEAK-NIGHT-web-feat-img-960-x-400-px.jpg
END:VEVENT
BEGIN:VEVENT
DTSTART;TZID=Australia/Brisbane:20260924T170000
DTEND;TZID=Australia/Brisbane:20260924T203000
DTSTAMP:20260421T232123
CREATED:20251111T031656Z
LAST-MODIFIED:20251126T034548Z
UID:10014551-1790269200-1790281800@maryboroughservicesclub.com.au
SUMMARY:Steak Night
DESCRIPTION:Thursday Nights are Steak Night at Maryborough Services Club! \nTreat yourself with a 300g Sirloin steak cooked to your liking\, served with salad & chips or vegetables\, and your choice of sauce for just $25 for members. \nTerms and conditions. Available for dinner only.
URL:https://maryboroughservicesclub.com.au/event/steak-night-2/2026-09-24/
LOCATION:The Services Club Maryborough\, 163-175 Lennox Street\, Maryborough\, QLD\, 4650\, Australia
CATEGORIES:All,Meal Specials
ATTACH;FMTTYPE=image/jpeg:https://maryboroughservicesclub.com.au/wp-content/uploads/2025/11/STEAK-NIGHT-web-feat-img-960-x-400-px.jpg
END:VEVENT
BEGIN:VEVENT
DTSTART;TZID=Australia/Brisbane:20261001T170000
DTEND;TZID=Australia/Brisbane:20261001T203000
DTSTAMP:20260421T232123
CREATED:20251111T031656Z
LAST-MODIFIED:20251126T034548Z
UID:10014552-1790874000-1790886600@maryboroughservicesclub.com.au
SUMMARY:Steak Night
DESCRIPTION:Thursday Nights are Steak Night at Maryborough Services Club! \nTreat yourself with a 300g Sirloin steak cooked to your liking\, served with salad & chips or vegetables\, and your choice of sauce for just $25 for members. \nTerms and conditions. Available for dinner only.
URL:https://maryboroughservicesclub.com.au/event/steak-night-2/2026-10-01/
LOCATION:The Services Club Maryborough\, 163-175 Lennox Street\, Maryborough\, QLD\, 4650\, Australia
CATEGORIES:All,Meal Specials
ATTACH;FMTTYPE=image/jpeg:https://maryboroughservicesclub.com.au/wp-content/uploads/2025/11/STEAK-NIGHT-web-feat-img-960-x-400-px.jpg
END:VEVENT
BEGIN:VEVENT
DTSTART;TZID=Australia/Brisbane:20261008T170000
DTEND;TZID=Australia/Brisbane:20261008T203000
DTSTAMP:20260421T232123
CREATED:20251111T031656Z
LAST-MODIFIED:20251126T034548Z
UID:10014553-1791478800-1791491400@maryboroughservicesclub.com.au
SUMMARY:Steak Night
DESCRIPTION:Thursday Nights are Steak Night at Maryborough Services Club! \nTreat yourself with a 300g Sirloin steak cooked to your liking\, served with salad & chips or vegetables\, and your choice of sauce for just $25 for members. \nTerms and conditions. Available for dinner only.
URL:https://maryboroughservicesclub.com.au/event/steak-night-2/2026-10-08/
LOCATION:The Services Club Maryborough\, 163-175 Lennox Street\, Maryborough\, QLD\, 4650\, Australia
CATEGORIES:All,Meal Specials
ATTACH;FMTTYPE=image/jpeg:https://maryboroughservicesclub.com.au/wp-content/uploads/2025/11/STEAK-NIGHT-web-feat-img-960-x-400-px.jpg
END:VEVENT
BEGIN:VEVENT
DTSTART;TZID=Australia/Brisbane:20261015T170000
DTEND;TZID=Australia/Brisbane:20261015T203000
DTSTAMP:20260421T232123
CREATED:20251111T031656Z
LAST-MODIFIED:20251126T034548Z
UID:10014554-1792083600-1792096200@maryboroughservicesclub.com.au
SUMMARY:Steak Night
DESCRIPTION:Thursday Nights are Steak Night at Maryborough Services Club! \nTreat yourself with a 300g Sirloin steak cooked to your liking\, served with salad & chips or vegetables\, and your choice of sauce for just $25 for members. \nTerms and conditions. Available for dinner only.
URL:https://maryboroughservicesclub.com.au/event/steak-night-2/2026-10-15/
LOCATION:The Services Club Maryborough\, 163-175 Lennox Street\, Maryborough\, QLD\, 4650\, Australia
CATEGORIES:All,Meal Specials
ATTACH;FMTTYPE=image/jpeg:https://maryboroughservicesclub.com.au/wp-content/uploads/2025/11/STEAK-NIGHT-web-feat-img-960-x-400-px.jpg
END:VEVENT
BEGIN:VEVENT
DTSTART;TZID=Australia/Brisbane:20261022T170000
DTEND;TZID=Australia/Brisbane:20261022T203000
DTSTAMP:20260421T232123
CREATED:20251111T031656Z
LAST-MODIFIED:20251126T034548Z
UID:10014555-1792688400-1792701000@maryboroughservicesclub.com.au
SUMMARY:Steak Night
DESCRIPTION:Thursday Nights are Steak Night at Maryborough Services Club! \nTreat yourself with a 300g Sirloin steak cooked to your liking\, served with salad & chips or vegetables\, and your choice of sauce for just $25 for members. \nTerms and conditions. Available for dinner only.
URL:https://maryboroughservicesclub.com.au/event/steak-night-2/2026-10-22/
LOCATION:The Services Club Maryborough\, 163-175 Lennox Street\, Maryborough\, QLD\, 4650\, Australia
CATEGORIES:All,Meal Specials
ATTACH;FMTTYPE=image/jpeg:https://maryboroughservicesclub.com.au/wp-content/uploads/2025/11/STEAK-NIGHT-web-feat-img-960-x-400-px.jpg
END:VEVENT
BEGIN:VEVENT
DTSTART;TZID=Australia/Brisbane:20261029T170000
DTEND;TZID=Australia/Brisbane:20261029T203000
DTSTAMP:20260421T232123
CREATED:20251111T031656Z
LAST-MODIFIED:20251126T034548Z
UID:10014556-1793293200-1793305800@maryboroughservicesclub.com.au
SUMMARY:Steak Night
DESCRIPTION:Thursday Nights are Steak Night at Maryborough Services Club! \nTreat yourself with a 300g Sirloin steak cooked to your liking\, served with salad & chips or vegetables\, and your choice of sauce for just $25 for members. \nTerms and conditions. Available for dinner only.
URL:https://maryboroughservicesclub.com.au/event/steak-night-2/2026-10-29/
LOCATION:The Services Club Maryborough\, 163-175 Lennox Street\, Maryborough\, QLD\, 4650\, Australia
CATEGORIES:All,Meal Specials
ATTACH;FMTTYPE=image/jpeg:https://maryboroughservicesclub.com.au/wp-content/uploads/2025/11/STEAK-NIGHT-web-feat-img-960-x-400-px.jpg
END:VEVENT
BEGIN:VEVENT
DTSTART;TZID=Australia/Brisbane:20261105T170000
DTEND;TZID=Australia/Brisbane:20261105T203000
DTSTAMP:20260421T232123
CREATED:20251111T031656Z
LAST-MODIFIED:20251126T034548Z
UID:10014557-1793898000-1793910600@maryboroughservicesclub.com.au
SUMMARY:Steak Night
DESCRIPTION:Thursday Nights are Steak Night at Maryborough Services Club! \nTreat yourself with a 300g Sirloin steak cooked to your liking\, served with salad & chips or vegetables\, and your choice of sauce for just $25 for members. \nTerms and conditions. Available for dinner only.
URL:https://maryboroughservicesclub.com.au/event/steak-night-2/2026-11-05/
LOCATION:The Services Club Maryborough\, 163-175 Lennox Street\, Maryborough\, QLD\, 4650\, Australia
CATEGORIES:All,Meal Specials
ATTACH;FMTTYPE=image/jpeg:https://maryboroughservicesclub.com.au/wp-content/uploads/2025/11/STEAK-NIGHT-web-feat-img-960-x-400-px.jpg
END:VEVENT
BEGIN:VEVENT
DTSTART;TZID=Australia/Brisbane:20261112T170000
DTEND;TZID=Australia/Brisbane:20261112T203000
DTSTAMP:20260421T232123
CREATED:20251111T031656Z
LAST-MODIFIED:20251126T034548Z
UID:10014558-1794502800-1794515400@maryboroughservicesclub.com.au
SUMMARY:Steak Night
DESCRIPTION:Thursday Nights are Steak Night at Maryborough Services Club! \nTreat yourself with a 300g Sirloin steak cooked to your liking\, served with salad & chips or vegetables\, and your choice of sauce for just $25 for members. \nTerms and conditions. Available for dinner only.
URL:https://maryboroughservicesclub.com.au/event/steak-night-2/2026-11-12/
LOCATION:The Services Club Maryborough\, 163-175 Lennox Street\, Maryborough\, QLD\, 4650\, Australia
CATEGORIES:All,Meal Specials
ATTACH;FMTTYPE=image/jpeg:https://maryboroughservicesclub.com.au/wp-content/uploads/2025/11/STEAK-NIGHT-web-feat-img-960-x-400-px.jpg
END:VEVENT
END:VCALENDAR