BEGIN:VCALENDAR
VERSION:2.0
PRODID:-//Maryborough Services Club - ECPv6.15.17//NONSGML v1.0//EN
CALSCALE:GREGORIAN
METHOD:PUBLISH
X-WR-CALNAME:Maryborough Services Club
X-ORIGINAL-URL:https://maryboroughservicesclub.com.au
X-WR-CALDESC:Events for Maryborough Services Club
REFRESH-INTERVAL;VALUE=DURATION:PT1H
X-Robots-Tag:noindex
X-PUBLISHED-TTL:PT1H
BEGIN:VTIMEZONE
TZID:Australia/Brisbane
BEGIN:STANDARD
TZOFFSETFROM:+1000
TZOFFSETTO:+1000
TZNAME:AEST
DTSTART:20250101T000000
END:STANDARD
END:VTIMEZONE
BEGIN:VEVENT
DTSTART;TZID=Australia/Brisbane:20260419T140000
DTEND;TZID=Australia/Brisbane:20260606T170000
DTSTAMP:20260421T223531
CREATED:20260414T052901Z
LAST-MODIFIED:20260414T052901Z
UID:10017130-1776607200-1780765200@maryboroughservicesclub.com.au
SUMMARY:Cash ClueDough
DESCRIPTION:Draws every Sunday from 2pm \n6 x members will play to win up to $1\,000 each \nEnter from 13th April with every $20 gaming play\, $5 spend on food or beverage or swipe at the kiosk. \nTerms and Conditions Apply \nGamble Responsibly
URL:https://maryboroughservicesclub.com.au/event/cash-cluedough/2026-04-19/
LOCATION:The Services Club Maryborough\, 163-175 Lennox Street\, Maryborough\, QLD\, 4650\, Australia
CATEGORIES:Major Promotions,Promotions,Weekly Promotions
ATTACH;FMTTYPE=image/jpeg:https://maryboroughservicesclub.com.au/wp-content/uploads/2026/04/CashClueDough_Website-Feature-Image.jpg
END:VEVENT
BEGIN:VEVENT
DTSTART;TZID=Australia/Brisbane:20260426T140000
DTEND;TZID=Australia/Brisbane:20260613T170000
DTSTAMP:20260421T223531
CREATED:20260414T052901Z
LAST-MODIFIED:20260414T052901Z
UID:10017131-1777212000-1781370000@maryboroughservicesclub.com.au
SUMMARY:Cash ClueDough
DESCRIPTION:Draws every Sunday from 2pm \n6 x members will play to win up to $1\,000 each \nEnter from 13th April with every $20 gaming play\, $5 spend on food or beverage or swipe at the kiosk. \nTerms and Conditions Apply \nGamble Responsibly
URL:https://maryboroughservicesclub.com.au/event/cash-cluedough/2026-04-26/
LOCATION:The Services Club Maryborough\, 163-175 Lennox Street\, Maryborough\, QLD\, 4650\, Australia
CATEGORIES:Major Promotions,Promotions,Weekly Promotions
ATTACH;FMTTYPE=image/jpeg:https://maryboroughservicesclub.com.au/wp-content/uploads/2026/04/CashClueDough_Website-Feature-Image.jpg
END:VEVENT
BEGIN:VEVENT
DTSTART;TZID=Australia/Brisbane:20260503T140000
DTEND;TZID=Australia/Brisbane:20260620T170000
DTSTAMP:20260421T223531
CREATED:20260414T052901Z
LAST-MODIFIED:20260414T052901Z
UID:10017132-1777816800-1781974800@maryboroughservicesclub.com.au
SUMMARY:Cash ClueDough
DESCRIPTION:Draws every Sunday from 2pm \n6 x members will play to win up to $1\,000 each \nEnter from 13th April with every $20 gaming play\, $5 spend on food or beverage or swipe at the kiosk. \nTerms and Conditions Apply \nGamble Responsibly
URL:https://maryboroughservicesclub.com.au/event/cash-cluedough/2026-05-03/
LOCATION:The Services Club Maryborough\, 163-175 Lennox Street\, Maryborough\, QLD\, 4650\, Australia
CATEGORIES:Major Promotions,Promotions,Weekly Promotions
ATTACH;FMTTYPE=image/jpeg:https://maryboroughservicesclub.com.au/wp-content/uploads/2026/04/CashClueDough_Website-Feature-Image.jpg
END:VEVENT
BEGIN:VEVENT
DTSTART;TZID=Australia/Brisbane:20260510T140000
DTEND;TZID=Australia/Brisbane:20260627T170000
DTSTAMP:20260421T223531
CREATED:20260414T052901Z
LAST-MODIFIED:20260414T052901Z
UID:10017133-1778421600-1782579600@maryboroughservicesclub.com.au
SUMMARY:Cash ClueDough
DESCRIPTION:Draws every Sunday from 2pm \n6 x members will play to win up to $1\,000 each \nEnter from 13th April with every $20 gaming play\, $5 spend on food or beverage or swipe at the kiosk. \nTerms and Conditions Apply \nGamble Responsibly
URL:https://maryboroughservicesclub.com.au/event/cash-cluedough/2026-05-10/
LOCATION:The Services Club Maryborough\, 163-175 Lennox Street\, Maryborough\, QLD\, 4650\, Australia
CATEGORIES:Major Promotions,Promotions,Weekly Promotions
ATTACH;FMTTYPE=image/jpeg:https://maryboroughservicesclub.com.au/wp-content/uploads/2026/04/CashClueDough_Website-Feature-Image.jpg
END:VEVENT
BEGIN:VEVENT
DTSTART;TZID=Australia/Brisbane:20260517T140000
DTEND;TZID=Australia/Brisbane:20260704T170000
DTSTAMP:20260421T223531
CREATED:20260414T052901Z
LAST-MODIFIED:20260414T052901Z
UID:10017134-1779026400-1783184400@maryboroughservicesclub.com.au
SUMMARY:Cash ClueDough
DESCRIPTION:Draws every Sunday from 2pm \n6 x members will play to win up to $1\,000 each \nEnter from 13th April with every $20 gaming play\, $5 spend on food or beverage or swipe at the kiosk. \nTerms and Conditions Apply \nGamble Responsibly
URL:https://maryboroughservicesclub.com.au/event/cash-cluedough/2026-05-17/
LOCATION:The Services Club Maryborough\, 163-175 Lennox Street\, Maryborough\, QLD\, 4650\, Australia
CATEGORIES:Major Promotions,Promotions,Weekly Promotions
ATTACH;FMTTYPE=image/jpeg:https://maryboroughservicesclub.com.au/wp-content/uploads/2026/04/CashClueDough_Website-Feature-Image.jpg
END:VEVENT
BEGIN:VEVENT
DTSTART;TZID=Australia/Brisbane:20260524T140000
DTEND;TZID=Australia/Brisbane:20260711T170000
DTSTAMP:20260421T223531
CREATED:20260414T052901Z
LAST-MODIFIED:20260414T052901Z
UID:10017135-1779631200-1783789200@maryboroughservicesclub.com.au
SUMMARY:Cash ClueDough
DESCRIPTION:Draws every Sunday from 2pm \n6 x members will play to win up to $1\,000 each \nEnter from 13th April with every $20 gaming play\, $5 spend on food or beverage or swipe at the kiosk. \nTerms and Conditions Apply \nGamble Responsibly
URL:https://maryboroughservicesclub.com.au/event/cash-cluedough/2026-05-24/
LOCATION:The Services Club Maryborough\, 163-175 Lennox Street\, Maryborough\, QLD\, 4650\, Australia
CATEGORIES:Major Promotions,Promotions,Weekly Promotions
ATTACH;FMTTYPE=image/jpeg:https://maryboroughservicesclub.com.au/wp-content/uploads/2026/04/CashClueDough_Website-Feature-Image.jpg
END:VEVENT
BEGIN:VEVENT
DTSTART;TZID=Australia/Brisbane:20260531T140000
DTEND;TZID=Australia/Brisbane:20260718T170000
DTSTAMP:20260421T223531
CREATED:20260414T052901Z
LAST-MODIFIED:20260414T052901Z
UID:10017136-1780236000-1784394000@maryboroughservicesclub.com.au
SUMMARY:Cash ClueDough
DESCRIPTION:Draws every Sunday from 2pm \n6 x members will play to win up to $1\,000 each \nEnter from 13th April with every $20 gaming play\, $5 spend on food or beverage or swipe at the kiosk. \nTerms and Conditions Apply \nGamble Responsibly
URL:https://maryboroughservicesclub.com.au/event/cash-cluedough/2026-05-31/
LOCATION:The Services Club Maryborough\, 163-175 Lennox Street\, Maryborough\, QLD\, 4650\, Australia
CATEGORIES:Major Promotions,Promotions,Weekly Promotions
ATTACH;FMTTYPE=image/jpeg:https://maryboroughservicesclub.com.au/wp-content/uploads/2026/04/CashClueDough_Website-Feature-Image.jpg
END:VEVENT
BEGIN:VEVENT
DTSTART;TZID=Australia/Brisbane:20260607T140000
DTEND;TZID=Australia/Brisbane:20260725T170000
DTSTAMP:20260421T223531
CREATED:20260414T052901Z
LAST-MODIFIED:20260414T052901Z
UID:10017137-1780840800-1784998800@maryboroughservicesclub.com.au
SUMMARY:Cash ClueDough
DESCRIPTION:Draws every Sunday from 2pm \n6 x members will play to win up to $1\,000 each \nEnter from 13th April with every $20 gaming play\, $5 spend on food or beverage or swipe at the kiosk. \nTerms and Conditions Apply \nGamble Responsibly
URL:https://maryboroughservicesclub.com.au/event/cash-cluedough/2026-06-07/
LOCATION:The Services Club Maryborough\, 163-175 Lennox Street\, Maryborough\, QLD\, 4650\, Australia
CATEGORIES:Major Promotions,Promotions,Weekly Promotions
ATTACH;FMTTYPE=image/jpeg:https://maryboroughservicesclub.com.au/wp-content/uploads/2026/04/CashClueDough_Website-Feature-Image.jpg
END:VEVENT
BEGIN:VEVENT
DTSTART;TZID=Australia/Brisbane:20260614T140000
DTEND;TZID=Australia/Brisbane:20260801T170000
DTSTAMP:20260421T223531
CREATED:20260414T052901Z
LAST-MODIFIED:20260414T052901Z
UID:10017138-1781445600-1785603600@maryboroughservicesclub.com.au
SUMMARY:Cash ClueDough
DESCRIPTION:Draws every Sunday from 2pm \n6 x members will play to win up to $1\,000 each \nEnter from 13th April with every $20 gaming play\, $5 spend on food or beverage or swipe at the kiosk. \nTerms and Conditions Apply \nGamble Responsibly
URL:https://maryboroughservicesclub.com.au/event/cash-cluedough/2026-06-14/
LOCATION:The Services Club Maryborough\, 163-175 Lennox Street\, Maryborough\, QLD\, 4650\, Australia
CATEGORIES:Major Promotions,Promotions,Weekly Promotions
ATTACH;FMTTYPE=image/jpeg:https://maryboroughservicesclub.com.au/wp-content/uploads/2026/04/CashClueDough_Website-Feature-Image.jpg
END:VEVENT
BEGIN:VEVENT
DTSTART;TZID=Australia/Brisbane:20260621T140000
DTEND;TZID=Australia/Brisbane:20260808T170000
DTSTAMP:20260421T223531
CREATED:20260414T052901Z
LAST-MODIFIED:20260414T052901Z
UID:10017139-1782050400-1786208400@maryboroughservicesclub.com.au
SUMMARY:Cash ClueDough
DESCRIPTION:Draws every Sunday from 2pm \n6 x members will play to win up to $1\,000 each \nEnter from 13th April with every $20 gaming play\, $5 spend on food or beverage or swipe at the kiosk. \nTerms and Conditions Apply \nGamble Responsibly
URL:https://maryboroughservicesclub.com.au/event/cash-cluedough/2026-06-21/
LOCATION:The Services Club Maryborough\, 163-175 Lennox Street\, Maryborough\, QLD\, 4650\, Australia
CATEGORIES:Major Promotions,Promotions,Weekly Promotions
ATTACH;FMTTYPE=image/jpeg:https://maryboroughservicesclub.com.au/wp-content/uploads/2026/04/CashClueDough_Website-Feature-Image.jpg
END:VEVENT
BEGIN:VEVENT
DTSTART;TZID=Australia/Brisbane:20260628T140000
DTEND;TZID=Australia/Brisbane:20260815T170000
DTSTAMP:20260421T223531
CREATED:20260414T052901Z
LAST-MODIFIED:20260414T052901Z
UID:10017140-1782655200-1786813200@maryboroughservicesclub.com.au
SUMMARY:Cash ClueDough
DESCRIPTION:Draws every Sunday from 2pm \n6 x members will play to win up to $1\,000 each \nEnter from 13th April with every $20 gaming play\, $5 spend on food or beverage or swipe at the kiosk. \nTerms and Conditions Apply \nGamble Responsibly
URL:https://maryboroughservicesclub.com.au/event/cash-cluedough/2026-06-28/
LOCATION:The Services Club Maryborough\, 163-175 Lennox Street\, Maryborough\, QLD\, 4650\, Australia
CATEGORIES:Major Promotions,Promotions,Weekly Promotions
ATTACH;FMTTYPE=image/jpeg:https://maryboroughservicesclub.com.au/wp-content/uploads/2026/04/CashClueDough_Website-Feature-Image.jpg
END:VEVENT
BEGIN:VEVENT
DTSTART;TZID=Australia/Brisbane:20260705T140000
DTEND;TZID=Australia/Brisbane:20260822T170000
DTSTAMP:20260421T223531
CREATED:20260414T052901Z
LAST-MODIFIED:20260414T052901Z
UID:10017141-1783260000-1787418000@maryboroughservicesclub.com.au
SUMMARY:Cash ClueDough
DESCRIPTION:Draws every Sunday from 2pm \n6 x members will play to win up to $1\,000 each \nEnter from 13th April with every $20 gaming play\, $5 spend on food or beverage or swipe at the kiosk. \nTerms and Conditions Apply \nGamble Responsibly
URL:https://maryboroughservicesclub.com.au/event/cash-cluedough/2026-07-05/
LOCATION:The Services Club Maryborough\, 163-175 Lennox Street\, Maryborough\, QLD\, 4650\, Australia
CATEGORIES:Major Promotions,Promotions,Weekly Promotions
ATTACH;FMTTYPE=image/jpeg:https://maryboroughservicesclub.com.au/wp-content/uploads/2026/04/CashClueDough_Website-Feature-Image.jpg
END:VEVENT
BEGIN:VEVENT
DTSTART;TZID=Australia/Brisbane:20260712T140000
DTEND;TZID=Australia/Brisbane:20260829T170000
DTSTAMP:20260421T223531
CREATED:20260414T052901Z
LAST-MODIFIED:20260414T052901Z
UID:10017142-1783864800-1788022800@maryboroughservicesclub.com.au
SUMMARY:Cash ClueDough
DESCRIPTION:Draws every Sunday from 2pm \n6 x members will play to win up to $1\,000 each \nEnter from 13th April with every $20 gaming play\, $5 spend on food or beverage or swipe at the kiosk. \nTerms and Conditions Apply \nGamble Responsibly
URL:https://maryboroughservicesclub.com.au/event/cash-cluedough/2026-07-12/
LOCATION:The Services Club Maryborough\, 163-175 Lennox Street\, Maryborough\, QLD\, 4650\, Australia
CATEGORIES:Major Promotions,Promotions,Weekly Promotions
ATTACH;FMTTYPE=image/jpeg:https://maryboroughservicesclub.com.au/wp-content/uploads/2026/04/CashClueDough_Website-Feature-Image.jpg
END:VEVENT
BEGIN:VEVENT
DTSTART;TZID=Australia/Brisbane:20260719T140000
DTEND;TZID=Australia/Brisbane:20260905T170000
DTSTAMP:20260421T223531
CREATED:20260414T052901Z
LAST-MODIFIED:20260414T052901Z
UID:10017143-1784469600-1788627600@maryboroughservicesclub.com.au
SUMMARY:Cash ClueDough
DESCRIPTION:Draws every Sunday from 2pm \n6 x members will play to win up to $1\,000 each \nEnter from 13th April with every $20 gaming play\, $5 spend on food or beverage or swipe at the kiosk. \nTerms and Conditions Apply \nGamble Responsibly
URL:https://maryboroughservicesclub.com.au/event/cash-cluedough/2026-07-19/
LOCATION:The Services Club Maryborough\, 163-175 Lennox Street\, Maryborough\, QLD\, 4650\, Australia
CATEGORIES:Major Promotions,Promotions,Weekly Promotions
ATTACH;FMTTYPE=image/jpeg:https://maryboroughservicesclub.com.au/wp-content/uploads/2026/04/CashClueDough_Website-Feature-Image.jpg
END:VEVENT
BEGIN:VEVENT
DTSTART;TZID=Australia/Brisbane:20260726T140000
DTEND;TZID=Australia/Brisbane:20260912T170000
DTSTAMP:20260421T223531
CREATED:20260414T052901Z
LAST-MODIFIED:20260414T052901Z
UID:10017144-1785074400-1789232400@maryboroughservicesclub.com.au
SUMMARY:Cash ClueDough
DESCRIPTION:Draws every Sunday from 2pm \n6 x members will play to win up to $1\,000 each \nEnter from 13th April with every $20 gaming play\, $5 spend on food or beverage or swipe at the kiosk. \nTerms and Conditions Apply \nGamble Responsibly
URL:https://maryboroughservicesclub.com.au/event/cash-cluedough/2026-07-26/
LOCATION:The Services Club Maryborough\, 163-175 Lennox Street\, Maryborough\, QLD\, 4650\, Australia
CATEGORIES:Major Promotions,Promotions,Weekly Promotions
ATTACH;FMTTYPE=image/jpeg:https://maryboroughservicesclub.com.au/wp-content/uploads/2026/04/CashClueDough_Website-Feature-Image.jpg
END:VEVENT
BEGIN:VEVENT
DTSTART;TZID=Australia/Brisbane:20260802T140000
DTEND;TZID=Australia/Brisbane:20260919T170000
DTSTAMP:20260421T223531
CREATED:20260414T052901Z
LAST-MODIFIED:20260414T052901Z
UID:10017145-1785679200-1789837200@maryboroughservicesclub.com.au
SUMMARY:Cash ClueDough
DESCRIPTION:Draws every Sunday from 2pm \n6 x members will play to win up to $1\,000 each \nEnter from 13th April with every $20 gaming play\, $5 spend on food or beverage or swipe at the kiosk. \nTerms and Conditions Apply \nGamble Responsibly
URL:https://maryboroughservicesclub.com.au/event/cash-cluedough/2026-08-02/
LOCATION:The Services Club Maryborough\, 163-175 Lennox Street\, Maryborough\, QLD\, 4650\, Australia
CATEGORIES:Major Promotions,Promotions,Weekly Promotions
ATTACH;FMTTYPE=image/jpeg:https://maryboroughservicesclub.com.au/wp-content/uploads/2026/04/CashClueDough_Website-Feature-Image.jpg
END:VEVENT
BEGIN:VEVENT
DTSTART;TZID=Australia/Brisbane:20260809T140000
DTEND;TZID=Australia/Brisbane:20260926T170000
DTSTAMP:20260421T223531
CREATED:20260414T052901Z
LAST-MODIFIED:20260414T052901Z
UID:10017146-1786284000-1790442000@maryboroughservicesclub.com.au
SUMMARY:Cash ClueDough
DESCRIPTION:Draws every Sunday from 2pm \n6 x members will play to win up to $1\,000 each \nEnter from 13th April with every $20 gaming play\, $5 spend on food or beverage or swipe at the kiosk. \nTerms and Conditions Apply \nGamble Responsibly
URL:https://maryboroughservicesclub.com.au/event/cash-cluedough/2026-08-09/
LOCATION:The Services Club Maryborough\, 163-175 Lennox Street\, Maryborough\, QLD\, 4650\, Australia
CATEGORIES:Major Promotions,Promotions,Weekly Promotions
ATTACH;FMTTYPE=image/jpeg:https://maryboroughservicesclub.com.au/wp-content/uploads/2026/04/CashClueDough_Website-Feature-Image.jpg
END:VEVENT
BEGIN:VEVENT
DTSTART;TZID=Australia/Brisbane:20260816T140000
DTEND;TZID=Australia/Brisbane:20261003T170000
DTSTAMP:20260421T223531
CREATED:20260414T052901Z
LAST-MODIFIED:20260414T052901Z
UID:10017147-1786888800-1791046800@maryboroughservicesclub.com.au
SUMMARY:Cash ClueDough
DESCRIPTION:Draws every Sunday from 2pm \n6 x members will play to win up to $1\,000 each \nEnter from 13th April with every $20 gaming play\, $5 spend on food or beverage or swipe at the kiosk. \nTerms and Conditions Apply \nGamble Responsibly
URL:https://maryboroughservicesclub.com.au/event/cash-cluedough/2026-08-16/
LOCATION:The Services Club Maryborough\, 163-175 Lennox Street\, Maryborough\, QLD\, 4650\, Australia
CATEGORIES:Major Promotions,Promotions,Weekly Promotions
ATTACH;FMTTYPE=image/jpeg:https://maryboroughservicesclub.com.au/wp-content/uploads/2026/04/CashClueDough_Website-Feature-Image.jpg
END:VEVENT
BEGIN:VEVENT
DTSTART;TZID=Australia/Brisbane:20260823T140000
DTEND;TZID=Australia/Brisbane:20261010T170000
DTSTAMP:20260421T223531
CREATED:20260414T052901Z
LAST-MODIFIED:20260414T052901Z
UID:10017148-1787493600-1791651600@maryboroughservicesclub.com.au
SUMMARY:Cash ClueDough
DESCRIPTION:Draws every Sunday from 2pm \n6 x members will play to win up to $1\,000 each \nEnter from 13th April with every $20 gaming play\, $5 spend on food or beverage or swipe at the kiosk. \nTerms and Conditions Apply \nGamble Responsibly
URL:https://maryboroughservicesclub.com.au/event/cash-cluedough/2026-08-23/
LOCATION:The Services Club Maryborough\, 163-175 Lennox Street\, Maryborough\, QLD\, 4650\, Australia
CATEGORIES:Major Promotions,Promotions,Weekly Promotions
ATTACH;FMTTYPE=image/jpeg:https://maryboroughservicesclub.com.au/wp-content/uploads/2026/04/CashClueDough_Website-Feature-Image.jpg
END:VEVENT
BEGIN:VEVENT
DTSTART;TZID=Australia/Brisbane:20260830T140000
DTEND;TZID=Australia/Brisbane:20261017T170000
DTSTAMP:20260421T223531
CREATED:20260414T052901Z
LAST-MODIFIED:20260414T052901Z
UID:10017149-1788098400-1792256400@maryboroughservicesclub.com.au
SUMMARY:Cash ClueDough
DESCRIPTION:Draws every Sunday from 2pm \n6 x members will play to win up to $1\,000 each \nEnter from 13th April with every $20 gaming play\, $5 spend on food or beverage or swipe at the kiosk. \nTerms and Conditions Apply \nGamble Responsibly
URL:https://maryboroughservicesclub.com.au/event/cash-cluedough/2026-08-30/
LOCATION:The Services Club Maryborough\, 163-175 Lennox Street\, Maryborough\, QLD\, 4650\, Australia
CATEGORIES:Major Promotions,Promotions,Weekly Promotions
ATTACH;FMTTYPE=image/jpeg:https://maryboroughservicesclub.com.au/wp-content/uploads/2026/04/CashClueDough_Website-Feature-Image.jpg
END:VEVENT
BEGIN:VEVENT
DTSTART;TZID=Australia/Brisbane:20260906T140000
DTEND;TZID=Australia/Brisbane:20261024T170000
DTSTAMP:20260421T223531
CREATED:20260414T052901Z
LAST-MODIFIED:20260414T052901Z
UID:10017150-1788703200-1792861200@maryboroughservicesclub.com.au
SUMMARY:Cash ClueDough
DESCRIPTION:Draws every Sunday from 2pm \n6 x members will play to win up to $1\,000 each \nEnter from 13th April with every $20 gaming play\, $5 spend on food or beverage or swipe at the kiosk. \nTerms and Conditions Apply \nGamble Responsibly
URL:https://maryboroughservicesclub.com.au/event/cash-cluedough/2026-09-06/
LOCATION:The Services Club Maryborough\, 163-175 Lennox Street\, Maryborough\, QLD\, 4650\, Australia
CATEGORIES:Major Promotions,Promotions,Weekly Promotions
ATTACH;FMTTYPE=image/jpeg:https://maryboroughservicesclub.com.au/wp-content/uploads/2026/04/CashClueDough_Website-Feature-Image.jpg
END:VEVENT
BEGIN:VEVENT
DTSTART;TZID=Australia/Brisbane:20260913T140000
DTEND;TZID=Australia/Brisbane:20261031T170000
DTSTAMP:20260421T223531
CREATED:20260414T052901Z
LAST-MODIFIED:20260414T052901Z
UID:10017151-1789308000-1793466000@maryboroughservicesclub.com.au
SUMMARY:Cash ClueDough
DESCRIPTION:Draws every Sunday from 2pm \n6 x members will play to win up to $1\,000 each \nEnter from 13th April with every $20 gaming play\, $5 spend on food or beverage or swipe at the kiosk. \nTerms and Conditions Apply \nGamble Responsibly
URL:https://maryboroughservicesclub.com.au/event/cash-cluedough/2026-09-13/
LOCATION:The Services Club Maryborough\, 163-175 Lennox Street\, Maryborough\, QLD\, 4650\, Australia
CATEGORIES:Major Promotions,Promotions,Weekly Promotions
ATTACH;FMTTYPE=image/jpeg:https://maryboroughservicesclub.com.au/wp-content/uploads/2026/04/CashClueDough_Website-Feature-Image.jpg
END:VEVENT
BEGIN:VEVENT
DTSTART;TZID=Australia/Brisbane:20260920T140000
DTEND;TZID=Australia/Brisbane:20261107T170000
DTSTAMP:20260421T223531
CREATED:20260414T052901Z
LAST-MODIFIED:20260414T052901Z
UID:10017152-1789912800-1794070800@maryboroughservicesclub.com.au
SUMMARY:Cash ClueDough
DESCRIPTION:Draws every Sunday from 2pm \n6 x members will play to win up to $1\,000 each \nEnter from 13th April with every $20 gaming play\, $5 spend on food or beverage or swipe at the kiosk. \nTerms and Conditions Apply \nGamble Responsibly
URL:https://maryboroughservicesclub.com.au/event/cash-cluedough/2026-09-20/
LOCATION:The Services Club Maryborough\, 163-175 Lennox Street\, Maryborough\, QLD\, 4650\, Australia
CATEGORIES:Major Promotions,Promotions,Weekly Promotions
ATTACH;FMTTYPE=image/jpeg:https://maryboroughservicesclub.com.au/wp-content/uploads/2026/04/CashClueDough_Website-Feature-Image.jpg
END:VEVENT
BEGIN:VEVENT
DTSTART;TZID=Australia/Brisbane:20260927T140000
DTEND;TZID=Australia/Brisbane:20261114T170000
DTSTAMP:20260421T223531
CREATED:20260414T052901Z
LAST-MODIFIED:20260414T052901Z
UID:10017153-1790517600-1794675600@maryboroughservicesclub.com.au
SUMMARY:Cash ClueDough
DESCRIPTION:Draws every Sunday from 2pm \n6 x members will play to win up to $1\,000 each \nEnter from 13th April with every $20 gaming play\, $5 spend on food or beverage or swipe at the kiosk. \nTerms and Conditions Apply \nGamble Responsibly
URL:https://maryboroughservicesclub.com.au/event/cash-cluedough/2026-09-27/
LOCATION:The Services Club Maryborough\, 163-175 Lennox Street\, Maryborough\, QLD\, 4650\, Australia
CATEGORIES:Major Promotions,Promotions,Weekly Promotions
ATTACH;FMTTYPE=image/jpeg:https://maryboroughservicesclub.com.au/wp-content/uploads/2026/04/CashClueDough_Website-Feature-Image.jpg
END:VEVENT
BEGIN:VEVENT
DTSTART;TZID=Australia/Brisbane:20261004T140000
DTEND;TZID=Australia/Brisbane:20261121T170000
DTSTAMP:20260421T223531
CREATED:20260414T052901Z
LAST-MODIFIED:20260414T052901Z
UID:10017154-1791122400-1795280400@maryboroughservicesclub.com.au
SUMMARY:Cash ClueDough
DESCRIPTION:Draws every Sunday from 2pm \n6 x members will play to win up to $1\,000 each \nEnter from 13th April with every $20 gaming play\, $5 spend on food or beverage or swipe at the kiosk. \nTerms and Conditions Apply \nGamble Responsibly
URL:https://maryboroughservicesclub.com.au/event/cash-cluedough/2026-10-04/
LOCATION:The Services Club Maryborough\, 163-175 Lennox Street\, Maryborough\, QLD\, 4650\, Australia
CATEGORIES:Major Promotions,Promotions,Weekly Promotions
ATTACH;FMTTYPE=image/jpeg:https://maryboroughservicesclub.com.au/wp-content/uploads/2026/04/CashClueDough_Website-Feature-Image.jpg
END:VEVENT
BEGIN:VEVENT
DTSTART;TZID=Australia/Brisbane:20261011T140000
DTEND;TZID=Australia/Brisbane:20261128T170000
DTSTAMP:20260421T223531
CREATED:20260414T052901Z
LAST-MODIFIED:20260414T052901Z
UID:10017155-1791727200-1795885200@maryboroughservicesclub.com.au
SUMMARY:Cash ClueDough
DESCRIPTION:Draws every Sunday from 2pm \n6 x members will play to win up to $1\,000 each \nEnter from 13th April with every $20 gaming play\, $5 spend on food or beverage or swipe at the kiosk. \nTerms and Conditions Apply \nGamble Responsibly
URL:https://maryboroughservicesclub.com.au/event/cash-cluedough/2026-10-11/
LOCATION:The Services Club Maryborough\, 163-175 Lennox Street\, Maryborough\, QLD\, 4650\, Australia
CATEGORIES:Major Promotions,Promotions,Weekly Promotions
ATTACH;FMTTYPE=image/jpeg:https://maryboroughservicesclub.com.au/wp-content/uploads/2026/04/CashClueDough_Website-Feature-Image.jpg
END:VEVENT
BEGIN:VEVENT
DTSTART;TZID=Australia/Brisbane:20261018T140000
DTEND;TZID=Australia/Brisbane:20261205T170000
DTSTAMP:20260421T223531
CREATED:20260414T052901Z
LAST-MODIFIED:20260414T052901Z
UID:10017156-1792332000-1796490000@maryboroughservicesclub.com.au
SUMMARY:Cash ClueDough
DESCRIPTION:Draws every Sunday from 2pm \n6 x members will play to win up to $1\,000 each \nEnter from 13th April with every $20 gaming play\, $5 spend on food or beverage or swipe at the kiosk. \nTerms and Conditions Apply \nGamble Responsibly
URL:https://maryboroughservicesclub.com.au/event/cash-cluedough/2026-10-18/
LOCATION:The Services Club Maryborough\, 163-175 Lennox Street\, Maryborough\, QLD\, 4650\, Australia
CATEGORIES:Major Promotions,Promotions,Weekly Promotions
ATTACH;FMTTYPE=image/jpeg:https://maryboroughservicesclub.com.au/wp-content/uploads/2026/04/CashClueDough_Website-Feature-Image.jpg
END:VEVENT
BEGIN:VEVENT
DTSTART;TZID=Australia/Brisbane:20261025T140000
DTEND;TZID=Australia/Brisbane:20261212T170000
DTSTAMP:20260421T223531
CREATED:20260414T052901Z
LAST-MODIFIED:20260414T052901Z
UID:10017157-1792936800-1797094800@maryboroughservicesclub.com.au
SUMMARY:Cash ClueDough
DESCRIPTION:Draws every Sunday from 2pm \n6 x members will play to win up to $1\,000 each \nEnter from 13th April with every $20 gaming play\, $5 spend on food or beverage or swipe at the kiosk. \nTerms and Conditions Apply \nGamble Responsibly
URL:https://maryboroughservicesclub.com.au/event/cash-cluedough/2026-10-25/
LOCATION:The Services Club Maryborough\, 163-175 Lennox Street\, Maryborough\, QLD\, 4650\, Australia
CATEGORIES:Major Promotions,Promotions,Weekly Promotions
ATTACH;FMTTYPE=image/jpeg:https://maryboroughservicesclub.com.au/wp-content/uploads/2026/04/CashClueDough_Website-Feature-Image.jpg
END:VEVENT
BEGIN:VEVENT
DTSTART;TZID=Australia/Brisbane:20261101T140000
DTEND;TZID=Australia/Brisbane:20261219T170000
DTSTAMP:20260421T223531
CREATED:20260414T052901Z
LAST-MODIFIED:20260414T052901Z
UID:10017158-1793541600-1797699600@maryboroughservicesclub.com.au
SUMMARY:Cash ClueDough
DESCRIPTION:Draws every Sunday from 2pm \n6 x members will play to win up to $1\,000 each \nEnter from 13th April with every $20 gaming play\, $5 spend on food or beverage or swipe at the kiosk. \nTerms and Conditions Apply \nGamble Responsibly
URL:https://maryboroughservicesclub.com.au/event/cash-cluedough/2026-11-01/
LOCATION:The Services Club Maryborough\, 163-175 Lennox Street\, Maryborough\, QLD\, 4650\, Australia
CATEGORIES:Major Promotions,Promotions,Weekly Promotions
ATTACH;FMTTYPE=image/jpeg:https://maryboroughservicesclub.com.au/wp-content/uploads/2026/04/CashClueDough_Website-Feature-Image.jpg
END:VEVENT
BEGIN:VEVENT
DTSTART;TZID=Australia/Brisbane:20261108T140000
DTEND;TZID=Australia/Brisbane:20261226T170000
DTSTAMP:20260421T223531
CREATED:20260414T052901Z
LAST-MODIFIED:20260414T052901Z
UID:10017159-1794146400-1798304400@maryboroughservicesclub.com.au
SUMMARY:Cash ClueDough
DESCRIPTION:Draws every Sunday from 2pm \n6 x members will play to win up to $1\,000 each \nEnter from 13th April with every $20 gaming play\, $5 spend on food or beverage or swipe at the kiosk. \nTerms and Conditions Apply \nGamble Responsibly
URL:https://maryboroughservicesclub.com.au/event/cash-cluedough/2026-11-08/
LOCATION:The Services Club Maryborough\, 163-175 Lennox Street\, Maryborough\, QLD\, 4650\, Australia
CATEGORIES:Major Promotions,Promotions,Weekly Promotions
ATTACH;FMTTYPE=image/jpeg:https://maryboroughservicesclub.com.au/wp-content/uploads/2026/04/CashClueDough_Website-Feature-Image.jpg
END:VEVENT
END:VCALENDAR